BEGIN:VCALENDAR
VERSION:2.0
CALSCALE:GREGORIAN
PRODID:adamgibbons/ics
METHOD:PUBLISH
X-PUBLISHED-TTL:PT1H
BEGIN:VEVENT
UID:551@keepkarlsruheboring.org
SUMMARY:Uraufführungskonzerte der Giga-Hertz-Produktionspreisträger:innen v
	on 2023 und 2022 [7 | 10€ ]
DTSTAMP:20260423T143353Z
DTSTART:20251120T180000Z
DESCRIPTION:19:00 Uhr\, Kubus\n\n\nURAUFFÜHRUNGSKONZERTE DER GIGA-HERTZ-PRO
	DUKTIONSPREISTRÄGER:INNEN VON 2023 UND\n2022: LEA BERTUCCI [https://zkm.de
	/de/person/lea-bertucci]\, JESSICA EKOMANE\n[https://zkm.de/de/person/jess
	ica-ekomane] UND PETER GAHN\n[https://zkm.de/de/person/peter-gahn]\n\n\n\n
	Der Auftakt des Festivals steht im Zeichen der Produktionspreisträger:inne
	n des\nletzten Giga-Hertz-Festivals 2023 sowie des Giga-Hertz-Festivals 20
	22.\n\nDie amerikanische Komponistin und Performerin Lea Bertucci (*1984) 
	erhielt 2023\nden Giga-Hertz-Produktionspreis für ihr Werk „The Days Pass 
	Quickly Immersed in\nthe Shadow of Eternity“.\n\nDie französische Klangkün
	stlerin Jessica Ekomane (*1989) wurde für ihr Werk\n„Manifolds“ ausgezeich
	net – ein vielschichtiges Spiel mit komplexen\npsychoakustischen Räumen\, 
	das den Reiz früher analoger Synthesizer in einen\nzeitgenössischen Kontex
	t überführt.\n\nPeter Gahn (*1970) erhielt den Giga-Hertz-Produktionspreis
	 2022 für sein Werk\n„De-escalating Skies I+III” für Alt-Saxophon und Live
	-Elektronik. Ausgangspunkt\nist der Klang unterirdischer Pipelinesysteme\,
	 deren zivil und militärisch\ngenutzte Strukturen Gahn in den „Rohrklang“ 
	des Saxophons übersetzt.\n\nTickets ab 10€ / 7€ ermäßigt (zzgl. Gebühr)\n[
	https://zkm-karlsruhe.reservix.de/tickets-giga-hertz-preis-2025-preistraeg
	erinnen-der-gigahertz-produktionspreise-2023-in-karlsruhe-zkm-kubus-am-20-
	11-2025/e2451042]\n\n\n\n© ZKM | Zentrum für Kunst und Medien Karlsruhe\, 
	Foto: Micha Reinke
URL:https://keepkarlsruheboring.org/event/urauffuhrungskonzerte-der-giga-he
	rtz-produktionspreistragerinnen-von-2023-und-2022
GEO:49.0013;8.3836
LOCATION:ZKM | Zentrum für Kunst und Medien Karlsruhe - Lorenzstr. 19\, D-7
	6135 Karlsruhe
STATUS:CONFIRMED
CATEGORIES:Electronicmusic,Festival,Music,Ticket
X-ALT-DESC;FMTTYPE=text/html:<p>19:00 Uhr, Kubus</p><h3><strong>Uraufführun
	gskonzerte der Giga-Hertz-Produktionspreisträger:innen von 2023 und 2022: 
	</strong><a href="https://zkm.de/de/person/lea-bertucci" target="_blank"><
	strong>Lea Bertucci</strong></a><strong>, </strong><a href="https://zkm.de
	/de/person/jessica-ekomane" target="_blank"><strong>Jessica Ekomane</stron
	g></a><strong> und </strong><a href="https://zkm.de/de/person/peter-gahn" 
	target="_blank"><strong>Peter Gahn</strong></a></h3><p></p><p>Der Auftakt 
	des Festivals steht im Zeichen der Produktionspreisträger:innen des letzte
	n Giga-Hertz-Festivals 2023 sowie des Giga-Hertz-Festivals 2022.</p><p>Die
	 amerikanische Komponistin und Performerin Lea Bertucci (*1984) erhielt 20
	23 den Giga-Hertz-Produktionspreis für ihr Werk „The Days Pass Quickly Imm
	ersed in the Shadow of Eternity“. </p><p>Die französische Klangkünstlerin 
	Jessica Ekomane (*1989) wurde für ihr Werk „Manifolds“ ausgezeichnet – ein
	 vielschichtiges Spiel mit komplexen psychoakustischen Räumen, das den Rei
	z früher analoger Synthesizer in einen zeitgenössischen Kontext überführt.
	 </p><p>Peter Gahn (*1970) erhielt den Giga-Hertz-Produktionspreis 2022 fü
	r sein Werk „De-escalating Skies I+III” für Alt-Saxophon und Live-Elektron
	ik. Ausgangspunkt ist der Klang unterirdischer Pipelinesysteme, deren zivi
	l und militärisch genutzte Strukturen Gahn in den „Rohrklang“ des Saxophon
	s übersetzt. </p><p><a href="https://zkm-karlsruhe.reservix.de/tickets-gig
	a-hertz-preis-2025-preistraegerinnen-der-gigahertz-produktionspreise-2023-
	in-karlsruhe-zkm-kubus-am-20-11-2025/e2451042" target="_blank"><strong>Tic
	kets ab 10€ / 7€ ermäßigt (zzgl. Gebühr)</strong></a></p><p></p><p>© ZKM |
	 Zentrum für Kunst und Medien Karlsruhe, Foto: Micha Reinke</p>
BEGIN:VALARM
ACTION:DISPLAY
DESCRIPTION:Uraufführungskonzerte der Giga-Hertz-Produktionspreisträger:inn
	en von 2023 und 2022 [7 | 10€ ]
TRIGGER:-PT1H
END:VALARM
END:VEVENT
END:VCALENDAR
