BEGIN:VCALENDAR
VERSION:2.0
CALSCALE:GREGORIAN
PRODID:adamgibbons/ics
METHOD:PUBLISH
X-PUBLISHED-TTL:PT1H
BEGIN:VEVENT
UID:741@keepkarlsruheboring.org
SUMMARY:„Vaterlandsverrat oder Friedenstat? Deserteure - Die Geschichte von
	 Gewissen\, Widerstand und Flucht “ Lesung mit dem Autor Rolf Cantzen
DTSTAMP:20260423T105008Z
DTSTART:20260202T180000Z
DTEND:20260202T180000Z
DESCRIPTION:Montag 2. Februar 19:00 Uhr „Vaterlandsverrat oder Friedenstat?
	 Deserteure - Die\nGeschichte von Gewissen\, Widerstand und Flucht “ Lesun
	g mit dem Autor Rolf\nCantzen Kinemathek Karlsruhe (Kaiserpassage 6) Eintr
	itt frei Auf Einladung der\nGruppe Karlsruhe der Deutschen Friedensgesells
	chaft – Vereinigte\nKriegsdienstgegner*innen DFG-VK stellt der Autor Rolf 
	Cantzen am 2. Februar um\n19:00 Uhr in der Kinemathek Karlsruhe sein Buch 
	„Deserteure – Die Geschichte von\nGewissen\, Widerstand und Flucht“ vor. D
	eserteure wollen nicht töten\, sie wollen\nnicht sterben: Sie verweigern s
	ich dem Krieg. Rolf Cantzen zeigt\, wie der Wille\nzum Überleben und die K
	raft des Gewissens zu extremen Entscheidungen führen\nkönnen und wie milit
	ärische Repressionsapparate das zu verhindern suchen. Die\nKonsequenzen\, 
	die Deserteure für ihre Entscheidung zu erwarten haben\, sind in\nder Rege
	l drastisch: Gesellschaftliche Ächtung\, aber auch Haftstrafen und\nTodesu
	rteile drohen. Nach dem Zweiten Weltkrieg blieben Deserteure hierzulande\n
	noch lange stigmatisiert\, ihre Richter und Ankläger konnten hingegen ihre
	\nKarrieren in Justiz und Politik fortsetzen. Erst im Jahr 2009 wurden die
	 Urteile\naus der NS-Zeit gegen die Desertierten vollständig aufgehoben. R
	olf Cantzen\nwidmet sich in seinem Buch den Entscheidungen\, die hinter ei
	ner Desertion\nstehen\, sowie den Reaktionen der Obrigkeit: Dabei spannt e
	r einen weiten\nhistorischen Bogen vom römischen Reich über die NS-Zeit bi
	s zum Ukraine-Krieg.\nRolf Cantzen „Deserteure – Die Geschichte von Gewiss
	en\, Widerstand und Flucht.“\nist 2025 im zu Klampen Verlag erschienen. Es
	 kostet 24 €. Die Lese-Tour wird\norganisiert von Connection-eV\, dem inte
	rnationalen Netzwerk für\nKriegsdienstverweigerer und Deserteure: https://
	de.connection-ev.org/ Weitere\nInfos: https://karlsruhe.dfg-vk.de/
URL:https://keepkarlsruheboring.org/event/vaterlandsverrat-oder-friedenstat
	-deserteure-die-geschichte-von-gewissen-widerstand-und-flucht-lesung-mit-d
	em-autor-rolf-cantzen
GEO:49.0105;8.39692
LOCATION:Kinemathek - 6\, Kaiserpassage\, Innenstadt-West Östlicher Teil\, 
	Innenstadt-West\, Karlsruhe\, Baden-Württemberg\, 76133\, Deutschland
STATUS:CONFIRMED
CATEGORIES:karlsrunruhe,test
X-ALT-DESC;FMTTYPE=text/html:Montag 2. Februar 19:00 Uhr <br><br>„Vaterland
	sverrat oder Friedenstat?<br>Deserteure - Die Geschichte von Gewissen, Wid
	erstand und Flucht “<br>Lesung mit dem Autor Rolf Cantzen<br><br>Kinemathe
	k Karlsruhe (Kaiserpassage 6) Eintritt frei<br><br>Auf Einladung der Grupp
	e Karlsruhe der Deutschen Friedensgesellschaft – Vereinigte Kriegsdienstge
	gner*innen DFG-VK stellt der Autor Rolf Cantzen am 2. Februar um 19:00 Uhr
	 in der Kinemathek Karlsruhe sein Buch „Deserteure – Die Geschichte von Ge
	wissen, Widerstand und Flucht“ vor.<br> <br>Deserteure wollen nicht töten,
	 sie wollen nicht sterben: Sie verweigern sich dem Krieg. <br>Rolf Cantzen
	 zeigt, wie der Wille zum Überleben und die Kraft des Gewissens zu extreme
	n <br>Entscheidungen führen können und wie militärische Repressionsapparat
	e das zu verhindern suchen. <br><br>Die Konsequenzen, die Deserteure für i
	hre Entscheidung zu erwarten haben, sind in der Regel drastisch: Gesellsch
	aftliche Ächtung, aber auch Haftstrafen und Todesurteile drohen. Nach dem 
	Zweiten Weltkrieg blieben Deserteure hierzulande noch lange stigmatisiert,
	 ihre Richter und Ankläger konnten hingegen ihre Karrieren in Justiz und P
	olitik fortsetzen. Erst im Jahr 2009 wurden die Urteile aus der NS-Zeit ge
	gen die Desertierten vollständig aufgehoben. <br><br>Rolf Cantzen widmet s
	ich in seinem Buch den Entscheidungen, die hinter einer Desertion stehen, 
	sowie den Reaktionen der Obrigkeit: Dabei spannt er einen weiten historisc
	hen Bogen vom römischen Reich über die NS-Zeit bis zum Ukraine-Krieg. <br>
	<br>Rolf Cantzen „Deserteure – Die Geschichte von Gewissen, Widerstand und
	 Flucht.“ ist 2025 im zu Klampen Verlag erschienen. Es kostet 24 €. <br><b
	r>Die Lese-Tour wird organisiert von Connection-eV, dem internationalen Ne
	tzwerk für Kriegsdienstverweigerer und Deserteure: https://de.connection-e
	v.org/<br><br>Weitere Infos: https://karlsruhe.dfg-vk.de/<br>
BEGIN:VALARM
ACTION:DISPLAY
DESCRIPTION:„Vaterlandsverrat oder Friedenstat? Deserteure - Die Geschichte
	 von Gewissen, Widerstand und Flucht “ Lesung mit dem Autor Rolf Cantzen
TRIGGER:-PT1H
END:VALARM
END:VEVENT
END:VCALENDAR
