BEGIN:VCALENDAR
VERSION:2.0
CALSCALE:GREGORIAN
PRODID:adamgibbons/ics
METHOD:PUBLISH
X-PUBLISHED-TTL:PT1H
BEGIN:VEVENT
UID:708@keepkarlsruheboring.org
SUMMARY:Veranstaltung: Eine Bürgerversammlung (auf Deutsch)
DTSTAMP:20260423T104611Z
DTSTART:20260613T130000Z
DESCRIPTION:Diese Veranstaltung ist Teil der neuen Reihe ZUKUNFT IST JETZT\
	n[https://www.tollhaus.de/zukunft-ist-jetzt/]\, in Kooperation mit dem\nKl
	imabündnis und Klima-Aktion Karlsruhe. Insgesamt 14 Programmpunkte – Lesun
	gen\,\nTheater\, Tanz\, Zirkus\, Performance – setzen zukunftsweisende Imp
	ulse zu\naktuellen Themen.\n\n//\n\nWir sind die Bürger! Dies ist unsere V
	ersammlung! Wir sind die Akteure in dieser\nGeschichte!\n\nWas tun wir geg
	en den Klimanotstand? Was tun wir nicht? Was könnten wir noch\ntun? Was so
	llten wir noch tun? \n\nEntstanden in Gesprächen mit Bürgerinnen\, Wissens
	chaftlerinnen und\nKulturinstitutionen\, lädt "Eine Bürgerversammlung" daz
	u ein\, drängende Fragen um\ndie Zukunft gemeinsam auszuhandeln. Anhand ei
	nes Skripts werden in diesem Stück\nZuschauerinnen zu Mitsprecherinnen.\n\
	n„Smiths Optimismus ist ansteckend“ – Total Theatre. \n\n„Der Klimanotstan
	d ist ein Thema\, das viele von uns überwältigt und uns hilflos\nmacht\, a
	ber das Geniale an EINE BÜRGERVERSAMMLUNG ist die Art und Weise\, wie es\n
	die Diskussion um dieses Thema strukturiert\, indem es Fragen dazu stellt\
	, wie\nwir handeln können\, und das Publikum geschickt als Akteure in der 
	sich\nentfaltenden Geschichte einsetzt“ – Lyn Gardner\, The Stage.\n\nDaue
	r ca. 90 Minuten / Empfohlenes Alter: ab 14 Jahren / Ticket: 10\,00€\n\n\n
	\nMehr Infos:\nhttps://tickets.tollhaus.de/produkte/89955-tickets-eine-bue
	rgerversammlung-deutsch-kulturzentrum-tollhaus-karlsruhe-am-13-06-2026\n[h
	ttps://tickets.tollhaus.de/produkte/89955-tickets-eine-buergerversammlung-
	deutsch-kulturzentrum-tollhaus-karlsruhe-am-13-06-2026]
URL:https://keepkarlsruheboring.org/event/veranstaltung-eine-burgerversamml
	ung-auf-deutsch
GEO:49.0044;8.43171
LOCATION:Tollhaus - 35\, Alter Schlachthof\, Oststadt Südlicher Teil\, Osts
	tadt\, Karlsruhe\, Baden-Württemberg\, 76131\, Deutschland
STATUS:CONFIRMED
CATEGORIES:Begegnung,Mitmachen
X-ALT-DESC;FMTTYPE=text/html:<p>Diese Veranstaltung ist Teil der neuen Reih
	e <a target="_blank" href="https://www.tollhaus.de/zukunft-ist-jetzt/"><st
	rong>ZUKUNFT IST JETZT</strong></a>, in Kooperation mit dem Klimabündnis u
	nd Klima-Aktion Karlsruhe. Insgesamt 14 Programmpunkte – Lesungen, Theater
	, Tanz, Zirkus, Performance – setzen zukunftsweisende Impulse zu aktuellen
	 Themen.</p><p>//</p><p>Wir sind die Bürger! Dies ist unsere Versammlung! 
	Wir sind die Akteure in dieser Geschichte!</p><p>Was tun wir gegen den Kli
	manotstand? Was tun wir nicht? Was könnten wir noch tun? Was sollten wir n
	och tun?&nbsp;</p><p>Entstanden in Gesprächen mit Bürger<em>innen, Wissens
	chaftler</em>innen und Kulturinstitutionen, lädt "Eine Bürgerversammlung" 
	dazu ein, drängende Fragen um die Zukunft gemeinsam auszuhandeln. Anhand e
	ines Skripts werden in diesem Stück Zuschauer<em>innen zu Mitsprecher</em>
	innen.</p><p>„Smiths Optimismus ist ansteckend“ – Total Theatre.&nbsp;</p>
	<p>„Der Klimanotstand ist ein Thema, das viele von uns überwältigt und uns
	 hilflos macht, aber das Geniale an EINE BÜRGERVERSAMMLUNG ist die Art und
	 Weise, wie es die Diskussion um dieses Thema strukturiert, indem es Frage
	n dazu stellt, wie wir handeln können, und das Publikum geschickt als Akte
	ure in der sich entfaltenden Geschichte einsetzt“ – Lyn Gardner, The Stage
	.</p><p>Dauer ca. 90 Minuten / Empfohlenes Alter: ab 14 Jahren / Ticket: 1
	0,00€</p><p></p><p>Mehr Infos: <a target="_blank" href="https://tickets.to
	llhaus.de/produkte/89955-tickets-eine-buergerversammlung-deutsch-kulturzen
	trum-tollhaus-karlsruhe-am-13-06-2026">https://tickets.tollhaus.de/produkt
	e/89955-tickets-eine-buergerversammlung-deutsch-kulturzentrum-tollhaus-kar
	lsruhe-am-13-06-2026</a></p>
BEGIN:VALARM
ACTION:DISPLAY
DESCRIPTION:Veranstaltung: Eine Bürgerversammlung (auf Deutsch)
TRIGGER:-PT1H
END:VALARM
END:VEVENT
END:VCALENDAR
