BEGIN:VCALENDAR
VERSION:2.0
CALSCALE:GREGORIAN
PRODID:adamgibbons/ics
METHOD:PUBLISH
X-PUBLISHED-TTL:PT1H
BEGIN:VEVENT
UID:358@keepkarlsruheboring.org
SUMMARY:Verliebt? Verlobt? Nein! Verheiratet! Pia Klemp zum Thema Schutzehe
DTSTAMP:20260423T090755Z
DTSTART:20250918T160000Z
DTEND:20250918T190000Z
DESCRIPTION:Verliebt? Verlobt? Nein! Verheiratet!\n\n💥 Wir feiern 150 Jahre
	 Schutzehe! Infos und Inspiration zum Heiraten für den\nAufenthaltstitel.\
	n\nDeutschland schiebt »im großen Stil« ab und neo-faschistische\nDeportat
	ionsfantasien sind unter dem Begriff "Remigration" salonfähig geworden.\nG
	leichzeitig werden die legalen Korridore\, um Migrierende und Flüchtende z
	u\nunterstützen\, systematisch verengt. Der Aufschwung der (neuen) Rechten
	 scheint\nunaufhaltsam.\n\nUmso wichtiger ist es jetzt\, Verantwortung für
	einander zu übernehmen. Lasst uns\ndarum über Schutzehen sprechen! Was ist
	 eine Schutzehe und wie funktioniert sie?\nMit welchen Hürden und Hinderni
	ssen ist zu rechnen – wie sind sie zu überwinden?\nUnd wie sieht es dabei 
	insbesondere für queere Menschen (mit Fluchterfahrung)\naus?\n\nPia Klemp\
	, Antifaschistin\, Aktivistin und Autorin berichtet von Schutzehen zu\nZei
	ten des NS\, der DDR und heute. Und sie stellt sich der Fragen aller Frage
	n:\nWhat's love got to do with it?\n\n🗓 Donnerstag\, 18. September\n\n🥗 18
	 Uhr Küche für Alle • immer vegan\, immer auf Spendenbasis\n\n🕗 19 Uhr Beg
	inn\n\nℹ️ www.schutzehe.org [http://www.schutzehe.org]\n\n🌈 Wenn du vorab F
	ragen hast oder etwas brauchst\, um dich bei der Veranstaltung\nwohl zu fü
	hlen\, melde dich gerne vorab bei uns.
URL:https://keepkarlsruheboring.org/event/verliebt-verlobt-nein-verheiratet
	-pia-klemp-zum-thema-schutzehe
GEO:48.989;8.37185
LOCATION:Café Noir - 5\, Schauenburgstraße\, Bulach\, Beiertheim-Bulach\, K
	arlsruhe\, Baden-Württemberg\, 76135\, Deutschland
STATUS:CONFIRMED
CATEGORIES:Antifa,International Solidarity,Politics,Solidarity Marriage
X-ALT-DESC;FMTTYPE=text/html:<p>Verliebt? Verlobt? Nein! Verheiratet!</p><p
	>💥 Wir feiern 150 Jahre Schutzehe! Infos und Inspiration zum Heiraten für 
	den Aufenthaltstitel.</p><p>Deutschland schiebt »im großen Stil« ab und ne
	o-faschistische Deportationsfantasien sind unter dem Begriff "Remigration"
	 salonfähig geworden. Gleichzeitig werden die legalen Korridore, um Migrie
	rende und Flüchtende zu unterstützen, systematisch verengt. Der Aufschwung
	 der (neuen) Rechten scheint unaufhaltsam.</p><p>Umso wichtiger ist es jet
	zt, Verantwortung füreinander zu übernehmen. Lasst uns darum über Schutzeh
	en sprechen! Was ist eine Schutzehe und wie funktioniert sie? Mit welchen 
	Hürden und Hindernissen ist zu rechnen – wie sind sie zu überwinden? Und w
	ie sieht es dabei insbesondere für queere Menschen (mit Fluchterfahrung) a
	us?</p><p>Pia Klemp, Antifaschistin, Aktivistin und Autorin berichtet von 
	Schutzehen zu Zeiten des NS, der DDR und heute. Und sie stellt sich der Fr
	agen aller Fragen: What's love got to do with it?</p><p>🗓 Donnerstag, 18. 
	September</p><p>🥗 18 Uhr Küche für Alle • immer vegan, immer auf Spendenba
	sis</p><p>🕗 19 Uhr Beginn</p><p>ℹ️ <a href="http://www.schutzehe.org" targe
	t="_blank">www.schutzehe.org</a></p><p>🌈 Wenn du vorab Fragen hast oder et
	was brauchst, um dich bei der Veranstaltung wohl zu fühlen, melde dich ger
	ne vorab bei uns.</p>
BEGIN:VALARM
ACTION:DISPLAY
DESCRIPTION:Verliebt? Verlobt? Nein! Verheiratet! Pia Klemp zum Thema Schut
	zehe
TRIGGER:-PT1H
END:VALARM
END:VEVENT
END:VCALENDAR
