BEGIN:VCALENDAR
VERSION:2.0
CALSCALE:GREGORIAN
PRODID:adamgibbons/ics
METHOD:PUBLISH
X-PUBLISHED-TTL:PT1H
BEGIN:VEVENT
UID:1039@keepkarlsruheboring.org
SUMMARY:Vernissage und Ausstellung PERSONA Zwischen Idol und Identität\, In
	grid von Haefen (Einführung und Musik)
DTSTAMP:20260423T105017Z
DTSTART:20260301T130000Z
DTEND:20260301T160000Z
DESCRIPTION:Vernissage am 01.03.2026\, ab 14 Uhr: Einführung und Musik\, Ei
	ntritt frei\n(Spenden willkommen)\n\nAusstellung bis 22.03.2026\, Öffnungs
	zeiten Samstag und Sonntag\, 14-17 Uhr\,\nEintritt frei (Spenden willkomme
	n)\n\nPräzise beobachtend\, respektvoll und einfühlsam porträtiert Ingrid 
	von Haefen\nbekannte und unbekannte Persönlichkeiten\, mal inspiriert von 
	Medienbildern\, mal\naus flüchtigen Alltagsbegegnungen heraus.\n\n\nJedes 
	ihrer Bilder ist eine Einladung\, über Rollenbilder\, Wirkung und Selbstbi
	ld\nnachzudenken.
URL:https://keepkarlsruheboring.org/event/vernissage-und-ausstellung-person
	a-zwischen-idol-und-identitat-ingrid-von-haefen-einfuhrung-und-musik
GEO:49.0531;8.38103
LOCATION:KunstRaum Neureut - Kirchfeldstr. 122
STATUS:CONFIRMED
CATEGORIES:Kunst,Kunstraum Neureut,Music,Opening
X-ALT-DESC;FMTTYPE=text/html:<p>Vernissage am 01.03.2026, ab 14 Uhr: Einfüh
	rung und Musik, Eintritt frei (Spenden willkommen)</p><p>Ausstellung bis 2
	2.03.2026, Öffnungszeiten Samstag und Sonntag, 14-17 Uhr, Eintritt frei (S
	penden willkommen)</p><p>Präzise beobachtend, respektvoll und einfühlsam p
	orträtiert Ingrid von Haefen bekannte und unbekannte Persönlichkeiten, mal
	 inspiriert von Medienbildern, mal aus flüchtigen Alltagsbegegnungen herau
	s.</p><p><br>Jedes ihrer Bilder ist eine Einladung, über Rollenbilder, Wir
	kung und Selbstbild nachzudenken.</p>
BEGIN:VALARM
ACTION:DISPLAY
DESCRIPTION:Vernissage und Ausstellung PERSONA Zwischen Idol und Identität,
	 Ingrid von Haefen (Einführung und Musik)
TRIGGER:-PT1H
END:VALARM
END:VEVENT
END:VCALENDAR
