BEGIN:VCALENDAR
VERSION:2.0
CALSCALE:GREGORIAN
PRODID:adamgibbons/ics
METHOD:PUBLISH
X-PUBLISHED-TTL:PT1H
BEGIN:VEVENT
UID:383@keepkarlsruheboring.org
SUMMARY:Viewing eines Spiels der Frauen Rugby Weltmeisterschaft
DTSTAMP:20260423T104857Z
DTSTART:20250919T170000Z
DTEND:20250919T200000Z
URL:https://keepkarlsruheboring.org/event/viewing-eines-spiels-der-frauen-r
	ugby-weltmeisterschaft
GEO:48.989;8.37185
LOCATION:P8 - Schauenburgstraße 5\, 76135 Karlsruhe
STATUS:CONFIRMED
CATEGORIES:Sports
BEGIN:VALARM
ACTION:DISPLAY
DESCRIPTION:Viewing eines Spiels der Frauen Rugby Weltmeisterschaft
TRIGGER:-PT1H
END:VALARM
END:VEVENT
END:VCALENDAR
