BEGIN:VCALENDAR
VERSION:2.0
CALSCALE:GREGORIAN
PRODID:adamgibbons/ics
METHOD:PUBLISH
X-PUBLISHED-TTL:PT1H
BEGIN:VEVENT
UID:537@keepkarlsruheboring.org
SUMMARY:Vision Board Workshop für Frauen (nur mit Anmeldung\, 89-149€)
DTSTAMP:20260423T104856Z
DTSTART:20251227T090000Z
DTEND:20251227T130000Z
DESCRIPTION:VISION BOARD WORKSHOP – GOODBYE 2025\, WELCOME 2026!\n\n\nZwisc
	hen den Jahren liegt diese besondere Magie: Das alte Jahr klingt aus\, das
	\nneue wartet unbeschrieben auf dich.\nGenau jetzt ist der Moment\, um inn
	ezuhalten\, loszulassen und voller Klarheit zu\ngestalten\, was 2026 für d
	ich bereithalten darf.\n\nIn meinem Vision Board Workshop schaffen wir gem
	einsam einen Raum für\nInspiration\, Kreativität und Austausch. Wir verabs
	chieden 2025 mit Dankbarkeit\nund richten den Blick auf deine Wünsche\, Tr
	äume und Ziele für das kommende Jahr.\n\n\nWAS DICH ERWARTET\n\n * Inspira
	tion & Kreativität – Entdecke\, was dir wirklich wichtig ist\, richte\n   
	deinen Blick bewusst auf das\, was dich stärkt – und lass deine Träume und
	\n   Ziele in einem einzigartigen Vision Board lebendig werden.\n\n * Aust
	ausch & Motivation – Verbinde dich mit anderen Frauen und inspiriert euch\
	n   gegenseitig auf eurem Weg.\n\n * Impulse & Methoden – Erfahre\, wie du
	 mit einfachen\, alltagstauglichen Übungen\n   deine Resilienz stärkst und
	 deine Ziele mit innerer Ruhe und Zuversicht\n   verfolgst.\n\n\nWELCHES P
	AKET PASST ZU DIR?\n\nBASIC – 89 €\n\n * 4-Stunden-Workshop\n\n * Einführu
	ng ins Vision Board & Meditation\n\n * Dein persönliches Vision Board mit 
	allen Materialien\n\n * Kleine Stärkungen & Getränke\n\n * Ein Jahr lang b
	egleite ich dich mit regelmäßigen Impulsen per E-Mail\n\nREFLEXION – 119 €
	\n\n * Alles aus dem Paket BASIC\n\n * Gemeinsame Reflexionsstunde nach ca
	. 10 Monaten – Raum für Klarheit\,\n   Austausch und neue Ausrichtung.\n\n
	INTENSIV – 149 €\n\n * Alles aus dem Paket Reflexion\n\n * 1:1 Coaching fü
	r eine Stunde – wir fokussieren uns gemeinsam auf das\, was\n   dich voran
	bringt\n\n\n\nSichere dir jetzt deinen Platz!\n\nhttps://piafels.de/post/o
	ktober/vision-board-workshops/\n[https://piafels.de/post/oktober/vision-bo
	ard-workshops/]\n\nDie Platzanzahl ist bewusst klein gehalten\, damit jede
	 von euch den Raum und die\nUnterstützung bekommt\, die sie braucht.
URL:https://keepkarlsruheboring.org/event/vision-board-workshop-fur-flinta-
	personen-89-149euro-soli-platz
GEO:49.008;8.40572
LOCATION:Kairos13 - Kreuzstraße 13\, 76133 Karlsruhe
STATUS:CONFIRMED
CATEGORIES:Art,Coaching,Registration required,Resilienz,Ticket,Workshop
X-ALT-DESC;FMTTYPE=text/html:<h2><strong>Vision Board Workshop – Goodbye 20
	25, Welcome 2026!<br></strong></h2><p>Zwischen den Jahren liegt diese beso
	ndere Magie: Das alte Jahr klingt aus, das neue wartet unbeschrieben auf d
	ich.<br>Genau jetzt ist der Moment, um innezuhalten, loszulassen und volle
	r Klarheit zu gestalten, was 2026 für dich bereithalten darf.</p><p>In mei
	nem Vision Board Workshop schaffen wir gemeinsam einen Raum für Inspiratio
	n, Kreativität und Austausch. Wir verabschieden 2025 mit Dankbarkeit und r
	ichten den Blick auf deine Wünsche, Träume und Ziele für das kommende Jahr
	.</p><h3><strong>Was dich erwartet</strong></h3><ul><li><p><strong>Inspira
	tion &amp; Kreativität</strong> – Entdecke, was dir wirklich wichtig ist, 
	richte deinen Blick bewusst auf das, was dich stärkt – und lass deine Träu
	me und Ziele in einem einzigartigen Vision Board lebendig werden.</p></li>
	<li><p><strong>Austausch &amp; Motivation</strong> – Verbinde dich mit and
	eren Frauen und inspiriert euch gegenseitig auf eurem Weg.</p></li><li><p>
	<strong>Impulse &amp; Methoden</strong> – Erfahre, wie du mit einfachen, a
	lltagstauglichen Übungen deine Resilienz stärkst und deine Ziele mit inner
	er Ruhe und Zuversicht verfolgst.</p></li></ul><h3><strong>Welches Paket p
	asst zu dir?</strong></h3><h5><strong>BASIC – 89 €</strong></h5><ul><li><p
	>4-Stunden-Workshop</p></li><li><p>Einführung ins Vision Board &amp; Medit
	ation</p></li><li><p>Dein persönliches Vision Board mit allen Materialien<
	/p></li><li><p>Kleine Stärkungen &amp; Getränke</p></li><li><p>Ein Jahr la
	ng begleite ich dich mit regelmäßigen Impulsen per E-Mail</p></li></ul><h5
	><strong>REFLEXION – 119 €</strong></h5><ul><li><p>Alles aus dem Paket <st
	rong>BASIC</strong></p></li><li><p>Gemeinsame Reflexionsstunde nach ca. 10
	 Monaten – Raum für Klarheit, Austausch und neue Ausrichtung.</p></li></ul
	><h5><strong>INTENSIV – 149 €</strong></h5><ul><li><p>Alles aus dem Paket 
	<strong>Reflexion</strong></p></li><li><p>1:1 Coaching für eine Stunde – w
	ir fokussieren uns gemeinsam auf das, was dich voranbringt</p></li></ul><p
	></p><p><strong>Sichere dir jetzt deinen Platz!<br><br></strong><a href="h
	ttps://piafels.de/post/oktober/vision-board-workshops/" target="_blank"><s
	trong>https://piafels.de/post/oktober/vision-board-workshops/</strong></a>
	<strong><br></strong><br>Die Platzanzahl ist bewusst klein gehalten, damit
	 jede von euch den Raum und die Unterstützung bekommt, die sie braucht.</p
	>
BEGIN:VALARM
ACTION:DISPLAY
DESCRIPTION:Vision Board Workshop für Frauen (nur mit Anmeldung, 89-149€)
TRIGGER:-PT1H
END:VALARM
END:VEVENT
END:VCALENDAR
