BEGIN:VCALENDAR
VERSION:2.0
CALSCALE:GREGORIAN
PRODID:adamgibbons/ics
METHOD:PUBLISH
X-PUBLISHED-TTL:PT1H
BEGIN:VEVENT
UID:564@keepkarlsruheboring.org
SUMMARY:Vision Board Workshop - Gestalte Dein Jahr 2026 [85 €]
DTSTAMP:20260423T103529Z
DTSTART:20251221T090000Z
DTEND:20251221T130000Z
DESCRIPTION:Komm zum Vision Board Workshop und gestalte die Zukunft\, die D
	u Dir von Herzen\nwünschst! Bringe Deine Wünsche und Träume auf Papier.\n\
	nWillst Du Deine Zukunft aktiv gestalten und Gedankenmuster aufbrechen\, u
	m mit\neiner klaren Vision nach vorne zu schauen? Dann bist Du bei meinem 
	Vision Board\nWorkshop genau richtig!\n\nAm Sonntag\, den 21. Dezember 202
	5 um 10:00 Uhr startet unser Workshop mit dem\nMotto: "Gestalte Dein Jahr 
	2026".\n\nDas erwartet Dich:\n\n * eine professionelle Anleitung zur Erste
	llung Deines Vision Boards\n\n * inspirierender Austausch mit Gleichgesinn
	ten (kleine Gruppe)\n\n * eine Wohlfühlatmosphäre\n\nPreis inkl.\n\nalle M
	aterialien\n\nGetränke & Snacks\n\nEin Vision Board ist ein kreatives Tool
	\, das Dir dabei hilft\, Deine Ziele und\nTräume zu visualisieren. In dies
	em interaktiven Workshop wirst Du lernen\, wie Du\nDein eigenes Vision Boa
	rd erstellst und wie Du es effektiv nutzen kannst\, um\nDeine Ziele zu ver
	wirklichen.\n\nBei diesem Workshop kannst Du Dich auf eine kleine Gruppe i
	n inspirierende\nAtmosphäre freuen. Alle Materialien\, die Du für Dein Vis
	ion Board benötigst sind\nim Preis enthalten. Du brauchst keine Vorkenntni
	sse oder besondere Fähigkeiten\,\num teilzunehmen – jeder ist willkommen!\
	n\nKomm vorbei und lass Dich von anderen Teilnehmern inspirieren. Tausche 
	Ideen\naus\, erhalte wertvolle Tipps und arbeite an Deiner persönlichen Vi
	sion für die\nZukunft. Gemeinsam können wir unsere Träume verwirklichen!\n
	\nMelde Dich jetzt an und sichere Dir Deinen Platz für diesen spannenden W
	orkshop!\n\nIch freue mich sehr\, Dich kennenzulernen!\n\nJessica
URL:https://keepkarlsruheboring.org/event/vision-board-workshop-gestalte-de
	in-jahr-2026
GEO:49.0009;8.38907
LOCATION:LA VIE est BELLE | der evenTRaum - Klauprechtstraße 39  76137 Karl
	sruhe
STATUS:CONFIRMED
CATEGORIES:DIY,Ticket,Vision Board,Workshop
X-ALT-DESC;FMTTYPE=text/html:<p>Komm zum Vision Board Workshop und gestalte
	 die Zukunft, die Du Dir von Herzen wünschst! Bringe Deine Wünsche und Trä
	ume auf Papier.</p><p>Willst Du Deine Zukunft aktiv gestalten und Gedanken
	muster aufbrechen, um mit einer klaren Vision nach vorne zu schauen? Dann 
	bist Du bei meinem Vision Board Workshop genau richtig!<br><br>Am <strong>
	Sonntag, den 21. Dezember 2025</strong> um <strong>10:00 Uhr</strong> star
	tet unser Workshop mit dem Motto: "Gestalte Dein Jahr 2026".</p><p><strong
	>Das erwartet Dich:</strong></p><ul><li><p>eine professionelle Anleitung z
	ur Erstellung Deines Vision Boards</p></li><li><p>inspirierender Austausch
	 mit Gleichgesinnten (kleine Gruppe)</p></li><li><p>eine Wohlfühlatmosphär
	e</p></li></ul><p><strong>Preis inkl.</strong></p><p>    alle Materialien<
	/p><p>    Getränke &amp; Snacks</p><p>Ein Vision Board ist ein kreatives T
	ool, das Dir dabei hilft, Deine Ziele und Träume zu visualisieren. In dies
	em interaktiven Workshop wirst Du lernen, wie Du Dein eigenes Vision Board
	 erstellst und wie Du es effektiv nutzen kannst, um Deine Ziele zu verwirk
	lichen.</p><p>Bei diesem Workshop kannst Du Dich auf eine kleine Gruppe in
	 inspirierende Atmosphäre freuen. Alle Materialien, die Du für Dein Vision
	 Board benötigst sind im Preis enthalten. Du brauchst keine Vorkenntnisse 
	oder besondere Fähigkeiten, um teilzunehmen – jeder ist willkommen!</p><p>
	Komm vorbei und lass Dich von anderen Teilnehmern inspirieren. Tausche Ide
	en aus, erhalte wertvolle Tipps und arbeite an Deiner persönlichen Vision 
	für die Zukunft. Gemeinsam können wir unsere Träume verwirklichen!</p><p>M
	elde Dich jetzt an und sichere Dir Deinen Platz für diesen spannenden Work
	shop!</p><p>Ich freue mich sehr, Dich kennenzulernen!</p><p>Jessica</p>
BEGIN:VALARM
ACTION:DISPLAY
DESCRIPTION:Vision Board Workshop - Gestalte Dein Jahr 2026 [85 €]
TRIGGER:-PT1H
END:VALARM
END:VEVENT
END:VCALENDAR
