BEGIN:VCALENDAR
VERSION:2.0
CALSCALE:GREGORIAN
PRODID:adamgibbons/ics
METHOD:PUBLISH
X-PUBLISHED-TTL:PT1H
BEGIN:VEVENT
UID:1558@keepkarlsruheboring.org
SUMMARY:Vom Garten in den Kleiderschrank 2/2 — mit Pflanzen-gefärbtem Garn 
	sticken
DTSTAMP:20260425T111806Z
DTSTART:20260512T143000Z
DTEND:20260512T170000Z
DESCRIPTION:An diesem Nachmittag habt ihr die nachhaltige Gelegenheit eure 
	Kleidung mit\npflanzlich gefärbten Garnen zu reparieren und zu verschönern
	! Bringt eure\nLieblingsteile mit und probiert Techniken wie Stopfen\, Loc
	humrandung oder das\nSticken von Blumen und Blättern aus. Wir können auf d
	ie gefärbtem Garne aus dem\nersten Workshop zurückgreifen. Und der Garten 
	dient uns als Inspiration! Keine\nVorkenntnisse sind nötig.\n\nBitte mitbr
	ingen:\nEigene Kleidungsstücke oder Stofftaschen zum Reparieren — bestenfa
	lls aus\nBaumwolle. Für alle Fälle haben wir (reparaturbedürftige) Stoffe 
	vorrätig.\n\nDas ist der erste Teil unserer Nachhaltigkeits-Challenge im B
	ereich Fashion am\nLernort frog. Im zweiten Teil geht's ums stilvolle Repa
	rieren von Kleidung.\nBeide Aktionen verbinden praktisches Tun mit Wissens
	wertem über nachhaltige\nMode. Mach mit!\n\n\n
URL:https://keepkarlsruheboring.org/event/vom-garten-in-den-kleiderschrank-
	22-mit-pflanzen-gefarbtem-garn-sticken
GEO:49.0016;8.32784
LOCATION:Lernort frog - Alt-Daxlanden\, Daxlanden\, Karlsruhe\, Baden-Württ
	emberg\, 76189\, Deutschland
STATUS:CONFIRMED
CATEGORIES:Ecology,Garten,Klima,Urbane Gärten Karlsruhe,Workshop
X-ALT-DESC;FMTTYPE=text/html:<p>An diesem Nachmittag habt ihr die nachhalti
	ge Gelegenheit eure Kleidung mit pflanzlich gefärbten Garnen zu reparieren
	 und zu verschönern! Bringt eure Lieblingsteile mit und probiert Techniken
	 wie Stopfen, Lochumrandung oder das Sticken von Blumen und Blättern aus. 
	Wir können auf die gefärbtem Garne aus dem ersten Workshop zurückgreifen. 
	Und der Garten dient uns als Inspiration! Keine Vorkenntnisse sind nötig.<
	/p><p><strong>Bitte mitbringen: </strong><br>Eigene Kleidungsstücke oder S
	tofftaschen zum Reparieren — bestenfalls aus Baumwolle. Für alle Fälle hab
	en wir (reparaturbedürftige) Stoffe vorrätig.</p><p>Das ist der erste Teil
	 unserer Nachhaltigkeits-Challenge im Bereich Fashion am Lernort frog. Im 
	zweiten Teil geht's ums stilvolle Reparieren von Kleidung. Beide Aktionen 
	verbinden praktisches Tun mit Wissenswertem über nachhaltige Mode. Mach mi
	t!</p><h2></h2>
BEGIN:VALARM
ACTION:DISPLAY
DESCRIPTION:Vom Garten in den Kleiderschrank 2/2 — mit Pflanzen-gefärbtem G
	arn sticken
TRIGGER:-PT1H
END:VALARM
END:VEVENT
END:VCALENDAR
