BEGIN:VCALENDAR
VERSION:2.0
CALSCALE:GREGORIAN
PRODID:adamgibbons/ics
METHOD:PUBLISH
X-PUBLISHED-TTL:PT1H
BEGIN:VEVENT
UID:40@keepkarlsruheboring.org
SUMMARY:[Vortrag] kennedy+swan: Das Analoge im Digitalen
DTSTAMP:20260423T104738Z
DTSTART:20250506T170000Z
DESCRIPTION:Seit zwölf Jahren transformiert das Duo kennedy+swan die Realit
	ät in digitale\nSphären. Was zunächst als handgebaute Skulpturen\, Figuren
	\, Räume und\nLandschaften entsteht\, findet seinen Weg in animierte 3D-Sc
	ans: die Grundlage\nfür ihre VR-Erlebnisse\, Filme und Apps. Dabei dreht s
	ich alles um Intelligenz –\ngenauer gesagt\, um nicht-menschliche Intellig
	enz: die von Pflanzen\, Tieren\,\nPilzen und mittlerweile auch Maschinen.\
	n\nSo hat das Duo einen verzweigten Kosmos geschaffen\, in dem mögliche Ut
	opien und\nDystopien verhandelt werden. Sie werfen einen Blick in die Köpf
	e protestierender\nInsekten\, lassen die Betrachter von Pilzen auf die Str
	eckbank spannen und\nlauschen der KI\, wenn sie Tiergespräche übersetzt. \
	n\nIn ihrem Vortrag geben die Künstler*innen Einblicke in ihr bisheriges S
	chaffen\nund lassen das Publikum an Prozesse hinter den Kulissen teilhaben
	. Denn am Ende\nist die Erkenntnis\, dass alles Digitale seinen Ursprung a
	uch in der Natur und im\nphysischen Atelier haben kann  - vielleicht ein g
	anz beruhigendes Ergebnis.\n\nVortragsaal\n\n---\n\nkennedy+swan (gegründe
	t 2013) umfasst die Werke der beiden Künstler*innen Bianca\nKennedy und Sw
	an Collective. In ihrer Zusammenarbeit erforschen sie die Zukunft\nnicht-m
	enschlicher Intelligenz und deren Auswirkungen auf Pflanzen\, Tiere\,\nMas
	chinen und Menschen. Diese Utopien sind von der Vormachtstellung des Mensc
	hen\nbefreit\, beleuchten die ökologischen Vorteile hybrider Lebensformen 
	und widmen\nsich der verstrickten Beziehung zwischen Mensch und Biotechnol
	ogie. Für ihre\nVideos\, VR- und AR-Installationen verwendet das Duo eine 
	Vielzahl von\nAnimationstechniken: Zeichnungen\, stereoskopisches Filmmate
	rial\, 3D-gescannte\nLandschaften und selbstgebaute Charaktere ergeben ein
	 dichtes Netzwerk aus\nanalogen und digitalen Bildfragmenten. Jüngste Arbe
	iten reflektieren die\nexponentiellen Entwicklung Künstlicher Intelligenz 
	und ihre Bedeutung für\nbiologische Systeme.\n\nkennedy+swan stellen inter
	national in Galerien\, Museen und auf Festivals aus. Zu\nden Ausstellungen
	 zählen u. a. Lyon Biennale\, Gropius Bau Berlin\, Kunstmuseum\nStuttgart\
	, Museum der bildenden Künste Leipzig\, Haus der Kulturen der Welt\nBerlin
	\, CCBB Rio de Janeiro\, Loop Discover Award und Sundance Film Festival. S
	ie\nhaben die Studio Quantum Residency des Goethe Instituts in Irland für 
	2023 und\ndie BIFOLD Residency für 2024 erhalten. Sie leben in Berlin.\n\n
	www.kennedyswan.com [https://www.kennedyswan.com]
URL:https://keepkarlsruheboring.org/event/vortrag-kennedyswan-das-analoge-i
	m-digitalen
GEO:49.013;8.38736
LOCATION:Staatliche Akademie der Bildenden Künste Karlsruhe - 67\, Reinhold
	-Frank-Straße\, Innenstadt-West Westlicher Teil\, Innenstadt-West\, Karlsr
	uhe\, Baden-Württemberg\, 76133\, Deutschland
STATUS:CONFIRMED
CATEGORIES:Art,Digital,Lecture
X-ALT-DESC;FMTTYPE=text/html:<p>Seit zwölf Jahren transformiert das Duo ken
	nedy+swan die Realität in digitale Sphären. Was zunächst als handgebaute S
	kulpturen, Figuren, Räume und Landschaften entsteht, findet seinen Weg in 
	animierte 3D-Scans: die Grundlage für ihre VR-Erlebnisse, Filme und Apps. 
	Dabei dreht sich alles um Intelligenz – genauer gesagt, um nicht-menschlic
	he Intelligenz: die von Pflanzen, Tieren, Pilzen und mittlerweile auch Mas
	chinen.</p><p>So hat das Duo einen verzweigten Kosmos geschaffen, in dem m
	ögliche Utopien und Dystopien verhandelt werden. Sie werfen einen Blick in
	 die Köpfe protestierender Insekten, lassen die Betrachter von Pilzen auf 
	die Streckbank spannen und lauschen der KI, wenn sie Tiergespräche überset
	zt.&nbsp;</p><p>In ihrem Vortrag geben die Künstler*innen Einblicke in ihr
	 bisheriges Schaffen und lassen das Publikum an Prozesse hinter den Kuliss
	en teilhaben. Denn am Ende ist die Erkenntnis, dass alles Digitale seinen 
	Ursprung auch in der Natur und im physischen Atelier haben kann &nbsp;- vi
	elleicht ein ganz beruhigendes Ergebnis.</p><p><strong>Vortragsaal</strong
	></p><p>---</p><p><strong>kennedy+swan</strong> (gegründet 2013) umfasst d
	ie Werke der beiden Künstler*innen Bianca Kennedy und Swan Collective. In 
	ihrer Zusammenarbeit erforschen sie die Zukunft nicht-menschlicher Intelli
	genz und deren Auswirkungen auf Pflanzen, Tiere, Maschinen und Menschen. D
	iese Utopien sind von der Vormachtstellung des Menschen befreit, beleuchte
	n die ökologischen Vorteile hybrider Lebensformen und widmen sich der vers
	trickten Beziehung zwischen Mensch und Biotechnologie. Für ihre Videos, VR
	- und AR-Installationen verwendet das Duo eine Vielzahl von Animationstech
	niken: Zeichnungen, stereoskopisches Filmmaterial, 3D-gescannte Landschaft
	en und selbstgebaute Charaktere ergeben ein dichtes Netzwerk aus analogen 
	und digitalen Bildfragmenten. Jüngste Arbeiten reflektieren die exponentie
	llen Entwicklung Künstlicher Intelligenz und ihre Bedeutung für biologisch
	e Systeme.</p><p>kennedy+swan stellen international in Galerien, Museen un
	d auf Festivals aus. Zu den Ausstellungen zählen u. a. Lyon Biennale, Grop
	ius Bau Berlin, Kunstmuseum Stuttgart, Museum der bildenden Künste Leipzig
	, Haus der Kulturen der Welt Berlin, CCBB Rio de Janeiro, Loop Discover Aw
	ard und Sundance Film Festival. Sie haben die Studio Quantum Residency des
	 Goethe Instituts in Irland für 2023 und die BIFOLD Residency für 2024 erh
	alten. Sie leben in Berlin.</p><p><a target="_blank" href="https://www.ken
	nedyswan.com">www.kennedyswan.com</a></p>
BEGIN:VALARM
ACTION:DISPLAY
DESCRIPTION:[Vortrag] kennedy+swan: Das Analoge im Digitalen
TRIGGER:-PT1H
END:VALARM
END:VEVENT
END:VCALENDAR
