BEGIN:VCALENDAR
VERSION:2.0
CALSCALE:GREGORIAN
PRODID:adamgibbons/ics
METHOD:PUBLISH
X-PUBLISHED-TTL:PT1H
BEGIN:VEVENT
UID:1397@keepkarlsruheboring.org
SUMMARY:Vortrag und Diskussion: Anarchismus - eine Einführung
DTSTAMP:20260423T102326Z
DTSTART:20260403T163000Z
DESCRIPTION:In diesem Vortrag wollen wir versuchen die politische Strömung 
	des Anarchismus\nin einem groben Überblick zu betrachten.\n\n\n\nWir werde
	n eine kurze Zusammenfassung des Anarchismus der als sozialisische\nStrömu
	ng und die grundlegenden Entstehungsgeschichte Prinzipien dieser bieten.\n
	\n\n\nAuch werden wir einen kurzen Überblick über einzelne Strömungen inne
	rhalb der\nanarchistischen Theorie geben\, und darstellen wie anarchistisc
	he Organisierung\nin der Praxis ganz konkret funktionieren kann.\n\n\n\nIm
	 Anschluss zum Vortrag wird es Raum für Diskussion\, Vernetzung und Austau
	sch\ngeben.\n\n\n\nVorkenntnisse sind nicht nötig.\n\n\n\nSchauenburgstr. 
	5\, 76135 Karlsruhe\n\n\n\ncafé-noir@riseup.net | cafenoirka.wordpress.com
	\n[http://cafenoirka.wordpress.com]\n\n\n\n@cafenoirKarlsruhe
URL:https://keepkarlsruheboring.org/event/vortrag-und-diskussion-anarchismu
	s-eine-einfuhrung
GEO:48.989;8.37185
LOCATION:Café Noir - 5\, Schauenburgstraße\, Bulach\, Beiertheim-Bulach\, K
	arlsruhe\, Baden-Württemberg\, 76135\, Deutschland
STATUS:CONFIRMED
CATEGORIES:Anarchism,Kleine A-Tage,Lecture,Politics
X-ALT-DESC;FMTTYPE=text/html:<p>In diesem Vortrag wollen wir versuchen die 
	politische Strömung des Anarchismus in einem groben Überblick zu betrachte
	n.</p><p></p><p>Wir werden eine kurze Zusammenfassung des Anarchismus der 
	als sozialisische Strömung und die grundlegenden Entstehungsgeschichte Pri
	nzipien dieser bieten.</p><p></p><p>Auch werden wir einen kurzen Überblick
	 über einzelne Strömungen innerhalb der anarchistischen Theorie geben, und
	 darstellen wie anarchistische Organisierung in der Praxis ganz konkret fu
	nktionieren kann.</p><p></p><p>Im Anschluss zum Vortrag wird es Raum für D
	iskussion, Vernetzung und Austausch geben.</p><p></p><p>Vorkenntnisse sind
	 nicht nötig.</p><p></p><p>Schauenburgstr. 5, 76135 Karlsruhe</p><p></p><p
	>café-noir@riseup.net | <a href="http://cafenoirka.wordpress.com" target="
	_blank">cafenoirka.wordpress.com</a></p><p></p><p>@cafe<em>noir</em>Karlsr
	uhe</p>
BEGIN:VALARM
ACTION:DISPLAY
DESCRIPTION:Vortrag und Diskussion: Anarchismus - eine Einführung
TRIGGER:-PT1H
END:VALARM
END:VEVENT
END:VCALENDAR
