BEGIN:VCALENDAR
VERSION:2.0
CALSCALE:GREGORIAN
PRODID:adamgibbons/ics
METHOD:PUBLISH
X-PUBLISHED-TTL:PT1H
BEGIN:VEVENT
UID:502@keepkarlsruheboring.org
SUMMARY:Vorweihnachtliches Hoffest im gewächsHaus Mütterzentrum
DTSTAMP:20260423T104738Z
DTSTART:20251122T150000Z
DTEND:20251122T170000Z
DESCRIPTION:Vorweihnachtliches Hoffest im MüZe\n
URL:https://keepkarlsruheboring.org/event/vorweihnachtliches-hoffest-im-gew
	achshaus-mutterzentrum
GEO:49.002;8.40909
LOCATION:gewächsHaus Mütterzentrum - Werderstraße 63 76137 Karlsruhe
STATUS:CONFIRMED
CATEGORIES:Familie,Kids
X-ALT-DESC;FMTTYPE=text/html:<p>Vorweihnachtliches Hoffest im MüZe<br></p>
BEGIN:VALARM
ACTION:DISPLAY
DESCRIPTION:Vorweihnachtliches Hoffest im gewächsHaus Mütterzentrum
TRIGGER:-PT1H
END:VALARM
END:VEVENT
END:VCALENDAR
