BEGIN:VCALENDAR
VERSION:2.0
CALSCALE:GREGORIAN
PRODID:adamgibbons/ics
METHOD:PUBLISH
X-PUBLISHED-TTL:PT1H
BEGIN:VEVENT
UID:225@keepkarlsruheboring.org
SUMMARY:Wabi Sabi – Gebrochene Schönheit [Course\, 160 - 190 €]
DTSTAMP:20260423T104716Z
DTSTART:20250919T150000Z
DTEND:20250920T215900Z
DESCRIPTION:WABI SABI – GEBROCHENE SCHÖNHEIT\n\nCOLLAGE – BLATTRESTE – BILD
	RESTE – SCHRIFT – PINSELSTRICHE – FARBWALZEN\n\n\n\nBeschreibung in Wikipe
	dia:\n\n> Ursprünglich bedeutet Wabi sich elend\, einsam und verloren zu f
	ühlen. Dies\n> wandelte sich zur Freude an der Herbheit des Einsam-Stillen
	. Aber erst in der\n> Verbindung mit Sabi\, alt sein\, Patina zeigen\, übe
	r Reife verfügen\, entstand\n> die eigentlich nicht übersetzbare Begriffse
	inheit\, die den Maßstab der\n> japanischen Kunstbewertung bildet. Nicht d
	ie offenkundige Schönheit ist das\n> Höchste\, sondern die verhüllte\, nic
	ht der unmittelbare Glanz der Sonne\,\n> sondern der gebrochene des Mondes
	. Der bemooste Fels\, das grasbewachsene\n> Strohdach\, die knorrige Kiefe
	r\, der leicht berostete Teekessel\, das und\n> Ähnliches sind die Symbole
	 dieses Schönheitsideals. Es geht um die Hoheit\, die\n> sich in der Hülle
	 des Unscheinbaren verbirgt\, die herbe Schlichtheit\, die dem\n> Verstehe
	nden doch alle Reize des Schönen offenbaren.\n\nIn diesem Kurs entstehen g
	roßformtike Bilder (Poster)\, die an abgerissene\nPlakatwände erinnern kön
	nten. Wir reißen\, kleben\, collagieren\, schreiben\,\nüberpinseln usw.\n\
	nTermin: Fr. und Sa. 19.-20. September 2025\nZeit: Fr.. 17 bis 21 Uhr\, Sa
	. 11 bis 17 Uhr\nOrt: Alter Laden\, Gerwigstr. 34\, 76131 Karlsruhe\nTeiln
	ehmerzahl: max. 6\nGebühr: 190 € (Mitglieder 160\,- €) inkl. Materialkoste
	n\n\nHier geht´s zur Anmeldung [https://schrifthof.de/kurse-workshops/anme
	lden-kurse]
URL:https://keepkarlsruheboring.org/event/wabi-sabi-gebrochene-schonheit-co
	urse
GEO:49.0085;8.42827
LOCATION:Schrifthof - Gerwigstraße 34\, 76131 Karlsruhe
STATUS:CONFIRMED
CATEGORIES:Art,Course,Registration required,Ticket,Workshop
X-ALT-DESC;FMTTYPE=text/html:<h1>Wabi Sabi – Gebrochene Schönheit</h1><h4>C
	ollage – Blattreste – Bildreste – Schrift – Pinselstriche – Farbwalzen</h4
	><p></p><p>Beschreibung in Wikipedia:</p><blockquote><p>Ursprünglich bedeu
	tet&nbsp;<em>Wabi</em>&nbsp;sich elend, einsam und verloren zu fühlen. Die
	s wandelte sich zur Freude an der Herbheit des Einsam-Stillen. Aber erst i
	n der Verbindung mit&nbsp;<em>Sabi</em>, alt sein, Patina zeigen, über Rei
	fe verfügen, entstand die eigentlich nicht übersetzbare Begriffseinheit, d
	ie den Maßstab der japanischen Kunstbewertung bildet. Nicht die offenkundi
	ge Schönheit ist das Höchste, sondern die verhüllte, nicht der unmittelbar
	e Glanz der Sonne, sondern der gebrochene des Mondes. Der bemooste Fels, d
	as grasbewachsene Strohdach, die knorrige Kiefer, der leicht berostete Tee
	kessel, das und Ähnliches sind die Symbole dieses Schönheitsideals. Es geh
	t um die Hoheit, die sich in der Hülle des Unscheinbaren verbirgt, die her
	be Schlichtheit, die dem Verstehenden doch alle Reize des Schönen offenbar
	en.</p></blockquote><p>In diesem Kurs entstehen großformtike Bilder (Poste
	r), die an abgerissene Plakatwände erinnern könnten. Wir reißen, kleben, c
	ollagieren, schreiben, überpinseln usw.</p><p><strong>Termin:</strong> Fr.
	 und Sa. 19.-20. September 2025 <br><strong>Zeit:</strong> Fr.. 17 bis 21 
	Uhr, Sa. 11 bis 17 Uhr<br><strong>Ort:</strong> Alter Laden, Gerwigstr. 34
	, 76131 Karlsruhe <br><strong>Teilnehmerzahl:</strong> max. 6 <br><strong>
	Gebühr:</strong> 190 € (Mitglieder 160,- €) inkl. Materialkosten</p><p>Hie
	r geht´s zur <a href="https://schrifthof.de/kurse-workshops/anmelden-kurse
	" target="_blank">Anmeldung</a></p>
BEGIN:VALARM
ACTION:DISPLAY
DESCRIPTION:Wabi Sabi – Gebrochene Schönheit [Course, 160 - 190 €]
TRIGGER:-PT1H
END:VALARM
END:VEVENT
END:VCALENDAR
