BEGIN:VCALENDAR
VERSION:2.0
CALSCALE:GREGORIAN
PRODID:adamgibbons/ics
METHOD:PUBLISH
X-PUBLISHED-TTL:PT1H
BEGIN:VEVENT
UID:1217@keepkarlsruheboring.org
SUMMARY:Was Bleibt II
DTSTAMP:20260423T102209Z
DTSTART:20260814T220000Z
DESCRIPTION:More Infos tba
URL:https://keepkarlsruheboring.org/event/was-bleibt-ii
GEO:48.989;8.37185
LOCATION:P8 - Schauenburgstraße 5\, 76135 Karlsruhe
STATUS:CONFIRMED
CATEGORIES:
X-ALT-DESC;FMTTYPE=text/html:<p>More Infos tba</p>
BEGIN:VALARM
ACTION:DISPLAY
DESCRIPTION:Was Bleibt II
TRIGGER:-PT1H
END:VALARM
END:VEVENT
END:VCALENDAR
