BEGIN:VCALENDAR
VERSION:2.0
CALSCALE:GREGORIAN
PRODID:adamgibbons/ics
METHOD:PUBLISH
X-PUBLISHED-TTL:PT1H
BEGIN:VEVENT
UID:138@keepkarlsruheboring.org
SUMMARY:was bleibt - screamo festival [15 - 25 € ]
DTSTAMP:20260423T104911Z
DTSTART:20250802T150000Z
DESCRIPTION:𝘄𝗮𝘀 𝗯𝗹𝗲𝗶𝗯𝘁 ist ein DIY Screamo Festival\, welches am 2. August 
	2025 im\nP8 in Karlsruhe stattfindet - ein Tag voll feinstem noisigem Geba
	ller\,\nleidenschaftlichem Gekreische\, veganer Essensstände und vielleich
	t einer\nklitzekleinen Aftershow.\n\nTickets:\n\n/\\ 𝗕𝗔𝗡𝗗𝗦 /\\\n\njota (GE
	R) | jota-band.bandcamp.com [http://jota-band.bandcamp.com]\nkonoha (ITA) 
	| konohaskramz.bandcamp.com [http://konohaskramz.bandcamp.com]\nsoastasphr
	enas (GER) | soastasphrenas.bandcamp.com\n[http://soastasphrenas.bandcamp.
	com]\ni practice saying sorry to you so i can do it in front of the mirror
	 one day\n(GER) | ipracticesayingsorry.bandcamp.com\n[http://ipracticesayi
	ngsorry.bandcamp.com]\nbymyside (ITA) | bymyside.bandcamp.com [http://bymy
	side.bandcamp.com]\nim wasser (GER) | imwasser.bandcamp.com [http://imwass
	er.bandcamp.com]\n\nDie Inspiration für das Festival waren unsere Gedanken
	 über die sich verändernde\nKulturlandschaft\, den Verlust geliebter Räume
	 und Zeiten\, aber auch der\nverheißungsvolle Funken einer helleren Zukunf
	t\, die man gemeinsam mit guten\nFreund:innen gestalten und verbringen kan
	n. Da wir im DIY-Kontext verwurzelt\nsind und eine ungefähre Vorstellung d
	avon haben\, wie die Dinge abseits vom\nabsurd entfesselten Kommerz sein k
	önnten\, haben wir uns entschieden\, dies mit\nunserer Liebe zu leidenscha
	ftlichem und rohem Screamo zu verbinden. Danse\nMacabre fasste all diese G
	efühle bereits 2002 in Textzeilen:\n\nWas bleibt:\n\n"Verzweiflung schreit
	 tiefe Wunden und blutet Tränen.\n\nDie Zeit drängt. So nimmt Veränderung 
	ihren Lauf - oft viel zu schnell.\n\nWas bleibt sind Erinnerungen und die 
	Hoffnung auf neue\, ähnlich schöne Momente."\n\n[Danse Macabre\, 2002]\n\n
	Wir verstehen uns als links und sind gegen jede Art von Unterdrückung und\
	nDiskriminierung aufgrund von Ethnie\, Geschlecht\, Identität\, Religion\,
	 Glauben\,\nKörper oder sozialem Status. Wenn du damit nicht einverstanden
	 bist\, bist du\nnicht willkommen!\n\n𝗦𝗲𝗶𝗱 𝗽𝗼𝗹𝗶𝘁𝗶𝘀𝗰𝗵\, 𝘀𝗲𝗶𝗱 𝗿𝗮𝗱𝗶𝗸𝗮𝗹\, 𝘀𝗲𝗶𝗱
	\n𝗲𝗺𝗼𝘃𝗶𝗼𝗹𝗲𝗻𝘁... 𝗮𝘂ß𝗲𝗿𝗱𝗲𝗺: 𝗸𝗼𝗺𝗺𝘁 𝘇𝘂𝗺 𝗙𝗲𝘀𝘁 <3\n\nWir haben unsere Ticketprei
	se in drei Kategorien gestaffelt um möglichst vielen\nMenschen den Zugang 
	zum Fest zu ermöglichen. Zahl soviel du kannst.\n\nAlle drei Kategorien la
	ssen sich über die Vorverkaufsseite vom P8 bestellen\n(tickets.p-acht.org 
	[http://tickets.p-acht.org]). Der VVK hilft uns enorm das\nFest besser zu 
	planen - wenn es dir also möglich ist das Ticket im Voraus zu\nkaufen\, wä
	ren wir seeeehr dankbar.\n\n15EUR // 20EUR // 25EUR\n\n𝗜𝗠 𝗪𝗔𝗦𝗦𝗘𝗥\n\nIn Sch
	erben und doch erträglich...\n\nIm Wasser erschaffen ein Geflecht aus tief
	gehendem Post-Rock\, der in\nmelancholischen Weiten schwebt\, durchzogen v
	on intensiven Screamo-Ausbrüchen\nderen teilweise Spoken-Word-Vocals einen
	 Dialog zwischen Verzweiflung und\nHoffnung zulassen.\n\nNeben der ständig
	en Leere und dem Ins-Wanken-Geraten ebendieser fragilen\nHoffnung erschaff
	en Im Wasser eine ganz besondere Intensität\, die uns anhält\ninnezuhalten
	\, nachzudenken\, loszulassen\, aufzugeben\, gemeinsam durchzuhalten.\n\n[
	„Am Ende nur Stille\, die bleibt.“]\n\n\n\n[„Life is neither a curse nor a
	 blessing“ from Genderless Clones Of Games Show\nHosts]\n\n𝗞𝗢𝗡𝗢𝗛𝗔\n\n„…con
	 un buco nel petto – with a hole in my chest.“\n\nKonoha tragen diesen Sch
	merz offen vor sich her.\n\nDas Quintett aus Modena steht exemplarisch für
	 eine neue Welle italienischer\nScreamo-Bands\, die mit roher Intensität u
	nd emotionaler Tiefe berührt. Schnelle\,\nsich überstürzende Ausbrüche tre
	ffen auf verspielte\, fast zerbrechliche Momente.\nDer italienischsprachig
	e Gesang verstärkt dabei die Dringlichkeit ihrer Musik –\nunmittelbar\, in
	tensiv und voller Verletzlichkeit. Eine Musik\, die nicht auf\nAbstand ble
	ibt\, sondern sich mitten ins Herz bohrt.\n\nEin Loch in der Brust – und d
	och so viel Gefühl darin.\n\n𝗜 𝗣𝗥𝗔𝗖𝗧𝗜𝗖𝗘 𝗦𝗔𝗬𝗜𝗡𝗚 𝗦𝗢𝗥𝗥𝗬 𝗧𝗢 𝗬𝗢𝗨 𝗦𝗢 𝗜 𝗖𝗔𝗡 𝗗𝗢 𝗜𝗧
	\n𝗜𝗡 𝗙𝗥𝗢𝗡𝗧 𝗢𝗙 𝗧𝗛𝗘 𝗠𝗜𝗥𝗥𝗢𝗥 𝗢𝗡𝗘 𝗗𝗔𝗬\n\nJuhu\, endlich mal wieder eine Band mi
	t langem Namen. Damit ist alles gesagt.\nFast. IPSSTYSICDIIFOTM aus Leipzi
	g spielt Skramz mit typisch roughem Soundgewand\nund erinnert stark an Sze
	neheld:innen wie Your Arms Are My Cocoon. Mit ihrem im\nvergangenen Februa
	r veröffentlichtem Debüt\, das nur so vor Szenecharme sprüht\,\nhaben wir 
	eine sehr junge Band dabei\, deren Texte in insgesamt 6 verschiedenen\nSpr
	achen gesungen\, geschrien\, gekeift werden. Ihre Musik ist ein intensives
	 und\nfesselndes Geflecht aus Schmerz und Hoffnung\, das immer wieder die 
	Frage nach\nder eigenen Bedeutung im endlosen Wirbel der Welt stellt. „liv
	e - laugh - love.“\n\nOb sie auch das berühmte Cover des Covers des Covers
	 in der Eigeninterpretation\nspielen werden? (U’ll know when u know…)\n\n„
	No more you\, no more me\, there would be only us.“\n\n𝗝𝗢𝗧𝗔\n\nJOTA entfes
	seln einen Sound\, der keine Kompromisse kennt:  (Post-)Hardcore\, der\nun
	ter die Haut geht.  Atmosphärische Passagen\, die in die Tiefe ziehen\, \n
	durchzogen von fragilen und treibenden Elementen des Screamo und Black Met
	al.\n\nIhre Musik ist ein Spiegelbild der menschlichen Erfahrung –  von Ve
	rlust und\nSehnsucht bis hin zu der Erkenntnis\,  dass nichts im Leben von
	 Dauer ist.\n\nJota vereinen bleibende Leere mit Schmerz und Hoffnung. Let
	’s suffer together. \n"There is nothing left to feel\, nothing left to say
	."\n\n𝗦𝗢𝗔𝗦𝗧𝗔𝗦𝗣𝗛𝗥𝗘𝗡𝗔𝗦\n\n„This is going to hurt“… Soastasphrenas entfesseln
	 eine traurige und zugleich\nbrutale Komplexität\, die zwischen düsteren\,
	 chaotischen\, wegwalzenden\, eruptiven\nund nihilistischen\, (selbst) auf
	gebenden\, fragilen\, fast verstörend intimen\nParts oszilliert.\n\nDüster
	nis trifft auf Ekstase – ihre Musik ist kathartisch und kompromisslos:\nje
	de Wendung ein Sturz\, jeder Break eine Entladung\, jeder Schrei ein Warns
	ignal.\n\nSoastasphrenas sind keine Band zum Nebenbei-Hören. Sie sind ein 
	Erlebnis\, das\ndich zerlegt und neu zusammensetzt.\n\nUnd ja – es wird we
	htun…\n\n𝗕𝗬𝗠𝗬𝗦𝗜𝗗𝗘\n\nBymyside tränken Leid\, Wut und Verzweiflung in das I
	nnehalten\, das\nWiederaufstehen und die zarte Hoffnung\, nicht wieder in 
	den freien Fall zu\nstürzen.  Schnelle\, sägende Klänge treffen auf unters
	chwellige Melodien\, die an\ndie Oberfläche gespült werden – dazwischen ei
	ne Atmosphäre\, die so viel von der\nEssenz des italienischen Screamos in 
	sich trägt. OMG\, diese Band schafft es\, das\nwilde Herz des Genres in ei
	ner Weise zu entfalten\, die dich mit jeder Note\nergreift und gleichzeiti
	g zerreißt.\n\n„Affogare\, risalire\, ricadere“ – ertrinken\, aufstehen un
	d wieder hinfallen.\n\nIhre Musik scheint die ewige Bewegung einer Existen
	z zu beschreiben\, die\nzwischen einer langsam und unaufhaltsam verblassen
	den Vergangenheit und einer\ngetrübten sowie hoffnungslosen Zukunft balanc
	iert.\n\n𝗲𝗻𝗴𝗹𝗶𝘀𝗵:\n\nwas bleibt fest is a DIY screamo festival taking plac
	e on August 2nd\, 2025 in\nthe P8 in Karlsruhe\n\none day of pure noisy bl
	iss\, emotional shouting\, vegan food stands and a little\nbit of aftersho
	w.\n\n/\\ 𝗕𝗔𝗡𝗗𝗦 /\\\n\njota (GER) | jota-band.bandcamp.com [http://jota-ba
	nd.bandcamp.com]\n\nkonoha (ITA) | konohaskramz.bandcamp.com [http://konoh
	askramz.bandcamp.com]\n\nsoastasphrenas (GER) | soastasphrenas.bandcamp.co
	m\n[http://soastasphrenas.bandcamp.com]\n\ni practice saying sorry to you 
	so i can do it in front of the mirror one day\n(GER) | ipracticesayingsorr
	y.bandcamp.com\n[http://ipracticesayingsorry.bandcamp.com]\n\nbymyside (IT
	A) | bymyside.bandcamp.com [http://bymyside.bandcamp.com]\n\nim wasser (GE
	R) | imwasser.bandcamp.com [http://imwasser.bandcamp.com]\n\nthe inspirati
	on for the festival were our thoughts about the changing cultural\nlandsca
	pe\, the loss of beloved spaces and times\, but also the promising spark o
	f\na brighter future\, which can be formed and spent together with good fr
	iends.\nbeing rooted in a DIY context and having an idea of how things mig
	ht be apart\nfrom the grinding brainrot of commercialization\, we decided 
	to combine this with\nour love of passionate and harsh hardcore music. dan
	se macabre formed all these\nfeelings into words back in 2002:\n\n𝘄𝗮𝘀 𝗯𝗹𝗲𝗶
	𝗯𝘁:\n\n"verzweiflung schreit tiefe wunden und blutet tränen.\n\ndie zeit d
	rängt. so nimmt veränderung ihren lauf - oft viel zu schnell.\n\nwas bleib
	t sind erinnerungen und die hoffnung auf neue\, ähnlich schöne momente."\n
	\n[danse macabre\, 2002]\n\n𝘄𝗵𝗮𝘁 𝗿𝗲𝗺𝗮𝗶𝗻𝘀:\n\n“despair cries out deep wound
	s and bleeds tears.\n\ntime is pressing. so change takes its course - ofte
	n far too quickly.\n\nwhat remains are memories and the hope for new\, sim
	ilarly beautiful moments.”\n\n[danse macabre\, 2002]\n\nwe consider oursel
	ves left wing and are against all kinds of oppression and\ndiscrimination 
	because of race\, gender\, sex\, identity\, religion\, belief\, body or\ns
	ocial status. if you disagree\, you are not welcome!\n\nbe political\, be 
	radical\, be emoviolencial... also: come to the fest <3\n\nWe have divided
	 our ticket prices into three categories to give as many people\nas possib
	le access to the festival. Pay as much as you can.\n\nAll three categories
	 can be ordered via the P8 presale page (tickets.p-acht.org\n[http://ticke
	ts.p-acht.org]). The presale helps us to plan the festival better -\nso if
	 you are able to buy the ticket in advance\, we would be super very\ngrate
	ful.\n\n15EUR // 20EUR // 25EUR\n\n𝗜𝗠 𝗪𝗔𝗦𝗦𝗘𝗥\n\nIn shards and yet bearable
	….\n\nIm Wasser create a web of profound post-rock that floats in melancho
	lic\nexpanses\, interspersed with intense screamo outbursts whose partly s
	poken-word\nvocals allow for a dialog between despair and hope.\n\nIn addi
	tion to the constant emptiness and the wavering of this very fragile\nhope
	\, Im Wasser create a special intensity that forces us to pause\, reflect\
	, let\ngo\, give up and persevere together.\n\n"Kann nicht trauern\, nur h
	offen\, dass das nicht so bleibt."\n\n[„Am Ende nur Stille\, die bleibt.“ 
	from Und doch erträglich]\n\n𝗞𝗢𝗡𝗢𝗛𝗔\n\n“...con un buco nel petto - with a 
	hole in my chest.”\n\nKonoha carry this pain openly in front of them.\n\nT
	he quintet from Modena is exemplary of a new tide of Italian screamo bands
	 that\ntouch with raw intensity and emotional depth. Fast\, rushing meet w
	ith playful\,\nalmost fragile moments. The Italian-language vocals reinfor
	ce the urgency of\ntheir music - immediate\, intense and full of vulnerabi
	lity. Music that does not\nremain at a distance\, but drills right into th
	e heart. A hole in the chest - and\nyet so much feeling inside.\n\n„guardo
	 il soffitto con un buco nel petto“ (I look at the ceiling with a hole in\
	nmy chest)\n\n𝗜 𝗣𝗥𝗔𝗖𝗧𝗜𝗖𝗘 𝗦𝗔𝗬𝗜𝗡𝗚 𝗦𝗢𝗥𝗥𝗬 𝗧𝗢 𝗬𝗢𝗨 𝗦𝗢 𝗜 𝗖𝗔𝗡 𝗗𝗢 𝗜𝗧\n𝗜𝗡 𝗙𝗥𝗢𝗡𝗧 𝗢𝗙 𝗧
	𝗛𝗘 𝗠𝗜𝗥𝗥𝗢𝗥 𝗢𝗡𝗘 𝗗𝗔𝗬\n\nYay\, finally a band with a long name again. That say
	s it all. Almost.\nIPSSTYSICDIIFOTM from Leipzig play skramz with a typica
	lly raw sound and are\nstrongly reminiscent of scene heroes like Your Arms
	 Are My Cocoon. With their\ndebut album released last February\, which is 
	bursting with scene charm\, we have\na very young band with us\, whose lyr
	ics are sung\, shouted and nagged in a total\nof 6 different languages. Th
	eir music is an intense and captivating weave of\npain and hope that const
	antly raises the question of one's own meaning in the\nendless whirl of th
	e world. live - laugh - love.\n\nWill they also play the famous cover of t
	he cover of the cover in their own\ninterpretation? (U'll know when u know
	...)\n\n„No more you\, no more me\, there would be only us.“\n\n𝗝𝗢𝗧𝗔\n\nJO
	TA unleash a sound that knows no compromise:\n\n(post-)hardcore that gets 
	under your skin. Atmospheric passages that draw you\ninto the depths\, int
	erspersed with fragile and driving elements of screamo and\nblack metal.\n
	\nTheir music is a reflection of the human experience - from loss and long
	ing to\nthe realization that nothing in life is permanent.\n\nJota unite l
	asting emptiness with pain and hope. Let's suffer together.  “There\nis no
	thing left to feel\, nothing left to say.”\n\n𝗦𝗢𝗔𝗦𝗧𝗔𝗦𝗣𝗛𝗥𝗘𝗡𝗔𝗦\n\n“This is g
	oing to hurt” – Soastasphrenas unleash a sad yet brutal complexity\nthat o
	scillates between darkness\, chaos\, crushing heaviness\, eruptive bursts\
	,\nand nihilistic surrender.\n\nMoments of fragility and disturbingly inti
	mate calm clash with violent\ncatharsis.\n\nDarkness meets ecstasy – their
	 sound is uncompromising: every turn a collapse\,\nevery break a release\,
	 every scream a warning.\n\nSoastasphrenas aren't background noise – they'
	re a full-body experience that\nshatters and reassembles you.\n\nAnd yes –
	 it’s going to hurt.\n\n𝗕𝗬𝗠𝗬𝗦𝗜𝗗𝗘\n\nBymyside soak sorrow\, anger\, and des
	pair into moments of stillness\, rising\nagain\, and the fragile hope of n
	ot falling again.\n\nFast\, sawing riffs collide with underlying melodies 
	that surface with urgency –\nbetween them\, an atmosphere that carries the
	 essence of Italian screamo. OMG\,\nthis band brings the wild heart of the
	 genre to life in a way that grips and\nshatters with every note.\n\n"Affo
	gare\, risalire\, ricadere" – drown\, rise\, fall again.\n\nTheir music ca
	ptures the eternal motion of existence\, balancing between a fading\npast 
	and a dark\, uncertain future.
URL:https://keepkarlsruheboring.org/event/was-bleibt-screamo-festival-15-25
	-euro
GEO:48.989;8.37185
LOCATION:P8 - Schauenburgstraße 5\, 76135 Karlsruhe
STATUS:CONFIRMED
CATEGORIES:Festival,Music,Ticket
X-ALT-DESC;FMTTYPE=text/html:<p>𝘄𝗮𝘀 𝗯𝗹𝗲𝗶𝗯𝘁 ist ein DIY Screamo Festival, we
	lches am 2. August 2025 im P8 in Karlsruhe stattfindet - ein Tag voll fein
	stem noisigem Geballer, leidenschaftlichem Gekreische, veganer Essensständ
	e und vielleicht einer klitzekleinen Aftershow.</p><p>Tickets:</p><p>/\ 𝗕𝗔
	𝗡𝗗𝗦 /\</p><p>jota (GER) | <a href="http://jota-band.bandcamp.com" target="
	_blank">jota-band.bandcamp.com</a><br>konoha (ITA) | <a href="http://konoh
	askramz.bandcamp.com" target="_blank">konohaskramz.bandcamp.com</a><br>soa
	stasphrenas (GER) | <a href="http://soastasphrenas.bandcamp.com" target="_
	blank">soastasphrenas.bandcamp.com</a><br>i practice saying sorry to you s
	o i can do it in front of the mirror one day (GER) | <a href="http://iprac
	ticesayingsorry.bandcamp.com" target="_blank">ipracticesayingsorry.bandcam
	p.com</a><br>bymyside (ITA) | <a href="http://bymyside.bandcamp.com" targe
	t="_blank">bymyside.bandcamp.com</a><br>im wasser (GER) | <a href="http://
	imwasser.bandcamp.com" target="_blank">imwasser.bandcamp.com</a></p><p>Die
	 Inspiration für das Festival waren unsere Gedanken über die sich veränder
	nde Kulturlandschaft, den Verlust geliebter Räume und Zeiten, aber auch de
	r verheißungsvolle Funken einer helleren Zukunft, die man gemeinsam mit gu
	ten Freund:innen gestalten und verbringen kann. Da wir im DIY-Kontext verw
	urzelt sind und eine ungefähre Vorstellung davon haben, wie die Dinge abse
	its vom absurd entfesselten Kommerz sein könnten, haben wir uns entschiede
	n, dies mit unserer Liebe zu leidenschaftlichem und rohem Screamo zu verbi
	nden. Danse Macabre fasste all diese Gefühle bereits 2002 in Textzeilen:</
	p><p>Was bleibt:</p><p>"Verzweiflung schreit tiefe Wunden und blutet Träne
	n.</p><p>Die Zeit drängt. So nimmt Veränderung ihren Lauf - oft viel zu sc
	hnell.</p><p>Was bleibt sind Erinnerungen und die Hoffnung auf neue, ähnli
	ch schöne Momente."</p><p>[Danse Macabre, 2002]</p><p>Wir verstehen uns al
	s links und sind gegen jede Art von Unterdrückung und Diskriminierung aufg
	rund von Ethnie, Geschlecht, Identität, Religion, Glauben, Körper oder soz
	ialem Status. Wenn du damit nicht einverstanden bist, bist du nicht willko
	mmen!</p><p>𝗦𝗲𝗶𝗱 𝗽𝗼𝗹𝗶𝘁𝗶𝘀𝗰𝗵, 𝘀𝗲𝗶𝗱 𝗿𝗮𝗱𝗶𝗸𝗮𝗹, 𝘀𝗲𝗶𝗱 𝗲𝗺𝗼𝘃𝗶𝗼𝗹𝗲𝗻𝘁... 𝗮𝘂ß𝗲𝗿𝗱𝗲𝗺: 𝗸𝗼𝗺
	𝗺𝘁 𝘇𝘂𝗺 𝗙𝗲𝘀𝘁 &lt;3</p><p>Wir haben unsere Ticketpreise in drei Kategorien g
	estaffelt um möglichst vielen Menschen den Zugang zum Fest zu ermöglichen.
	 Zahl soviel du kannst.</p><p>Alle drei Kategorien lassen sich über die Vo
	rverkaufsseite vom P8 bestellen (<a href="http://tickets.p-acht.org" targe
	t="_blank">tickets.p-acht.org</a>). Der VVK hilft uns enorm das Fest besse
	r zu planen - wenn es dir also möglich ist das Ticket im Voraus zu kaufen,
	 wären wir seeeehr dankbar.</p><p>15EUR // 20EUR // 25EUR</p><p>𝗜𝗠 𝗪𝗔𝗦𝗦𝗘𝗥<
	/p><p>In Scherben und doch erträglich...</p><p>Im Wasser erschaffen ein Ge
	flecht aus tiefgehendem Post-Rock, der in melancholischen Weiten schwebt, 
	durchzogen von intensiven Screamo-Ausbrüchen deren teilweise Spoken-Word-V
	ocals einen Dialog zwischen Verzweiflung und Hoffnung zulassen.</p><p>Nebe
	n der ständigen Leere und dem Ins-Wanken-Geraten ebendieser fragilen Hoffn
	ung erschaffen Im Wasser eine ganz besondere Intensität, die uns anhält in
	nezuhalten, nachzudenken, loszulassen, aufzugeben, gemeinsam durchzuhalten
	.</p><p>[„Am Ende nur Stille, die bleibt.“]</p><p></p><p>[„Life is neither
	 a curse nor a blessing“ from Genderless Clones Of Games Show Hosts]</p><p
	>𝗞𝗢𝗡𝗢𝗛𝗔</p><p>„…con un buco nel petto – with a hole in my chest.“</p><p>Ko
	noha tragen diesen Schmerz offen vor sich her.</p><p>Das Quintett aus Mode
	na steht exemplarisch für eine neue Welle italienischer Screamo-Bands, die
	 mit roher Intensität und emotionaler Tiefe berührt. Schnelle, sich überst
	ürzende Ausbrüche treffen auf verspielte, fast zerbrechliche Momente. Der 
	italienischsprachige Gesang verstärkt dabei die Dringlichkeit ihrer Musik 
	– unmittelbar, intensiv und voller Verletzlichkeit. Eine Musik, die nicht 
	auf Abstand bleibt, sondern sich mitten ins Herz bohrt.</p><p>Ein Loch in 
	der Brust – und doch so viel Gefühl darin.</p><p>𝗜 𝗣𝗥𝗔𝗖𝗧𝗜𝗖𝗘 𝗦𝗔𝗬𝗜𝗡𝗚 𝗦𝗢𝗥𝗥𝗬 𝗧
	𝗢 𝗬𝗢𝗨 𝗦𝗢 𝗜 𝗖𝗔𝗡 𝗗𝗢 𝗜𝗧 𝗜𝗡 𝗙𝗥𝗢𝗡𝗧 𝗢𝗙 𝗧𝗛𝗘 𝗠𝗜𝗥𝗥𝗢𝗥 𝗢𝗡𝗘 𝗗𝗔𝗬</p><p>Juhu, endlich ma
	l wieder eine Band mit langem Namen. Damit ist alles gesagt. Fast. IPSSTYS
	ICDIIFOTM aus Leipzig spielt Skramz mit typisch roughem Soundgewand und er
	innert stark an Szeneheld:innen wie Your Arms Are My Cocoon. Mit ihrem im 
	vergangenen Februar veröffentlichtem Debüt, das nur so vor Szenecharme spr
	üht, haben wir eine sehr junge Band dabei, deren Texte in insgesamt 6 vers
	chiedenen Sprachen gesungen, geschrien, gekeift werden. Ihre Musik ist ein
	 intensives und fesselndes Geflecht aus Schmerz und Hoffnung, das immer wi
	eder die Frage nach der eigenen Bedeutung im endlosen Wirbel der Welt stel
	lt. „live - laugh - love.“</p><p>Ob sie auch das berühmte Cover des Covers
	 des Covers in der Eigeninterpretation spielen werden? (U’ll know when u k
	now…)</p><p>„No more you, no more me, there would be only us.“</p><p>𝗝𝗢𝗧𝗔<
	/p><p>JOTA entfesseln einen Sound, der keine Kompromisse kennt:  (Post-)Ha
	rdcore, der unter die Haut geht.  Atmosphärische Passagen, die in die Tief
	e ziehen,  durchzogen von fragilen und treibenden Elementen des Screamo un
	d Black Metal.</p><p>Ihre Musik ist ein Spiegelbild der menschlichen Erfah
	rung –  von Verlust und Sehnsucht bis hin zu der Erkenntnis,  dass nichts 
	im Leben von Dauer ist.</p><p>Jota vereinen bleibende Leere mit Schmerz un
	d Hoffnung. Let’s suffer together.  "There is nothing left to feel, nothin
	g left to say."</p><p>𝗦𝗢𝗔𝗦𝗧𝗔𝗦𝗣𝗛𝗥𝗘𝗡𝗔𝗦</p><p>„This is going to hurt“… Soasta
	sphrenas entfesseln eine traurige und zugleich brutale Komplexität, die zw
	ischen düsteren, chaotischen, wegwalzenden, eruptiven und nihilistischen, 
	(selbst) aufgebenden, fragilen, fast verstörend intimen Parts oszilliert.<
	/p><p>Düsternis trifft auf Ekstase – ihre Musik ist kathartisch und kompro
	misslos: jede Wendung ein Sturz, jeder Break eine Entladung, jeder Schrei 
	ein Warnsignal.</p><p>Soastasphrenas sind keine Band zum Nebenbei-Hören. S
	ie sind ein Erlebnis, das dich zerlegt und neu zusammensetzt.</p><p>Und ja
	 – es wird wehtun… </p><p>𝗕𝗬𝗠𝗬𝗦𝗜𝗗𝗘</p><p>Bymyside tränken Leid, Wut und Ve
	rzweiflung in das Innehalten, das Wiederaufstehen und die zarte Hoffnung, 
	nicht wieder in den freien Fall zu stürzen.  Schnelle, sägende Klänge tref
	fen auf unterschwellige Melodien, die an die Oberfläche gespült werden – d
	azwischen eine Atmosphäre, die so viel von der Essenz des italienischen Sc
	reamos in sich trägt. OMG, diese Band schafft es, das wilde Herz des Genre
	s in einer Weise zu entfalten, die dich mit jeder Note ergreift und gleich
	zeitig zerreißt.</p><p>„Affogare, risalire, ricadere“ – ertrinken, aufsteh
	en und wieder hinfallen.</p><p>Ihre Musik scheint die ewige Bewegung einer
	 Existenz zu beschreiben, die zwischen einer langsam und unaufhaltsam verb
	lassenden Vergangenheit und einer getrübten sowie hoffnungslosen Zukunft b
	alanciert.</p><p>𝗲𝗻𝗴𝗹𝗶𝘀𝗵:</p><p>was bleibt fest is a DIY screamo festival 
	taking place on August 2nd, 2025 in the P8 in Karlsruhe</p><p>one day of p
	ure noisy bliss, emotional shouting, vegan food stands and a little bit of
	 aftershow.</p><p>/\ 𝗕𝗔𝗡𝗗𝗦 /\</p><p>jota (GER) | <a href="http://jota-band
	.bandcamp.com" target="_blank">jota-band.bandcamp.com</a></p><p>konoha (IT
	A) | <a href="http://konohaskramz.bandcamp.com" target="_blank">konohaskra
	mz.bandcamp.com</a></p><p>soastasphrenas (GER) | <a href="http://soastasph
	renas.bandcamp.com" target="_blank">soastasphrenas.bandcamp.com</a></p><p>
	i practice saying sorry to you so i can do it in front of the mirror one d
	ay (GER) | <a href="http://ipracticesayingsorry.bandcamp.com" target="_bla
	nk">ipracticesayingsorry.bandcamp.com</a></p><p>bymyside (ITA) | <a href="
	http://bymyside.bandcamp.com" target="_blank">bymyside.bandcamp.com</a></p
	><p>im wasser (GER) | <a href="http://imwasser.bandcamp.com" target="_blan
	k">imwasser.bandcamp.com</a></p><p>the inspiration for the festival were o
	ur thoughts about the changing cultural landscape, the loss of beloved spa
	ces and times, but also the promising spark of a brighter future, which ca
	n be formed and spent together with good friends. being rooted in a DIY co
	ntext and having an idea of how things might be apart from the grinding br
	ainrot of commercialization, we decided to combine this with our love of p
	assionate and harsh hardcore music. danse macabre formed all these feeling
	s into words back in 2002:</p><p>𝘄𝗮𝘀 𝗯𝗹𝗲𝗶𝗯𝘁:</p><p>"verzweiflung schreit t
	iefe wunden und blutet tränen.</p><p>die zeit drängt. so nimmt veränderung
	 ihren lauf - oft viel zu schnell.</p><p>was bleibt sind erinnerungen und 
	die hoffnung auf neue, ähnlich schöne momente."</p><p>[danse macabre, 2002
	]</p><p>𝘄𝗵𝗮𝘁 𝗿𝗲𝗺𝗮𝗶𝗻𝘀:</p><p>“despair cries out deep wounds and bleeds tear
	s.</p><p>time is pressing. so change takes its course - often far too quic
	kly.</p><p>what remains are memories and the hope for new, similarly beaut
	iful moments.”</p><p>[danse macabre, 2002]</p><p>we consider ourselves lef
	t wing and are against all kinds of oppression and discrimination because 
	of race, gender, sex, identity, religion, belief, body or social status. i
	f you disagree, you are not welcome!</p><p>be political, be radical, be em
	oviolencial... also: come to the fest &lt;3</p><p>We have divided our tick
	et prices into three categories to give as many people as possible access 
	to the festival. Pay as much as you can.</p><p>All three categories can be
	 ordered via the P8 presale page (<a href="http://tickets.p-acht.org" targ
	et="_blank">tickets.p-acht.org</a>). The presale helps us to plan the fest
	ival better - so if you are able to buy the ticket in advance, we would be
	 super very grateful.</p><p>15EUR // 20EUR // 25EUR</p><p>𝗜𝗠 𝗪𝗔𝗦𝗦𝗘𝗥</p><p>
	In shards and yet bearable….</p><p>Im Wasser create a web of profound post
	-rock that floats in melancholic expanses, interspersed with intense screa
	mo outbursts whose partly spoken-word vocals allow for a dialog between de
	spair and hope.</p><p>In addition to the constant emptiness and the waveri
	ng of this very fragile hope, Im Wasser create a special intensity that fo
	rces us to pause, reflect, let go, give up and persevere together.</p><p>"
	Kann nicht trauern, nur hoffen, dass das nicht so bleibt."</p><p>[„Am Ende
	 nur Stille, die bleibt.“ from Und doch erträglich]</p><p>𝗞𝗢𝗡𝗢𝗛𝗔</p><p>“..
	.con un buco nel petto - with a hole in my chest.”</p><p>Konoha carry this
	 pain openly in front of them.</p><p>The quintet from Modena is exemplary 
	of a new tide of Italian screamo bands that touch with raw intensity and e
	motional depth. Fast, rushing meet with playful, almost fragile moments. T
	he Italian-language vocals reinforce the urgency of their music - immediat
	e, intense and full of vulnerability. Music that does not remain at a dist
	ance, but drills right into the heart. A hole in the chest - and yet so mu
	ch feeling inside.</p><p>„guardo il soffitto con un buco nel petto“ (I loo
	k at the ceiling with a hole in my chest)</p><p>𝗜 𝗣𝗥𝗔𝗖𝗧𝗜𝗖𝗘 𝗦𝗔𝗬𝗜𝗡𝗚 𝗦𝗢𝗥𝗥𝗬 𝗧𝗢
	 𝗬𝗢𝗨 𝗦𝗢 𝗜 𝗖𝗔𝗡 𝗗𝗢 𝗜𝗧 𝗜𝗡 𝗙𝗥𝗢𝗡𝗧 𝗢𝗙 𝗧𝗛𝗘 𝗠𝗜𝗥𝗥𝗢𝗥 𝗢𝗡𝗘 𝗗𝗔𝗬</p><p>Yay, finally a ba
	nd with a long name again. That says it all. Almost. IPSSTYSICDIIFOTM from
	 Leipzig play skramz with a typically raw sound and are strongly reminisce
	nt of scene heroes like Your Arms Are My Cocoon. With their debut album re
	leased last February, which is bursting with scene charm, we have a very y
	oung band with us, whose lyrics are sung, shouted and nagged in a total of
	 6 different languages. Their music is an intense and captivating weave of
	 pain and hope that constantly raises the question of one's own meaning in
	 the endless whirl of the world. live - laugh - love.</p><p>Will they also
	 play the famous cover of the cover of the cover in their own interpretati
	on? (U'll know when u know...)</p><p>„No more you, no more me, there would
	 be only us.“</p><p>𝗝𝗢𝗧𝗔</p><p>JOTA unleash a sound that knows no compromi
	se:</p><p>(post-)hardcore that gets under your skin. Atmospheric passages 
	that draw you into the depths, interspersed with fragile and driving eleme
	nts of screamo and black metal.</p><p>Their music is a reflection of the h
	uman experience - from loss and longing to the realization that nothing in
	 life is permanent.</p><p>Jota unite lasting emptiness with pain and hope.
	 Let's suffer together.  “There is nothing left to feel, nothing left to s
	ay.”</p><p>𝗦𝗢𝗔𝗦𝗧𝗔𝗦𝗣𝗛𝗥𝗘𝗡𝗔𝗦</p><p>“This is going to hurt” – Soastasphrenas u
	nleash a sad yet brutal complexity that oscillates between darkness, chaos
	, crushing heaviness, eruptive bursts, and nihilistic surrender.</p><p>Mom
	ents of fragility and disturbingly intimate calm clash with violent cathar
	sis.</p><p>Darkness meets ecstasy – their sound is uncompromising: every t
	urn a collapse, every break a release, every scream a warning.</p><p>Soast
	asphrenas aren't background noise – they're a full-body experience that sh
	atters and reassembles you.</p><p>And yes – it’s going to hurt.</p><p>𝗕𝗬𝗠𝗬
	𝗦𝗜𝗗𝗘</p><p>Bymyside soak sorrow, anger, and despair into moments of stilln
	ess, rising again, and the fragile hope of not falling again.</p><p>Fast, 
	sawing riffs collide with underlying melodies that surface with urgency – 
	between them, an atmosphere that carries the essence of Italian screamo. O
	MG, this band brings the wild heart of the genre to life in a way that gri
	ps and shatters with every note.</p><p>"Affogare, risalire, ricadere" – dr
	own, rise, fall again.</p><p>Their music captures the eternal motion of ex
	istence, balancing between a fading past and a dark, uncertain future.</p>
BEGIN:VALARM
ACTION:DISPLAY
DESCRIPTION:was bleibt - screamo festival [15 - 25 € ]
TRIGGER:-PT1H
END:VALARM
END:VEVENT
END:VCALENDAR
