BEGIN:VCALENDAR
VERSION:2.0
CALSCALE:GREGORIAN
PRODID:adamgibbons/ics
METHOD:PUBLISH
X-PUBLISHED-TTL:PT1H
BEGIN:VEVENT
UID:105@keepkarlsruheboring.org
SUMMARY:Welche Strategie für ein freies Palästina? - Vortrag und Diskussion
DTSTAMP:20260423T104856Z
DTSTART:20250625T170000Z
DESCRIPTION:Wir wollen uns gemeinsam damit beschäftigen\, was wir tun könne
	n\, um Israels\nGenozid und seine Unterstützung durch westliche Staaten zu
	 stoppen\, wie sich die\nPalästinasolidaritätsbewegung dafür organisieren 
	soll\, warum wir für die\nBefreiung ein demokratisches\, säkulares und soz
	ialistisches Palästina brauchen\nund wie wir dahin kommen. Kommt vorbei\, 
	um gemeinsam über die Strategie zu\ndiskutieren!\n
URL:https://keepkarlsruheboring.org/event/welche-strategie-fur-ein-freies-p
	alastina-vortrag-und-diskussion
GEO:49.0008;8.40561
LOCATION:Barrio 137 - Luisenstraße 31\, 76137 Karlsruhe
STATUS:CONFIRMED
CATEGORIES:International Solidarity,Palestina,Politics
X-ALT-DESC;FMTTYPE=text/html:<p>Wir wollen uns gemeinsam damit beschäftigen
	, was wir tun können, um Israels Genozid und seine Unterstützung durch wes
	tliche Staaten zu stoppen, wie sich die Palästinasolidaritätsbewegung dafü
	r organisieren soll, warum wir für die Befreiung ein demokratisches, säkul
	ares und sozialistisches Palästina brauchen und wie wir dahin kommen. Komm
	t vorbei, um gemeinsam über die Strategie zu diskutieren!<br></p>
BEGIN:VALARM
ACTION:DISPLAY
DESCRIPTION:Welche Strategie für ein freies Palästina? - Vortrag und Diskus
	sion
TRIGGER:-PT1H
END:VALARM
END:VEVENT
END:VCALENDAR
