BEGIN:VCALENDAR
VERSION:2.0
CALSCALE:GREGORIAN
PRODID:adamgibbons/ics
METHOD:PUBLISH
X-PUBLISHED-TTL:PT1H
BEGIN:VEVENT
UID:443@keepkarlsruheboring.org
SUMMARY:Wikipedia-Schreibwerkstatt: Medienkünstler:innen sichtbar machen!
DTSTAMP:20260423T104910Z
DTSTART:20251023T140000Z
DTEND:20251024T040000Z
DESCRIPTION:↓↓ English Below ↓↓\n\nEinmal im Monat treffen wir uns\, um Wik
	ipedia zu pflegen und wertvolles Wissen\nfür alle zugänglich zu machen. In
	 unserer Schreibwerkstatt lernen wir\, wie man\nWikipedia-Artikel verfasst
	\, erweitert und bearbeitet. Dabei unterstützt uns die\nBibliothek mit umf
	assenden Recherchemöglichkeiten und Fachwissen.\n\nEgal\, ob ihr neu dabei
	 seid oder schon Erfahrung habt: Wir freuen uns darauf\,\ngemeinsam mit eu
	ch Wikipedia zu bereichern!\n\nDieses Mal \nNachdem wir beim letzten Mal e
	rfolgreich einen Artikel geschrieben und\nveröffentlicht haben\, wollen wi
	r auch diesmal wieder Material über eine\nKünstlerin zur Verfügung stellen
	 und gemeinsam an einem neuen Artikel arbeiten.\nWer möchte\, kann mit uns
	 an diesem Artikel arbeiten oder auch auf eigene\nInitiative Artikel schre
	iben. Es gibt Raum für Fragen und Hilfe.\n \n\nWie Du teilnehmen kannst:\n
	    •    Auf unserer Wikipedia-Projektseite\n[https://xn--medienkunst%20au
	f%20wikipedia:%20gemeinsam%20wissen%20schaffen%20%20%20wikipedia%20zhlt%20
	zu%20den%20bedeutendsten%20informationsquellen%20im%20internet-1nm.xn--%20
	unser%20ziel%20ist%20es\,%20medienknstler:innen%20und%20ihre%20werke%20in%
	20der%20online-enzyklopdie%20sichtbarer%20zu%20machen-jyk81z.xn--%20dafr%2
	0arbeiten%20wir%20gemeinsam%20an%20biografischen%20artikeln%20ber%20knstle
	r:innen%20und%20medienkunstwerke-f0l3dh.xn--%20%20%20monatliche%20schreibw
	erkstatt%20fr%20wikipedia%20%20%20einmal%20im%20monat%20treffen%20wir%20un
	s\,%20um%20wikipedia%20zu%20pflegen%20und%20wertvolles%20wissen%20fr%20all
	e%20zugnglich%20zu%20machen-ptq162avd.%20in%20unserer%20schreibwerkstatt%2
	0lernen%20wir\,%20wie%20man%20wikipedia-artikel%20verfasst\,%20erweitert%2
	0und%20bearbeitet.xn--%20dabei%20untersttzt%20uns%20die%20bibliothek%20mit
	%20umfassenden%20recherchemglichkeiten%20und%20fachwissen-exk66c.%20%20%20
	egal\,%20ob%20ihr%20neu%20dabei%20seid%20oder%20schon%20erfahrung%20habt:%
	20Wir%20freuen%20uns%20darauf\,%20gemeinsam%20mit%20euch%20Wikipedia%20zu%
	20bereichern!%20%C2%A0%20%C2%A0%20Wie%20Du%20teilnehmen%20kannst%20%E2%80%
	A2Auf%20unserer%20Wikipedia-Projektseite%20findest%20Du%20alle%20Details%2
	0zu%20den%20vergangenen%20und%20kommenden%20Schreibwerkst%C3%A4tten\,%20be
	reits%20geschriebene%20Artikel%20und%20woran%20wir%20noch%20arbeiten%20wol
	len.%20%E2%80%A2Zum%20Mitmachen%20ben%C3%B6tigst%20Du%20lediglich%20einen%
	20Laptop.%20%E2%80%A2Melde%20dich%20auf%20der%20Projektseite%20f%C3%BCr%20
	die%20n%C3%A4chsten%20Termine%20an%20%E2%80%93%20oder%20schau%20einfach%20
	spontan%20vorbei.%20%C2%A0%20%C2%A0%20Dieses%20Mal%20...%20wollen%20wir%20
	zu%20den%C2%A0/#100WomanDays%C2%A0beitragen%20und%20neue%20biografische%20
	Artikel%20%C3%BCber%20Medienk%C3%BCnstlerinnen%20und%20ihre%20Werke%20erst
	ellen%20und%20so%20f%C3%BCr%20mehr%20Sichtbarkeit%20sorgen.%20Gemeinsam%20
	sorgen%20wir%20f%C3%BCr%20mehr%20Sichtbarkeit%20und%20f%C3%B6rdern%20die%2
	0Repr%C3%A4sentation%20von%20Frauen%20in%20der%20Wikipedia.%20%C2%A0%20%C2
	%A0%20Hintergrund%20Im%20Rahmen%20des%20Projekts%20%E2%80%9EMedienkunst%20
	auf%20Wikipedia%E2%80%9C%20fand%20am%2024.%20Februar%202024%20unser%20erst
	er%20Edit-a-thon%20im%20ZKM%20statt.%20Seitdem%20treffen%20wir%20uns%20mon
	atlich\,%20um%20biografische%20Artikel%20zu%20erweitern\,%20zu%20ver%C3%B6
	ffentlichen%20und%20neue%20Inhalte%20zu%20erarbeiten.%20Wenn%20Du%20den%20
	ersten%20Edit-a-thon%20verpasst%20hast\,%20ist%20jetzt%20die%20perfekte%20
	Gelegenheit\,%20dabei%20zu%20sein%20und%20Wikipedia%20aktiv%20mitzugestalt
	en!%20%C2%A0%20%C2%A0%20Bleib%20auf%20dem%20Laufenden:%C2%A0%20Melde%20dic
	h%20f%C3%BCr%20unsere%20Mailingliste%C2%A0an%20und%20verpasse%20keine%20Ne
	uigkeiten%20zur%20n%C3%A4chsten%20Wikipedia-Schreibwerkstatt.%20%C2%A0%20%
	C2%A0]\nfindest Du alle Details zu den vergangenen und kommenden Schreibwe
	rkstätten\,\nbereits geschriebene Artikel und woran wir noch arbeiten woll
	en.\n    •    Zum Mitmachen benötigst Du lediglich einen Laptop.\n    •   
	 Melde Dich auf der Projektseite\n[https://de.wikipedia.org/wiki/Wikipedia
	:GLAM/Medienkunst_auf_Wikipedia/Schreibwerkstatt_und_Edit-a-thons#Schreibw
	erkstatt_und_Kurse]\nfür die nächsten Termine an – oder schau einfach spon
	tan vorbei.\n\n\nHintergrund\nWikipedia zählt zu den bedeutendsten Informa
	tionsquellen im Internet. Unser Ziel\nist es\, Medienkünstler:innen und ih
	re Werke in der Online-Enzyklopädie\nsichtbarer zu machen. Im Rahmen des P
	rojekts „Medienkunst auf Wikipedia\n[https://zkm.de/de/projekt/medienkunst
	-auf-wikipedia]“ fand am 24. Februar 2024\nunser erster Edit-a-thon\n[http
	s://zkm.de/de/veranstaltung/2024/02/medienkuenstlerinnen-sichtbar-machen-e
	in-wikipedia-edit-a-thon]\nim ZKM statt. Seitdem treffen wir uns regelmäßi
	g in der\nWikipedia-Schreibwerkstatt\, um gemeinsam an biografischen Artik
	eln über\nKünstler:innen und Medienkunstwerke zu arbeiten.\n\nBleib auf de
	m Laufenden:\nMelde Dich für unsere Mailingliste\n[https://mail.zkm.de/cgi
	-bin/mailman/listinfo/] an und verpasse keine\nNeuigkeiten zur nächsten Wi
	kipedia-Schreibwerkstatt!\n\n\n\n/-/-/\n\nMedia art on Wikipedia: Creating
	 knowledge together\nWikipedia is one of the most important sources of inf
	ormation on the Internet.\nOur goal is to make media artists and their wor
	ks more visible in the online\nencyclopedia. To this end\, we work togethe
	r on biographical articles about\nartists and media artworks.\n\nMonthly w
	riting workshop for Wikipedia\nWe meet once a month to maintain Wikipedia 
	and make valuable knowledge\naccessible to everyone. In our writing worksh
	op\, we learn how to write\, expand\nand edit Wikipedia articles. The libr
	ary supports us with comprehensive research\noptions and specialist knowle
	dge.\n\nWhether you're new or experienced\, we look forward to enriching W
	ikipedia\ntogether with you!\n\nHow you can participate\n   - On our Wikip
	edia project page\n[https://de.wikipedia.org/wiki/Wikipedia:GLAM/Medienkun
	st_auf_Wikipedia/Schreibwerkstatt_und_Edit-a-thons]\nyou will find all the
	 details about past and upcoming writing workshops\,\narticles that have a
	lready been written and what we still want to work on.\n   - All you need 
	to take part is a laptop.\n   - Register on the project page\n[https://de.
	wikipedia.org/wiki/Wikipedia:GLAM/Medienkunst_auf_Wikipedia/Schreibwerksta
	tt_und_Edit-a-thons]\nfor the next dates - or just drop by spontaneously.\
	n\nThis time \nAfter successfully writing and publishing an article last t
	ime\, we want to\nprovide material about an artist again this time and wor
	k together on a new\narticle. Anyone who wants to can work with us on this
	 article or write articles\non their own initiative. There is room for que
	stions and help.\n\nBackground\nAs part of the "Media Art on Wikipedia"\n[
	https://zkm.de/de/projekt/medienkunst-auf-wikipedia] project\, our first\n
	edit-a-thon took place at the ZKM on February 24\, 2024. Since then\, we h
	ave been\nmeeting monthly to expand and publish biographical articles and 
	develop new\ncontent. If you missed the first edit-a-thon\n[https://zkm.de
	/de/veranstaltung/2024/02/medienkuenstlerinnen-sichtbar-machen-ein-wikiped
	ia-edit-a-thon]\,\nnow is the perfect opportunity to join us and actively 
	shape Wikipedia!\n\nStay up to date: \nSign up for our mailing list [https
	://mail.zkm.de/cgi-bin/mailman/listinfo/] and\ndon't miss any news about t
	he next Wikipedia writing workshop.
URL:https://keepkarlsruheboring.org/event/wikipedia-schreibwerkstatt-medien
	kunstlerinnen-sichtbar-machen-2
GEO:49.0013;8.3836
LOCATION:ZKM | Zentrum für Kunst und Medien Karlsruhe - Lorenzstr. 19\, D-7
	6135 Karlsruhe
STATUS:CONFIRMED
CATEGORIES:Art,Technology,Workshop
X-ALT-DESC;FMTTYPE=text/html:<p>↓↓ English Below ↓↓</p><p><strong>Einmal im
	 Monat treffen wir uns, um Wikipedia zu pflegen und wertvolles Wissen für 
	alle zugänglich zu machen. In unserer Schreibwerkstatt lernen wir, wie man
	 Wikipedia-Artikel verfasst, erweitert und bearbeitet. Dabei unterstützt u
	ns die Bibliothek mit umfassenden Recherchemöglichkeiten und Fachwissen.</
	strong></p><p>Egal, ob ihr neu dabei seid oder schon Erfahrung habt: Wir f
	reuen uns darauf, gemeinsam mit euch Wikipedia zu bereichern!<br><br><stro
	ng>Dieses Mal&nbsp;</strong><br>Nachdem wir beim letzten Mal erfolgreich e
	inen Artikel geschrieben und veröffentlicht haben, wollen wir auch diesmal
	 wieder Material über eine Künstlerin zur Verfügung stellen und gemeinsam 
	an einem neuen Artikel arbeiten. Wer möchte, kann mit uns an diesem Artike
	l arbeiten oder auch auf eigene Initiative Artikel schreiben. Es gibt Raum
	 für Fragen und Hilfe.<br>&nbsp;</p><p><strong>Wie Du teilnehmen kannst:</
	strong><br>&nbsp;&nbsp;&nbsp;&nbsp;•&nbsp;&nbsp;&nbsp;&nbsp;Auf unserer <a
	 href="https://xn--medienkunst%20auf%20wikipedia:%20gemeinsam%20wissen%20s
	chaffen%20%20%20wikipedia%20zhlt%20zu%20den%20bedeutendsten%20informations
	quellen%20im%20internet-1nm.xn--%20unser%20ziel%20ist%20es,%20medienknstle
	r:innen%20und%20ihre%20werke%20in%20der%20online-enzyklopdie%20sichtbarer%
	20zu%20machen-jyk81z.xn--%20dafr%20arbeiten%20wir%20gemeinsam%20an%20biogr
	afischen%20artikeln%20ber%20knstler:innen%20und%20medienkunstwerke-f0l3dh.
	xn--%20%20%20monatliche%20schreibwerkstatt%20fr%20wikipedia%20%20%20einmal
	%20im%20monat%20treffen%20wir%20uns,%20um%20wikipedia%20zu%20pflegen%20und
	%20wertvolles%20wissen%20fr%20alle%20zugnglich%20zu%20machen-ptq162avd.%20
	in%20unserer%20schreibwerkstatt%20lernen%20wir,%20wie%20man%20wikipedia-ar
	tikel%20verfasst,%20erweitert%20und%20bearbeitet.xn--%20dabei%20untersttzt
	%20uns%20die%20bibliothek%20mit%20umfassenden%20recherchemglichkeiten%20un
	d%20fachwissen-exk66c.%20%20%20egal,%20ob%20ihr%20neu%20dabei%20seid%20ode
	r%20schon%20erfahrung%20habt:%20Wir%20freuen%20uns%20darauf,%20gemeinsam%2
	0mit%20euch%20Wikipedia%20zu%20bereichern!%20%C2%A0%20%C2%A0%20Wie%20Du%20
	teilnehmen%20kannst%20%E2%80%A2Auf%20unserer%20Wikipedia-Projektseite%20fi
	ndest%20Du%20alle%20Details%20zu%20den%20vergangenen%20und%20kommenden%20S
	chreibwerkst%C3%A4tten,%20bereits%20geschriebene%20Artikel%20und%20woran%2
	0wir%20noch%20arbeiten%20wollen.%20%E2%80%A2Zum%20Mitmachen%20ben%C3%B6tig
	st%20Du%20lediglich%20einen%20Laptop.%20%E2%80%A2Melde%20dich%20auf%20der%
	20Projektseite%20f%C3%BCr%20die%20n%C3%A4chsten%20Termine%20an%20%E2%80%93
	%20oder%20schau%20einfach%20spontan%20vorbei.%20%C2%A0%20%C2%A0%20Dieses%2
	0Mal%20...%20wollen%20wir%20zu%20den%C2%A0/#100WomanDays%C2%A0beitragen%20
	und%20neue%20biografische%20Artikel%20%C3%BCber%20Medienk%C3%BCnstlerinnen
	%20und%20ihre%20Werke%20erstellen%20und%20so%20f%C3%BCr%20mehr%20Sichtbark
	eit%20sorgen.%20Gemeinsam%20sorgen%20wir%20f%C3%BCr%20mehr%20Sichtbarkeit%
	20und%20f%C3%B6rdern%20die%20Repr%C3%A4sentation%20von%20Frauen%20in%20der
	%20Wikipedia.%20%C2%A0%20%C2%A0%20Hintergrund%20Im%20Rahmen%20des%20Projek
	ts%20%E2%80%9EMedienkunst%20auf%20Wikipedia%E2%80%9C%20fand%20am%2024.%20F
	ebruar%202024%20unser%20erster%20Edit-a-thon%20im%20ZKM%20statt.%20Seitdem
	%20treffen%20wir%20uns%20monatlich,%20um%20biografische%20Artikel%20zu%20e
	rweitern,%20zu%20ver%C3%B6ffentlichen%20und%20neue%20Inhalte%20zu%20erarbe
	iten.%20Wenn%20Du%20den%20ersten%20Edit-a-thon%20verpasst%20hast,%20ist%20
	jetzt%20die%20perfekte%20Gelegenheit,%20dabei%20zu%20sein%20und%20Wikipedi
	a%20aktiv%20mitzugestalten!%20%C2%A0%20%C2%A0%20Bleib%20auf%20dem%20Laufen
	den:%C2%A0%20Melde%20dich%20f%C3%BCr%20unsere%20Mailingliste%C2%A0an%20und
	%20verpasse%20keine%20Neuigkeiten%20zur%20n%C3%A4chsten%20Wikipedia-Schrei
	bwerkstatt.%20%C2%A0%20%C2%A0" target="_blank"><strong>Wikipedia-Projektse
	ite</strong></a> findest Du alle Details zu den vergangenen und kommenden 
	Schreibwerkstätten, bereits geschriebene Artikel und woran wir noch arbeit
	en wollen.<br>&nbsp;&nbsp;&nbsp;&nbsp;•&nbsp;&nbsp;&nbsp;&nbsp;Zum Mitmach
	en benötigst Du lediglich einen Laptop.<br>&nbsp;&nbsp;&nbsp;&nbsp;•&nbsp;
	&nbsp;&nbsp;&nbsp;Melde Dich auf der <a href="https://de.wikipedia.org/wik
	i/Wikipedia:GLAM/Medienkunst_auf_Wikipedia/Schreibwerkstatt_und_Edit-a-tho
	ns#Schreibwerkstatt_und_Kurse" target="_blank"><strong>Projektseite</stron
	g></a> für die nächsten Termine an – oder schau einfach spontan vorbei.</p
	><p><br><strong>Hintergrund</strong><br>Wikipedia zählt zu den bedeutendst
	en Informationsquellen im Internet. Unser Ziel ist es, Medienkünstler:inne
	n und ihre Werke in der Online-Enzyklopädie sichtbarer zu machen. Im Rahme
	n des Projekts „<a href="https://zkm.de/de/projekt/medienkunst-auf-wikiped
	ia" target="_blank"><strong>Medienkunst auf Wikipedia</strong></a>“ fand a
	m 24. Februar 2024 unser erster <a href="https://zkm.de/de/veranstaltung/2
	024/02/medienkuenstlerinnen-sichtbar-machen-ein-wikipedia-edit-a-thon" tar
	get="_blank"><strong>Edit-a-thon</strong></a> im ZKM statt. Seitdem treffe
	n wir uns regelmäßig in der Wikipedia-Schreibwerkstatt, um gemeinsam an bi
	ografischen Artikeln über Künstler:innen und Medienkunstwerke zu arbeiten.
	<br><br><strong>Bleib auf dem Laufenden:</strong><br>Melde Dich für unsere
	 <a href="https://mail.zkm.de/cgi-bin/mailman/listinfo/" target="_blank"><
	strong>Mailingliste</strong></a>&nbsp;an und verpasse keine Neuigkeiten zu
	r nächsten Wikipedia-Schreibwerkstatt!</p><p></p><p>/-/-/</p><p><strong>Me
	dia art on Wikipedia: Creating knowledge together</strong><br>Wikipedia is
	 one of the most important sources of information on the Internet. Our goa
	l is to make media artists and their works more visible in the online ency
	clopedia. To this end, we work together on biographical articles about art
	ists and media artworks.<br><br><strong>Monthly writing workshop for Wikip
	edia</strong><br>We meet once a month to maintain Wikipedia and make valua
	ble knowledge accessible to everyone. In our writing workshop, we learn ho
	w to write, expand and edit Wikipedia articles. The library supports us wi
	th comprehensive research options and specialist knowledge.<br><br>Whether
	 you're new or experienced, we look forward to enriching Wikipedia togethe
	r with you!<br><br><strong>How you can participate</strong><br>&nbsp; &nbs
	p;- On our Wikipedia <a href="https://de.wikipedia.org/wiki/Wikipedia:GLAM
	/Medienkunst_auf_Wikipedia/Schreibwerkstatt_und_Edit-a-thons" target="_bla
	nk"><strong>project page</strong></a> you will find all the details about 
	past and upcoming writing workshops, articles that have already been writt
	en and what we still want to work on.<br>&nbsp; &nbsp;- All you need to ta
	ke part is a laptop.<br>&nbsp; &nbsp;- Register on the <a href="https://de
	.wikipedia.org/wiki/Wikipedia:GLAM/Medienkunst_auf_Wikipedia/Schreibwerkst
	att_und_Edit-a-thons" target="_blank"><strong>project page</strong></a> fo
	r the next dates - or just drop by spontaneously.<br><br><strong>This time
	</strong>&nbsp;<br>After successfully writing and publishing an article la
	st time, we want to provide material about an artist again this time and w
	ork together on a new article. Anyone who wants to can work with us on thi
	s article or write articles on their own initiative. There is room for que
	stions and help.</p><p><strong>Background</strong><br>As part of the <a hr
	ef="https://zkm.de/de/projekt/medienkunst-auf-wikipedia" target="_blank"><
	strong>"Media Art on Wikipedia"</strong></a> project, our first edit-a-tho
	n took place at the ZKM on February 24, 2024. Since then, we have been mee
	ting monthly to expand and publish biographical articles and develop new c
	ontent. If you missed the first <a href="https://zkm.de/de/veranstaltung/2
	024/02/medienkuenstlerinnen-sichtbar-machen-ein-wikipedia-edit-a-thon" tar
	get="_blank"><strong>edit-a-thon</strong></a>, now is the perfect opportun
	ity to join us and actively shape Wikipedia!<br><br><strong>Stay up to dat
	e:&nbsp;</strong><br>Sign up for our <a href="https://mail.zkm.de/cgi-bin/
	mailman/listinfo/" target="_blank"><strong>mailing list</strong></a> and d
	on't miss any news about the next Wikipedia writing workshop.</p>
BEGIN:VALARM
ACTION:DISPLAY
DESCRIPTION:Wikipedia-Schreibwerkstatt: Medienkünstler:innen sichtbar mache
	n!
TRIGGER:-PT1H
END:VALARM
END:VEVENT
END:VCALENDAR
