BEGIN:VCALENDAR
VERSION:2.0
CALSCALE:GREGORIAN
PRODID:adamgibbons/ics
METHOD:PUBLISH
X-PUBLISHED-TTL:PT1H
BEGIN:VEVENT
UID:1@keepkarlsruheboring.org
SUMMARY:Wikipedia-Schreibwerkstatt: Medienkünstler:innen sichtbar machen!
DTSTAMP:20260423T104910Z
DTSTART:20250410T140000Z
DTEND:20250410T160000Z
DESCRIPTION:Einmal im Monat treffen wir uns\, um Wikipedia zu pflegen und w
	ertvolles Wissen\nfür alle zugänglich zu machen. In unserer Schreibwerksta
	tt lernen wir\, wie man\nWikipedia-Artikel verfasst\, erweitert und bearbe
	itet. Dabei unterstützt uns die\nBibliothek mit umfassenden Recherchemögli
	chkeiten und Fachwissen.\n\nEgal\, ob ihr neu dabei seid oder schon Erfahr
	ung habt: Wir freuen uns darauf\,\ngemeinsam mit euch Wikipedia zu bereich
	ern!\n\nDieses Mal \nNachdem wir beim letzten Mal erfolgreich einen Artike
	l geschrieben und\nveröffentlicht haben\, wollen wir auch diesmal wieder M
	aterial über eine\nKünstlerin zur Verfügung stellen und gemeinsam an einem
	 neuen Artikel arbeiten.\nWer möchte\, kann mit uns an diesem Artikel arbe
	iten oder auch auf eigene\nInitiative Artikel schreiben. Es gibt Raum für 
	Fragen und Hilfe.\n \n\nWie Du teilnehmen kannst:\n    •    Auf unserer Wi
	kipedia-Projektseite [https://Medienkunst auf Wikipedia:\nGemeinsam Wissen
	 schaffen   Wikipedia zählt zu den bedeutendsten\nInformationsquellen im I
	nternet. Unser Ziel ist es\, Medienkünstler:innen und\nihre Werke in der O
	nline-Enzyklopädie sichtbarer zu machen. Dafür arbeiten wir\ngemeinsam an 
	biografischen Artikeln über Künstler:innen und Medienkunstwerke.  \nMonatl
	iche Schreibwerkstatt für Wikipedia   Einmal im Monat treffen wir uns\, um
	\nWikipedia zu pflegen und wertvolles Wissen für alle zugänglich zu machen
	. In\nunserer Schreibwerkstatt lernen wir\, wie man Wikipedia-Artikel verf
	asst\,\nerweitert und bearbeitet. Dabei unterstützt uns die Bibliothek mit
	 umfassenden\nRecherchemöglichkeiten und Fachwissen.   Egal\, ob ihr neu d
	abei seid oder schon\nErfahrung habt: Wir freuen uns darauf\, gemeinsam mi
	t euch Wikipedia zu\nbereichern!     Wie Du teilnehmen kannst •Auf unserer
	 Wikipedia-Projektseite\nfindest Du alle Details zu den vergangenen und ko
	mmenden Schreibwerkstätten\,\nbereits geschriebene Artikel und woran wir n
	och arbeiten wollen. •Zum Mitmachen\nbenötigst Du lediglich einen Laptop. 
	•Melde dich auf der Projektseite für die\nnächsten Termine an – oder schau
	 einfach spontan vorbei.     Dieses Mal ...\nwollen wir zu den #100WomanDa
	ys beitragen und neue biografische Artikel über\nMedienkünstlerinnen und i
	hre Werke erstellen und so für mehr Sichtbarkeit\nsorgen. Gemeinsam sorgen
	 wir für mehr Sichtbarkeit und fördern die\nRepräsentation von Frauen in d
	er Wikipedia.     Hintergrund Im Rahmen des\nProjekts „Medienkunst auf Wik
	ipedia“ fand am 24. Februar 2024 unser erster\nEdit-a-thon im ZKM statt. S
	eitdem treffen wir uns monatlich\, um biografische\nArtikel zu erweitern\,
	 zu veröffentlichen und neue Inhalte zu erarbeiten. Wenn Du\nden ersten Ed
	it-a-thon verpasst hast\, ist jetzt die perfekte Gelegenheit\, dabei\nzu s
	ein und Wikipedia aktiv mitzugestalten!     Bleib auf dem Laufenden:  Meld
	e\ndich für unsere Mailingliste an und verpasse keine Neuigkeiten zur näch
	sten\nWikipedia-Schreibwerkstatt.] findest Du alle Details zu den vergange
	nen und\nkommenden Schreibwerkstätten\, bereits geschriebene Artikel und w
	oran wir noch\narbeiten wollen.\n    •    Zum Mitmachen benötigst Du ledig
	lich einen Laptop.\n    •    Melde Dich auf der Projektseite\n[https://de.
	wikipedia.org/wiki/Wikipedia:GLAM/Medienkunst_auf_Wikipedia/Schreibwerksta
	tt_und_Edit-a-thons#Schreibwerkstatt_und_Kurse]\nfür die nächsten Termine 
	an – oder schau einfach spontan vorbei.
URL:https://keepkarlsruheboring.org/event/wikipedia-schreibwerkstatt-medien
	kunstlerinnen-sichtbar-machen
GEO:49.0013;8.3836
LOCATION:ZKM | Zentrum für Kunst und Medien Karlsruhe - Lorenzstr. 19\, D-7
	6135 Karlsruhe
STATUS:CONFIRMED
CATEGORIES:Media Art,Wikipedia
X-ALT-DESC;FMTTYPE=text/html:<p>Einmal im Monat treffen wir uns, um Wikiped
	ia zu pflegen und wertvolles Wissen für alle zugänglich zu machen. In unse
	rer Schreibwerkstatt lernen wir, wie man Wikipedia-Artikel verfasst, erwei
	tert und bearbeitet. Dabei unterstützt uns die Bibliothek mit umfassenden 
	Recherchemöglichkeiten und Fachwissen.</p><p>Egal, ob ihr neu dabei seid o
	der schon Erfahrung habt: Wir freuen uns darauf, gemeinsam mit euch Wikipe
	dia zu bereichern!<br><br><strong>Dieses Mal&nbsp;</strong><br>Nachdem wir
	 beim letzten Mal erfolgreich einen Artikel geschrieben und veröffentlicht
	 haben, wollen wir auch diesmal wieder Material über eine Künstlerin zur V
	erfügung stellen und gemeinsam an einem neuen Artikel arbeiten. Wer möchte
	, kann mit uns an diesem Artikel arbeiten oder auch auf eigene Initiative 
	Artikel schreiben. Es gibt Raum für Fragen und Hilfe.<br>&nbsp;</p><p><str
	ong>Wie Du teilnehmen kannst:</strong><br>&nbsp;&nbsp;&nbsp;&nbsp;•&nbsp;&
	nbsp;&nbsp;&nbsp;Auf unserer <a target="_blank" href="https://Medienkunst 
	auf Wikipedia: Gemeinsam Wissen schaffen &nbsp; Wikipedia zählt zu den bed
	eutendsten Informationsquellen im Internet. Unser Ziel ist es, Medienkünst
	ler:innen und ihre Werke in der Online-Enzyklopädie sichtbarer zu machen. 
	Dafür arbeiten wir gemeinsam an biografischen Artikeln über Künstler:innen
	 und Medienkunstwerke. &nbsp; Monatliche Schreibwerkstatt für Wikipedia &n
	bsp; Einmal im Monat treffen wir uns, um Wikipedia zu pflegen und wertvoll
	es Wissen für alle zugänglich zu machen. In unserer Schreibwerkstatt lerne
	n wir, wie man Wikipedia-Artikel verfasst, erweitert und bearbeitet. Dabei
	 unterstützt uns die Bibliothek mit umfassenden Recherchemöglichkeiten und
	 Fachwissen. &nbsp; Egal, ob ihr neu dabei seid oder schon Erfahrung habt:
	 Wir freuen uns darauf, gemeinsam mit euch Wikipedia zu bereichern! &nbsp;
	 &nbsp; Wie Du teilnehmen kannst •Auf unserer Wikipedia-Projektseite finde
	st Du alle Details zu den vergangenen und kommenden Schreibwerkstätten, be
	reits geschriebene Artikel und woran wir noch arbeiten wollen. •Zum Mitmac
	hen benötigst Du lediglich einen Laptop. •Melde dich auf der Projektseite 
	für die nächsten Termine an – oder schau einfach spontan vorbei. &nbsp; &n
	bsp; Dieses Mal ... wollen wir zu den&nbsp;#100WomanDays&nbsp;beitragen un
	d neue biografische Artikel über Medienkünstlerinnen und ihre Werke erstel
	len und so für mehr Sichtbarkeit sorgen. Gemeinsam sorgen wir für mehr Sic
	htbarkeit und fördern die Repräsentation von Frauen in der Wikipedia. &nbs
	p; &nbsp; Hintergrund Im Rahmen des Projekts „Medienkunst auf Wikipedia“ f
	and am 24. Februar 2024 unser erster Edit-a-thon im ZKM statt. Seitdem tre
	ffen wir uns monatlich, um biografische Artikel zu erweitern, zu veröffent
	lichen und neue Inhalte zu erarbeiten. Wenn Du den ersten Edit-a-thon verp
	asst hast, ist jetzt die perfekte Gelegenheit, dabei zu sein und Wikipedia
	 aktiv mitzugestalten! &nbsp; &nbsp; Bleib auf dem Laufenden:&nbsp; Melde 
	dich für unsere Mailingliste&nbsp;an und verpasse keine Neuigkeiten zur nä
	chsten Wikipedia-Schreibwerkstatt.">Wikipedia-Projektseite</a> findest Du 
	alle Details zu den vergangenen und kommenden Schreibwerkstätten, bereits 
	geschriebene Artikel und woran wir noch arbeiten wollen.<br>&nbsp;&nbsp;&n
	bsp;&nbsp;•&nbsp;&nbsp;&nbsp;&nbsp;Zum Mitmachen benötigst Du lediglich ei
	nen Laptop.<br>&nbsp;&nbsp;&nbsp;&nbsp;•&nbsp;&nbsp;&nbsp;&nbsp;Melde Dich
	 auf der <a target="_blank" href="https://de.wikipedia.org/wiki/Wikipedia:
	GLAM/Medienkunst_auf_Wikipedia/Schreibwerkstatt_und_Edit-a-thons#Schreibwe
	rkstatt_und_Kurse">Projektseite</a> für die nächsten Termine an – oder sch
	au einfach spontan vorbei.</p>
BEGIN:VALARM
ACTION:DISPLAY
DESCRIPTION:Wikipedia-Schreibwerkstatt: Medienkünstler:innen sichtbar mache
	n!
TRIGGER:-PT1H
END:VALARM
END:VEVENT
END:VCALENDAR
