BEGIN:VCALENDAR
VERSION:2.0
CALSCALE:GREGORIAN
PRODID:adamgibbons/ics
METHOD:PUBLISH
X-PUBLISHED-TTL:PT1H
BEGIN:VEVENT
UID:485@keepkarlsruheboring.org
SUMMARY:Workshop: Leïla Ka Company– Masterclass [30-45 €]
DTSTAMP:20260423T102255Z
DTSTART:20251116T090000Z
DTEND:20251116T120000Z
DESCRIPTION:a flirt with contemporary dance and theater.\n\nA workshop base
	d on the work of Leïla Ka and her dance piece Maldonne\, in which\nwe free
	ly flirt with contemporary dance and theater.\n\nLevel: Advanced Mastercla
	ss\n\nTeilnahmegebühr: 30 bis 45 Euro je nach eigenen Ressourcen \n\nBitte
	 bringt euch bequeme Kleidung und Wasser mit
URL:https://keepkarlsruheboring.org/event/workshop-leila-ka-company-masterc
	lass
GEO:49.014;8.35771
LOCATION:Tanzareal Karlsruhe - Hardtstraße 37a\, 76185 Karlsruhe
STATUS:CONFIRMED
CATEGORIES:Art,Dance,TANZ Karlsruhe 2025,Tanzfestival 2025,Ticket,Workshop
X-ALT-DESC;FMTTYPE=text/html:<p><strong>a flirt with contemporary dance and
	 theater.</strong></p><p>A workshop based on the work of Leïla Ka and her 
	dance piece Maldonne, in which we freely flirt with contemporary dance and
	 theater.</p><p>Level: <strong>Advanced Masterclass</strong></p><p>Teilnah
	megebühr: 30 bis 45 Euro je nach eigenen Ressourcen&nbsp;</p><p>Bitte brin
	gt euch bequeme Kleidung und Wasser mit</p>
BEGIN:VALARM
ACTION:DISPLAY
DESCRIPTION:Workshop: Leïla Ka Company– Masterclass [30-45 €]
TRIGGER:-PT1H
END:VALARM
END:VEVENT
END:VCALENDAR
