BEGIN:VCALENDAR
VERSION:2.0
CALSCALE:GREGORIAN
PRODID:adamgibbons/ics
METHOD:PUBLISH
X-PUBLISHED-TTL:PT1H
BEGIN:VEVENT
UID:135@keepkarlsruheboring.org
SUMMARY:Workshop Smadar Goshen [35-50€]
DTSTAMP:20260423T102209Z
DTSTART:20250906T090000Z
DTEND:20250906T120000Z
DESCRIPTION:A Gaga class and movement research with smadar Goshen. The move
	ment research\nbased workshop features a Gaga class and improvisation sess
	ion exploring tools\nfor the development of choreographic materials.The se
	ssions offer\nexperimentation with different strategies of turning on our 
	attentiveness to\nphysical experience as well as to our world of fantasy w
	hile moving. Via the\nbody we will evoke the connective pathways between m
	ovement\, sensation and\nmental perception.\n\nThe workshop aims to stimul
	ate creative force and easy body-mind flow. It is\ncreated to connect indi
	viduals with the interest\, passion and unique language of\ntheir body.\n\
	nINFO\n\n * Level: Open. Vorerfahrung in der Tanzimprovisation.\n\n * Ort:
	 TanzAreal Karlsruhe\n\n * Bitte bringt euch bequeme Kleidung und Wasser m
	it\n\n * Teilnahmegebühr: 35-50 Euro je nach eigenen Ressourcen\n\nAnmeldu
	ngen bis zum 30.08.25 an workshop@tanzareal.de
URL:https://keepkarlsruheboring.org/event/workshop-smadar-goshen
GEO:49.014;8.35771
LOCATION:Tanzareal Karlsruhe - Hardtstraße 37a\, 76185 Karlsruhe
STATUS:CONFIRMED
CATEGORIES:Art,Dance,Registration required,Ticket,Workshop
X-ALT-DESC;FMTTYPE=text/html:<p>A Gaga class and movement research with sma
	dar Goshen. The movement research based workshop features a Gaga class and
	 improvisation session exploring tools for the development of choreographi
	c materials.The sessions offer experimentation with different strategies o
	f turning on our attentiveness to physical experience as well as to our wo
	rld of fantasy while moving. Via the body we will evoke the connective pat
	hways between movement, sensation and mental perception.</p><p>The worksho
	p aims to stimulate creative force and easy body-mind flow. It is created 
	to connect individuals with the interest, passion and unique language of t
	heir body.</p><p><strong>INFO</strong></p><ul><li><p>Level: Open. Vorerfah
	rung in der Tanzimprovisation.</p></li><li><p>Ort: TanzAreal Karlsruhe</p>
	</li><li><p>Bitte bringt euch bequeme Kleidung und Wasser mit</p></li><li>
	<p>Teilnahmegebühr: 35-50 Euro je nach eigenen Ressourcen</p></li></ul><p>
	Anmeldungen bis zum 30.08.25 an workshop@tanzareal.de</p>
BEGIN:VALARM
ACTION:DISPLAY
DESCRIPTION:Workshop Smadar Goshen [35-50€]
TRIGGER:-PT1H
END:VALARM
END:VEVENT
END:VCALENDAR
