BEGIN:VCALENDAR
VERSION:2.0
CALSCALE:GREGORIAN
PRODID:adamgibbons/ics
METHOD:PUBLISH
X-PUBLISHED-TTL:PT1H
BEGIN:VEVENT
UID:98@keepkarlsruheboring.org
SUMMARY:Spaziergang durch den Fasanengarten | Encounter Trees – Modena x Ka
	rlsruhe
DTSTAMP:20260423T105017Z
DTSTART:20250629T140000Z
DESCRIPTION:Spaziergang durch den Fasanengarten\n29.06.2025\, 16 Uhr\nEintr
	itt frei / keine Anmeldung erforderlich\n\nIm Rahmen der Ausstellung „Enco
	unter Trees“ lädt Prof. Dr. Hartmut Troll\,\nGartenkonservator bei den Sta
	atlichen Schlösser und Gärten Baden-Württemberg\, zu\neinem besonderen Spa
	ziergang durch den Fasanengarten ein. Gemeinsam erkunden wir\ndiesen gesch
	ichtsträchtigen Landschaftsraum\, der höfische Jagdtradition sowie\nunters
	chiedliche landschaftsarchitektonische Visionen vereint. Als Zeitzeugen\nu
	nd Elemente räumlicher Gestaltung\, eröffnen uns die Bäume den Blick auf d
	ie\nPlanungsideale und historischen Nutzungsschichten im Wandel der Epoche
	n. Ein\nSpaziergang für alle\, die die Beziehung zwischen Mensch\, Natur u
	nd Architektur\nim Fasanengarten erkunden möchten.
URL:https://keepkarlsruheboring.org/event/workshop-solarfotografie-lichtspu
	ren-zwischen-fotografie-und-design-or-encounter-trees-modena-x-karlsruhe-1
GEO:49.0134;8.41286
LOCATION:Fasanenschlösschen - Fasanenschlösschen in the Fasanengarten
STATUS:CONFIRMED
CATEGORIES:City Walk,Media Art,Workshop
X-ALT-DESC;FMTTYPE=text/html:<p><strong>Spaziergang durch den Fasanengarten
	</strong><br><strong>29.06.2025, 16 Uhr<br>Eintritt frei / keine Anmeldung
	 erforderlich</strong></p><p>Im Rahmen der Ausstellung „Encounter Trees“ l
	ädt Prof. Dr. Hartmut Troll, Gartenkonservator bei den Staatlichen Schlöss
	er und Gärten Baden-Württemberg, zu einem besonderen Spaziergang durch den
	 Fasanengarten ein. Gemeinsam erkunden wir diesen geschichtsträchtigen Lan
	dschaftsraum, der höfische Jagdtradition sowie unterschiedliche landschaft
	sarchitektonische Visionen vereint. Als Zeitzeugen und Elemente räumlicher
	 Gestaltung, eröffnen uns die Bäume den Blick auf die Planungsideale und h
	istorischen Nutzungsschichten im Wandel der Epochen. Ein Spaziergang für a
	lle, die die Beziehung zwischen Mensch, Natur und Architektur im Fasanenga
	rten erkunden möchten.</p>
BEGIN:VALARM
ACTION:DISPLAY
DESCRIPTION:Spaziergang durch den Fasanengarten | Encounter Trees – Modena 
	x Karlsruhe
TRIGGER:-PT1H
END:VALARM
END:VEVENT
END:VCALENDAR
