BEGIN:VCALENDAR
VERSION:2.0
CALSCALE:GREGORIAN
PRODID:adamgibbons/ics
METHOD:PUBLISH
X-PUBLISHED-TTL:PT1H
BEGIN:VEVENT
UID:97@keepkarlsruheboring.org
SUMMARY:Workshop Solarfotografie – Lichtspuren zwischen Fotografie und Desi
	gn | Encounter Trees – Modena x Karlsruhe
DTSTAMP:20260423T143506Z
DTSTART:20250705T130000Z
DTEND:20250705T160000Z
DESCRIPTION:Workshop Solarfotografie – Lichtspuren zwischen Fotografie und 
	Design\nEintritt frei / keine Anmeldung erforderlich\n\nIm Rahmen der Auss
	tellung „Encounter Trees“ erkunden wir die Technik der\nSolarfotografie un
	d lassen uns von der Natur und der Umgebung im Fasanengarten\,\nsowie von 
	Cesare Leonardis spielerischem Umgang mit Auslassungen\ninspirieren. Blätt
	er\, Äste und andere natürliche Fundstücke dienen als\nAusgangspunkt für C
	yanotypien – lichtempfindliche Abdrücke\, die wir auf Karton\noder Balsaho
	lz übertragen. Diese Abdrücke bilden die Basis für kreative Reliefs\nund n
	eue Designideen\, die durch minimalistische Formen\, Schatten und Farben\n
	hervorgehoben werden. Im Mittelpunkt stehen sowohl die visuelle Erkundung\
	nnatürlicher Strukturen als auch ein ressourcenbewusster\,\nnachhaltiger G
	estaltungsprozess.\n\nVeranstalter: Urbane Gärten Karlsruhe\n\nWeitere Inf
	ormationen Hier [https://urbanegaerten.org/]\n\n
URL:https://keepkarlsruheboring.org/event/workshop-solarfotografie-lichtspu
	ren-zwischen-fotografie-und-design-or-encounter-trees-modena-x-karlsruhe
GEO:49.0134;8.41286
LOCATION:Fasanenschlösschen - Fasanenschlösschen in the Fasanengarten
STATUS:CONFIRMED
CATEGORIES:Media Art,Photogaphy,Workshop
X-ALT-DESC;FMTTYPE=text/html:<p><strong>Workshop Solarfotografie – Lichtspu
	ren zwischen Fotografie und Design<br>Eintritt frei / keine Anmeldung erfo
	rderlich</strong></p><p>Im Rahmen der Ausstellung&nbsp;„Encounter Trees“&n
	bsp;erkunden wir die&nbsp;Technik der Solarfotografie und lassen uns von&n
	bsp;der Natur und der Umgebung im Fasanengarten, sowie von Cesare Leonardi
	s spielerischem Umgang mit&nbsp;Auslassungen inspirieren.&nbsp;Blätter, Äs
	te und andere natürliche Fundstücke dienen als Ausgangspunkt&nbsp;für Cyan
	otypien – lichtempfindliche Abdrücke, die wir auf Karton oder Balsaholz üb
	ertragen. Diese&nbsp;Abdrücke bilden die Basis für kreative Reliefs und ne
	ue Designideen, die durch minimalistische&nbsp;Formen, Schatten und Farben
	 hervorgehoben werden. Im Mittelpunkt stehen sowohl die visuelle&nbsp;Erku
	ndung natürlicher Strukturen als auch ein ressourcenbewusster, nachhaltige
	r&nbsp;Gestaltungsprozess.</p><p><strong><em>Veranstalter: Urbane Gärten K
	arlsruhe</em></strong></p><p>Weitere Informationen <a href="https://urbane
	gaerten.org/" target="_blank">Hier</a></p><p></p>
BEGIN:VALARM
ACTION:DISPLAY
DESCRIPTION:Workshop Solarfotografie – Lichtspuren zwischen Fotografie und 
	Design | Encounter Trees – Modena x Karlsruhe
TRIGGER:-PT1H
END:VALARM
END:VEVENT
END:VCALENDAR
