BEGIN:VCALENDAR
VERSION:2.0
CALSCALE:GREGORIAN
PRODID:adamgibbons/ics
METHOD:PUBLISH
X-PUBLISHED-TTL:PT1H
BEGIN:VEVENT
UID:500@keepkarlsruheboring.org
SUMMARY:Workshop von Gabriel Torres und Manuela Aranguibel Molano [30-45 €]
DTSTAMP:20260423T104716Z
DTSTART:20251207T090000Z
DTEND:20251207T120000Z
DESCRIPTION:Spoken Silence. Evoking the Invisible\n\nSpoken Silence erforsc
	ht mithilfe von Techniken des physischen Theaters und\nTanzes — wie Kontak
	t\, Beobachtung und Bewegungsimprovisation — die Entstehung\nkollektiver K
	örpersprachennarrative\, die das Unsichtbare heraufbeschwören.\n\nLevel: O
	pen Level\n\nTeilnahmegebühr: 30 bis 45 Euro je nach eigenen Ressourcen \n
	\nBitte bringt euch bequeme Kleidung und Wasser mit
URL:https://keepkarlsruheboring.org/event/workshop-von-gabriel-torres-und-m
	anuela-aranguibel-molano
GEO:49.014;8.35771
LOCATION:Tanzareal Karlsruhe - Hardtstraße 37a\, 76185 Karlsruhe
STATUS:CONFIRMED
CATEGORIES:Dance,TANZ Karlsruhe 2025,Tanzfestival 2025,Ticket,Workshop
X-ALT-DESC;FMTTYPE=text/html:<p><strong>Spoken Silence. Evoking the Invisib
	le</strong></p><p>Spoken Silence erforscht mithilfe von Techniken des phys
	ischen Theaters und Tanzes — wie Kontakt, Beobachtung und Bewegungsimprovi
	sation — die Entstehung kollektiver Körpersprachennarrative, die das Unsic
	htbare heraufbeschwören.</p><p>Level: <strong>Open Level</strong></p><p>Te
	ilnahmegebühr: 30 bis 45 Euro je nach eigenen Ressourcen&nbsp;</p><p>Bitte
	 bringt euch bequeme Kleidung und Wasser mit</p>
BEGIN:VALARM
ACTION:DISPLAY
DESCRIPTION:Workshop von Gabriel Torres und Manuela Aranguibel Molano [30-4
	5 €]
TRIGGER:-PT1H
END:VALARM
END:VEVENT
END:VCALENDAR
