BEGIN:VCALENDAR
VERSION:2.0
CALSCALE:GREGORIAN
PRODID:adamgibbons/ics
METHOD:PUBLISH
X-PUBLISHED-TTL:PT1H
BEGIN:VEVENT
UID:490@keepkarlsruheboring.org
SUMMARY:Workshop von Maura Morales [30-45 €]
DTSTAMP:20260423T102327Z
DTSTART:20251122T130000Z
DTEND:20251122T160000Z
DESCRIPTION:It’s not the how but the why.\n\nIn a concern for respect for t
	he body as a partner rather than just a tool\,\nMaura offers a class where
	 the first attention is focused on sensitive and\nsensory listening to the
	 body\, through slow sequences in deep breathing or\nthrough warm-up impro
	visations focused on the awakening of sensations. “She\ncombines games\, e
	nergetic moves\, improvisation\, and floor routines to enhance\nbody aware
	ness. She takes advantage of speed to infuse this awareness into\nspontane
	ous\, natural responses from an engaged body.”\nIn a quest for curiosity\,
	 singularity and discovery\, Maura re-questions the\norganic responses of 
	each one through physical research tracks based on\ndifferent images (conc
	rete or abstract)\, with the aim of restricting to widen\nthe fields of po
	ssibilities.\n\nLevel: Advanced Masterclass\n\nTeilnahmegebühr: 30 bis 45 
	Euro je nach eigenen Ressourcen \n\nBitte bringt euch bequeme Kleidung und
	 Wasser mit
URL:https://keepkarlsruheboring.org/event/workshop-von-maura-morales
GEO:49.014;8.35771
LOCATION:Tanzareal Karlsruhe - Hardtstraße 37a\, 76185 Karlsruhe
STATUS:CONFIRMED
CATEGORIES:Dance,TANZ Karlsruhe 2025,Tanzfestival 2025,Ticket,Workshop
X-ALT-DESC;FMTTYPE=text/html:<p><strong>It’s not the how but the why.</stro
	ng></p><p>In a concern for respect for the body as a partner rather than j
	ust a tool, Maura offers a class where the first attention is focused on s
	ensitive and sensory listening to the body, through slow sequences in deep
	 breathing or through warm-up improvisations focused on the awakening of s
	ensations. “She combines games, energetic moves, improvisation, and floor 
	routines to enhance body awareness. She takes advantage of speed to infuse
	 this awareness into spontaneous, natural responses from an engaged body.”
	<br>In a quest for curiosity, singularity and discovery, Maura re-question
	s the organic responses of each one through physical research tracks based
	 on different images (concrete or abstract), with the aim of restricting t
	o widen the fields of possibilities.</p><p>Level:<strong> Advanced Masterc
	lass</strong></p><p>Teilnahmegebühr: 30 bis 45 Euro je nach eigenen Ressou
	rcen&nbsp;</p><p>Bitte bringt euch bequeme Kleidung und Wasser mit</p>
BEGIN:VALARM
ACTION:DISPLAY
DESCRIPTION:Workshop von Maura Morales [30-45 €]
TRIGGER:-PT1H
END:VALARM
END:VEVENT
END:VCALENDAR
