BEGIN:VCALENDAR
VERSION:2.0
CALSCALE:GREGORIAN
PRODID:adamgibbons/ics
METHOD:PUBLISH
X-PUBLISHED-TTL:PT1H
BEGIN:VEVENT
UID:1261@keepkarlsruheboring.org
SUMMARY:Worte schaffen Brücken – Lesung der Literatenrunde e. V.
DTSTAMP:20260423T104856Z
DTSTART:20260320T173000Z
DTEND:20260320T200000Z
DESCRIPTION:[↓↓ Deutsche Version unten ↓↓]\n\nUnder the motto "Words Build 
	Bridges\," the Literary Circle invites you to a\nspecial reading. Our auth
	ors will present impressive texts that explore\ndiversity\, tolerance\, an
	d respectful coexistence in a diverse society.\n\nWhat you can expect:\n\n
	 * Literary contributions that touch\, inspire\, and provoke thought.\n\n 
	* Space for exchange and dialogue about social diversity\n\n * An evening 
	full of stories\, poems\, and personal perspectives\n\nWe know that racism
	 and discrimination are sensitive topics and can be perceived\ndifferently
	. Literature opens up spaces for interpretation\, new perspectives\,\nand 
	personal reflection. Therefore\, we expressly invite the audience to engag
	e\nin discussions\, questions\, and open exchange after the reading.\n\n/-
	/-/\n\nUnter dem Motto „Worte schaffen Brücken“ lädt die Literatenrunde e.
	 V. zu einer\nbesonderen Lesung ein. Unsere Autor*innen präsentieren eindr
	ucksvolle Texte\, die\nsich mit Vielfalt\, Toleranz und dem respektvollen 
	Miteinander in einer\nvielfältigen Gesellschaft auseinandersetzen.\n\nWas 
	euch erwartet:\n\n * Literarische Beiträge\, die berühren\, inspirieren un
	d zum Nachdenken anregen\n\n * Raum für Austausch und Dialog über gesellsc
	haftliche Vielfalt\n\n * Ein Abend voller Geschichten\, Gedichte und persö
	nlicher Perspektiven\n\nWir wissen\, dass die Themen Rassismus und Diskrim
	inierung sensibel sind und\nunterschiedlich wahrgenommen werden können. Li
	teratur eröffnet Räume für\nInterpretation\, neue Blickwinkel und persönli
	che Reflexion. Deshalb laden wir\ndas Publikum im Anschluss an die Lesung 
	ausdrücklich zu Gesprächen\, Fragen und\neinem offenen Austausch ein.
URL:https://keepkarlsruheboring.org/event/worte-schaffen-brucken-lesung-der
	-literatenrunde-e-v
GEO:49.0086;8.4296
LOCATION:Bürgerstiftung Karlsruhe - Gerwigstr. 41 76131 Karlsruhe
STATUS:CONFIRMED
CATEGORIES:Internationalen Wochen gegen Rassismus,Literatenrunde e. V.,Lite
	rature
X-ALT-DESC;FMTTYPE=text/html:<p>[↓↓ Deutsche Version unten ↓↓]</p><p>Under 
	the motto <strong>"Words Build Bridges,"</strong> the Literary Circle invi
	tes you to a special reading. Our authors will present impressive texts th
	at explore <strong>diversity, tolerance, and respectful coexistence</stron
	g> in a diverse society.</p><p><strong>What you can expect:</strong></p><u
	l><li><p>Literary contributions that touch, inspire, and provoke thought.<
	/p></li><li><p>Space for exchange and dialogue about social diversity</p><
	/li><li><p>An evening full of stories, poems, and personal perspectives</p
	></li></ul><p><strong>We know that racism and discrimination are sensitive
	</strong> topics and can be perceived differently. Literature opens up spa
	ces for interpretation, new perspectives, and personal reflection. <strong
	>Therefore, we expressly invite the audience to engage in discussions, que
	stions, and open exchange after the reading.</strong></p><p>/-/-/</p><p>Un
	ter dem Motto <strong>„Worte schaffen Brücken“</strong> lädt die Literaten
	runde e. V. zu einer besonderen Lesung ein. Unsere Autor*innen präsentiere
	n eindrucksvolle Texte, die sich mit <strong>Vielfalt, Toleranz und dem re
	spektvollen Miteinander</strong> in einer vielfältigen Gesellschaft ausein
	andersetzen.</p><p><strong>Was euch erwartet:</strong></p><ul><li><p>Liter
	arische Beiträge, die berühren, inspirieren und zum Nachdenken anregen</p>
	</li><li><p>Raum für Austausch und Dialog über gesellschaftliche Vielfalt<
	/p></li><li><p>Ein Abend voller Geschichten, Gedichte und persönlicher Per
	spektiven</p></li></ul><p>Wir wissen, dass die Themen <strong>Rassismus un
	d Diskriminierung sensibel</strong> sind und unterschiedlich wahrgenommen 
	werden können. Literatur eröffnet Räume für Interpretation, neue Blickwink
	el und persönliche Reflexion. <strong>Deshalb laden wir das Publikum im An
	schluss an die Lesung ausdrücklich zu Gesprächen, Fragen und einem offenen
	 Austausch ein.</strong></p>
BEGIN:VALARM
ACTION:DISPLAY
DESCRIPTION:Worte schaffen Brücken – Lesung der Literatenrunde e. V.
TRIGGER:-PT1H
END:VALARM
END:VEVENT
END:VCALENDAR
