BEGIN:VCALENDAR
VERSION:2.0
CALSCALE:GREGORIAN
PRODID:adamgibbons/ics
METHOD:PUBLISH
X-PUBLISHED-TTL:PT1H
BEGIN:VEVENT
UID:601@keepkarlsruheboring.org
SUMMARY:Zine-issage
DTSTAMP:20260423T102208Z
DTSTART:20251213T120000Z
DTEND:20251213T133000Z
DESCRIPTION:✨ Zine-issage – Abschluss unserer queerfeministischen Zine-Auss
	tellung! ✨\n\nAm Samstag\, 13.12.\, von 13:00–14:30 Uhr feiern wir gemeins
	am den Abschluss\nunserer Ausstellung – mit einem Vortrag zum Thema Geschi
	chte der Zines als Akt\npolitischer Selbstermächtigung und einer offenen T
	auschbörse für eure Zines.\n\nIn den letzten Wochen ist die Ausstellung da
	nk euch richtig gewachsen und unser\nMitmachbereich ist voll mit euren kre
	ativen Werken. Bei der Zine-issage könnt\nihr eure Zines tauschen\, versch
	enken und andere Zine-Macher*innen kennenlernen.\nNach dem Prinzip „take a
	 zine\, leave a zine“: Bring eine Kopie deines Zines mit\nund nimm ein and
	eres dafür mit nach Hause! 🤝\n\n📌 Was? Vortrag & Zine-Tauschbörse\n\n⏰ Wan
	n? Samstag\, 13.12.\, 13:00–14:30 Uhr\n\n📍 Wo? Foyer der Stadtbibliothek K
	arlsruhe\, Ständehausstraße 2\, 76133 Karlsruhe\n(barrierearm\, Erdgeschos
	s)\n\nWir freuen uns auf euch! Wenn ihr nicht dabei sein könnt\, dann scha
	ut doch noch\nvorher bei der Ausstellung vorbei :) 💛📚\n\n\n\n✨ Zine-issage
	 – Closing Event of Our Queer-Feminist Zine Exhibition! ✨\n\nOn Saturday\,
	 December 13\, from 1:00–2:30 PM\, we’ll celebrate the closing of our\nexh
	ibition together – featuring a talk on the history of zines as an act of\n
	political self-empowerment and an open swap market for your own zines.\n\n
	Over the past weeks\, the exhibition has really grown thanks to you\, and 
	our\nparticipation area is now filled with your creative works. At the Zin
	e-issage\nyou can swap your zines\, give them away\, and meet other zine m
	akers. Following\nthe principle “take a zine\, leave a zine”: Bring a copy
	 of your zine and take\nanother one home! 🤝\n\n📌 What? Talk & Zine Swap\n\
	n⏰ When? Saturday\, December 13\, 1:00–2:30 PM\n\n📍 Where? Foyer of the St
	adtbibliothek Karlsruhe\, Ständehausstraße 2\, 76133\nKarlsruhe (accessibl
	e\, ground floor)\n\nWe’re looking forward to seeing you! And if you can’t
	 make it to the event\, feel\nfree to stop by the exhibition beforehand :)
	 💛📚\n\n
URL:https://keepkarlsruheboring.org/event/zine-issage
LOCATION:Foyer der Stadtbibliothek Karlsruhe - Ständehausstraße 2\, 76133 K
	arlsruhe
STATUS:CONFIRMED
CATEGORIES:
X-ALT-DESC;FMTTYPE=text/html:<p>✨ Zine-issage – Abschluss unserer queerfemi
	nistischen Zine-Ausstellung! ✨</p><p>Am Samstag, 13.12., von 13:00–14:30 U
	hr feiern wir gemeinsam den Abschluss unserer Ausstellung – mit einem Vort
	rag zum Thema Geschichte der Zines als Akt politischer Selbstermächtigung 
	und einer offenen Tauschbörse für eure Zines.</p><p>In den letzten Wochen 
	ist die Ausstellung dank euch richtig gewachsen und unser Mitmachbereich i
	st voll mit euren kreativen Werken. Bei der Zine-issage könnt ihr eure Zin
	es tauschen, verschenken und andere Zine-Macher*innen kennenlernen. Nach d
	em Prinzip „take a zine, leave a zine“: Bring eine Kopie deines Zines mit 
	und nimm ein anderes dafür mit nach Hause! 🤝</p><p>📌 Was? Vortrag &amp; Zi
	ne-Tauschbörse</p><p>⏰ Wann? Samstag, 13.12., 13:00–14:30 Uhr</p><p>📍 Wo? 
	Foyer der Stadtbibliothek Karlsruhe, Ständehausstraße 2, 76133 Karlsruhe (
	barrierearm, Erdgeschoss)</p><p>Wir freuen uns auf euch! Wenn ihr nicht da
	bei sein könnt, dann schaut doch noch vorher bei der Ausstellung vorbei :)
	 💛📚</p><p></p><p>✨ Zine-issage – Closing Event of Our Queer-Feminist Zine 
	Exhibition! ✨</p><p>On Saturday, December 13, from 1:00–2:30 PM, we’ll cel
	ebrate the closing of our exhibition together – featuring a talk on the hi
	story of zines as an act of political self-empowerment and an open swap ma
	rket for your own zines.</p><p>Over the past weeks, the exhibition has rea
	lly grown thanks to you, and our participation area is now filled with you
	r creative works. At the Zine-issage you can swap your zines, give them aw
	ay, and meet other zine makers. Following the principle “take a zine, leav
	e a zine”: Bring a copy of your zine and take another one home! 🤝</p><p>📌 
	What? Talk &amp; Zine Swap</p><p>⏰ When? Saturday, December 13, 1:00–2:30 
	PM</p><p>📍 Where? Foyer of the Stadtbibliothek Karlsruhe, Ständehausstraße
	 2, 76133 Karlsruhe (accessible, ground floor)</p><p>We’re looking forward
	 to seeing you! And if you can’t make it to the event, feel free to stop b
	y the exhibition beforehand :) 💛📚</p><p></p>
BEGIN:VALARM
ACTION:DISPLAY
DESCRIPTION:Zine-issage
TRIGGER:-PT1H
END:VALARM
END:VEVENT
END:VCALENDAR
