BEGIN:VCALENDAR
VERSION:2.0
CALSCALE:GREGORIAN
PRODID:adamgibbons/ics
METHOD:PUBLISH
X-PUBLISHED-TTL:PT1H
BEGIN:VEVENT
UID:667@keepkarlsruheboring.org
SUMMARY:ZUM GLÜCK WISSEN SIE NICHT - Franky Brożek\, Tom Scheuble
DTSTAMP:20260423T090646Z
DTSTART:20260207T100000Z
DTEND:20260207T170000Z
DESCRIPTION:ZUM GLÜCK WISSEN SIE NICHT\n\nFranky Brożek\, Tom Scheuble\n\nT
	easer Ausstellung für die art Karlsruhe von zwei Studierenden der Klasse U
	lla\nvon Brandenburg\n\nVernissage: 29. Januar\, 18:00 Uhr\n\nBesuchszeite
	n: täglich 11-18 Uhr\, außer Sonntag\n\n
URL:https://keepkarlsruheboring.org/event/zum-gluck-wissen-sie-nicht-franky
	-brozek-tom-scheuble
LOCATION:Daiva Store\, Ausstellungsraum 1. OG - Herrenstraße 20\, 76133 Kar
	lsruhe
STATUS:CONFIRMED
CATEGORIES:Art
X-ALT-DESC;FMTTYPE=text/html:<p><strong>ZUM GLÜCK WISSEN SIE NICHT</strong>
	</p><p>Franky Brożek, Tom Scheuble</p><p>Teaser Ausstellung für die art Ka
	rlsruhe von zwei Studierenden der Klasse Ulla von Brandenburg</p><p>Vernis
	sage: 29. Januar, 18:00 Uhr</p><p>Besuchszeiten: täglich 11-18 Uhr, außer 
	Sonntag</p><p></p>
BEGIN:VALARM
ACTION:DISPLAY
DESCRIPTION:ZUM GLÜCK WISSEN SIE NICHT - Franky Brożek, Tom Scheuble
TRIGGER:-PT1H
END:VALARM
END:VEVENT
END:VCALENDAR
