BEGIN:VCALENDAR
VERSION:2.0
CALSCALE:GREGORIAN
PRODID:adamgibbons/ics
METHOD:PUBLISH
X-PUBLISHED-TTL:PT1H
BEGIN:VEVENT
UID:938@keepkarlsruheboring.org
SUMMARY:KONZERT: DŸSE
DTSTAMP:20260423T114540Z
DTSTART:20260424T190000Z
DTEND:20260424T190000Z
URL:https://keepkarlsruheboring.org/event/konzert-dse
GEO:49.0056;8.42925
LOCATION:Alte Hackerei - Alter Schlachthof 11A 76131 Karlsruhe
STATUS:CONFIRMED
CATEGORIES:karlsrunruhe,test
END:VEVENT
BEGIN:VEVENT
UID:950@keepkarlsruheboring.org
SUMMARY:JAHRESFEST: Moving Targets\, Blut + Eisen\, Skranefjell & pennyroun
	dhousekick | Aftershow mit DJ Bocky & Jörn
DTSTAMP:20260423T114540Z
DTSTART:20260508T170000Z
DTEND:20260508T170000Z
URL:https://keepkarlsruheboring.org/event/jahresfest-moving-targets-blut-ei
	sen-skranefjell-and-pennyroundhousekick-or-aftershow-mit-dj-bocky-and-jorn
GEO:49.0056;8.42925
LOCATION:Alte Hackerei - Alter Schlachthof 11A 76131 Karlsruhe
STATUS:CONFIRMED
CATEGORIES:karlsrunruhe,test
END:VEVENT
BEGIN:VEVENT
UID:953@keepkarlsruheboring.org
SUMMARY:JAHRESFEST: Suck & Bubonix & Oiro | Dieselkaraoke
DTSTAMP:20260423T114540Z
DTSTART:20260509T170000Z
DTEND:20260509T170000Z
URL:https://keepkarlsruheboring.org/event/jahresfest-suck-and-bubonix-and-o
	iro-or-dieselkaraoke
GEO:49.0056;8.42925
LOCATION:Alte Hackerei - Alter Schlachthof 11A 76131 Karlsruhe
STATUS:CONFIRMED
CATEGORIES:karlsrunruhe,test
END:VEVENT
BEGIN:VEVENT
UID:811@keepkarlsruheboring.org
SUMMARY:KONZERT: Sheer Terror [25 | 27 €]
DTSTAMP:20260423T114540Z
DTSTART:20260515T190000Z
URL:https://keepkarlsruheboring.org/event/konzert-sheer-terror
GEO:49.0056;8.42925
LOCATION:Alte Hackerei - Alter Schlachthof 11A 76131 Karlsruhe
STATUS:CONFIRMED
CATEGORIES:Alte-Hackerei,Hardcore-Punk,Konzert
END:VEVENT
BEGIN:VEVENT
UID:974@keepkarlsruheboring.org
SUMMARY:KONZERT: Guitar Wolf
DTSTAMP:20260423T114540Z
DTSTART:20260617T180000Z
DTEND:20260617T180000Z
URL:https://keepkarlsruheboring.org/event/konzert-guitar-wolf
GEO:49.0056;8.42925
LOCATION:Alte Hackerei - Alter Schlachthof 11A 76131 Karlsruhe
STATUS:CONFIRMED
CATEGORIES:karlsrunruhe,test
END:VEVENT
END:VCALENDAR
