BEGIN:VCALENDAR
VERSION:2.0
CALSCALE:GREGORIAN
PRODID:adamgibbons/ics
METHOD:PUBLISH
X-PUBLISHED-TTL:PT1H
BEGIN:VEVENT
UID:1495@keepkarlsruheboring.org
SUMMARY:Fahrbare Radwerkstatt (MöWe)
DTSTAMP:20260423T085419Z
DTSTART:20260423T140000Z
URL:https://keepkarlsruheboring.org/event/fahrbare-radwerkstatt-mowe-1
GEO:49.0112;8.41461
LOCATION:AKK - 17\, Engesserstraße\, Innenstadt-Ost Nordöstlicher Teil\, In
	nenstadt\, Karlsruhe\, Baden-Württemberg\, 76131\, Deutschland
STATUS:CONFIRMED
CATEGORIES:Bike,DIY
END:VEVENT
BEGIN:VEVENT
UID:1527@keepkarlsruheboring.org
SUMMARY:FLINTA*-Schrauben
DTSTAMP:20260423T085419Z
DTSTART:20260428T150000Z
DTEND:20260428T180000Z
URL:https://keepkarlsruheboring.org/event/flinta-schrauben-1
GEO:49.0112;8.41461
LOCATION:AKK - 17\, Engesserstraße\, Innenstadt-Ost Nordöstlicher Teil\, In
	nenstadt\, Karlsruhe\, Baden-Württemberg\, 76131\, Deutschland
STATUS:CONFIRMED
CATEGORIES:Events,Karlsruhe,karlsruhe-social.de,Veranstaltungen
END:VEVENT
BEGIN:VEVENT
UID:1429@keepkarlsruheboring.org
SUMMARY:Überbündische Singerunde
DTSTAMP:20260423T085419Z
DTSTART:20260503T170000Z
URL:https://keepkarlsruheboring.org/event/uberbundische-singerunde-1
GEO:49.0112;8.41461
LOCATION:AKK - 17\, Engesserstraße\, Innenstadt-Ost Nordöstlicher Teil\, In
	nenstadt\, Karlsruhe\, Baden-Württemberg\, 76131\, Deutschland
STATUS:CONFIRMED
CATEGORIES:Events,Karlsruhe,karlsruhe-social.de,Veranstaltungen
END:VEVENT
BEGIN:VEVENT
UID:1431@keepkarlsruheboring.org
SUMMARY:Reparatur-Café im AKK
DTSTAMP:20260423T085419Z
DTSTART:20260504T160000Z
URL:https://keepkarlsruheboring.org/event/reparatur-cafe-im-akk-1
GEO:49.0112;8.41461
LOCATION:AKK - 17\, Engesserstraße\, Innenstadt-Ost Nordöstlicher Teil\, In
	nenstadt\, Karlsruhe\, Baden-Württemberg\, 76131\, Deutschland
STATUS:CONFIRMED
CATEGORIES:Events,Karlsruhe,karlsruhe-social.de,Veranstaltungen
END:VEVENT
BEGIN:VEVENT
UID:1435@keepkarlsruheboring.org
SUMMARY:Student Repair Café
DTSTAMP:20260423T085419Z
DTSTART:20260504T160000Z
URL:https://keepkarlsruheboring.org/event/student-repair-cafe-13
GEO:49.0112;8.41461
LOCATION:AKK - 17\, Engesserstraße\, Innenstadt-Ost Nordöstlicher Teil\, In
	nenstadt\, Karlsruhe\, Baden-Württemberg\, 76131\, Deutschland
STATUS:CONFIRMED
CATEGORIES:Ecology,Repair,Workshop
END:VEVENT
BEGIN:VEVENT
UID:961@keepkarlsruheboring.org
SUMMARY:KONZERT: Dramatist
DTSTAMP:20260423T085419Z
DTSTART:20260513T180000Z
DTEND:20260513T180000Z
URL:https://keepkarlsruheboring.org/event/konzert-dramatist
GEO:49.0112;8.41461
LOCATION:AKK - 17\, Engesserstraße\, Innenstadt-Ost Nordöstlicher Teil\, In
	nenstadt\, Karlsruhe\, Baden-Württemberg\, 76131\, Deutschland
STATUS:CONFIRMED
CATEGORIES:karlsrunruhe,test
END:VEVENT
END:VCALENDAR
