BEGIN:VCALENDAR
VERSION:2.0
CALSCALE:GREGORIAN
PRODID:adamgibbons/ics
METHOD:PUBLISH
X-PUBLISHED-TTL:PT1H
BEGIN:VEVENT
UID:1351@keepkarlsruheboring.org
SUMMARY:Antikapitalistisches Klimatreffen
DTSTAMP:20260423T085402Z
DTSTART:20260428T190000Z
URL:https://keepkarlsruheboring.org/event/antikapitalistisches-klimatreffen
	-12
GEO:49.0008;8.40561
LOCATION:Barrio 137 - Luisenstraße 31\, 76137 Karlsruhe
STATUS:CONFIRMED
CATEGORIES:Ecology,Politics
END:VEVENT
BEGIN:VEVENT
UID:1418@keepkarlsruheboring.org
SUMMARY:Offenes Antifaschistisches Treffen Karlsruhe
DTSTAMP:20260423T085402Z
DTSTART:20260507T170000Z
DTEND:20260507T190000Z
URL:https://keepkarlsruheboring.org/event/offenes-antifaschistisches-treffe
	n-karlsruhe-4
GEO:49.0008;8.40561
LOCATION:Barrio 137 - Luisenstraße 31\, 76137 Karlsruhe
STATUS:CONFIRMED
CATEGORIES:Antifa,Barrio137,Treffen
END:VEVENT
BEGIN:VEVENT
UID:1498@keepkarlsruheboring.org
SUMMARY:Offene Beratung
DTSTAMP:20260423T085402Z
DTSTART:20260521T163000Z
DTEND:20260521T173000Z
URL:https://keepkarlsruheboring.org/event/offene-beratung-2
GEO:49.0008;8.40561
LOCATION:Barrio 137 - Luisenstraße 31\, 76137 Karlsruhe
STATUS:CONFIRMED
CATEGORIES:Anti-Repression,Barrio 137,Beratung,Rote Hilfe
END:VEVENT
END:VCALENDAR
