BEGIN:VCALENDAR
VERSION:2.0
CALSCALE:GREGORIAN
PRODID:adamgibbons/ics
METHOD:PUBLISH
X-PUBLISHED-TTL:PT1H
BEGIN:VEVENT
UID:1412@keepkarlsruheboring.org
SUMMARY:Queerer Spieleabend - ausgerichtet von queerKAstle
DTSTAMP:20260423T120611Z
DTSTART:20260506T160000Z
DTEND:20260506T200000Z
URL:https://keepkarlsruheboring.org/event/queerer-spieleabend-ausgerichtet-
	von-queerkastle-12
GEO:49.0082;8.41926
LOCATION:Thoule Vereinsheim - 1\, Ostendstraße\, Oststadt Westlicher Teil\,
	 Oststadt\, Karlsruhe\, Baden-Württemberg\, 76131\, Deutschland
STATUS:CONFIRMED
CATEGORIES:Boardgames,Queer
END:VEVENT
END:VCALENDAR
