BEGIN:VCALENDAR
VERSION:2.0
CALSCALE:GREGORIAN
PRODID:adamgibbons/ics
METHOD:PUBLISH
X-PUBLISHED-TTL:PT1H
BEGIN:VEVENT
UID:1468@keepkarlsruheboring.org
SUMMARY:Lesenachmittag im Entropia
DTSTAMP:20260423T101913Z
DTSTART:20260510T130000Z
DTEND:20260510T150000Z
URL:https://keepkarlsruheboring.org/event/lesenachmittag-im-entropia-3
GEO:49.0063;8.40722
LOCATION:Gewerbehof - Gewerbehof Steinstraße 23 76133 Karlsruhe
STATUS:CONFIRMED
CATEGORIES:Buchclub,Treffen
END:VEVENT
END:VCALENDAR
