BEGIN:VCALENDAR
VERSION:2.0
CALSCALE:GREGORIAN
PRODID:adamgibbons/ics
METHOD:PUBLISH
X-PUBLISHED-TTL:PT1H
BEGIN:VEVENT
UID:1479@keepkarlsruheboring.org
SUMMARY:New(s)Views
DTSTAMP:20260423T103021Z
DTSTART:20260512T173000Z
DTEND:20260512T190000Z
URL:https://keepkarlsruheboring.org/event/newsviews
GEO:49.0331;8.39244
LOCATION:Amerikanische Bibliothek - Kanalweg 52 76149 Karlsruhe
STATUS:CONFIRMED
CATEGORIES:Events,Karlsruhe,karlsruhe-social.de,Veranstaltungen
END:VEVENT
BEGIN:VEVENT
UID:1448@keepkarlsruheboring.org
SUMMARY:MovieTalk
DTSTAMP:20260423T103021Z
DTSTART:20260513T163000Z
DTEND:20260513T180000Z
URL:https://keepkarlsruheboring.org/event/movietalk
GEO:49.0331;8.39244
LOCATION:Amerikanische Bibliothek - Kanalweg 52 76149 Karlsruhe
STATUS:CONFIRMED
CATEGORIES:Events,Karlsruhe,karlsruhe-social.de,Veranstaltungen
END:VEVENT
END:VCALENDAR
