BEGIN:VCALENDAR
VERSION:2.0
CALSCALE:GREGORIAN
PRODID:adamgibbons/ics
METHOD:PUBLISH
X-PUBLISHED-TTL:PT1H
BEGIN:VEVENT
UID:1506@keepkarlsruheboring.org
SUMMARY:BÄM-Lab - Offene Werkstatt im ZKM
DTSTAMP:20260423T085414Z
DTSTART:20260424T120000Z
DTEND:20260424T160000Z
URL:https://keepkarlsruheboring.org/event/bam-lab-offene-werkstatt-im-zkm
LOCATION:ZKM - Lorenzstraße 19\, 76135 Karlsruhe
STATUS:CONFIRMED
CATEGORIES:Events,Karlsruhe,karlsruhe-social.de,Veranstaltungen
END:VEVENT
BEGIN:VEVENT
UID:1537@keepkarlsruheboring.org
SUMMARY:Mittwochstreff: Zeichnen\, frei erfunden und digital
DTSTAMP:20260423T085414Z
DTSTART:20260506T130000Z
DTEND:20260506T150000Z
URL:https://keepkarlsruheboring.org/event/mittwochstreff-zeichnen-frei-erfu
	nden-und-digital
LOCATION:ZKM - Lorenzstraße 19\, 76135 Karlsruhe
STATUS:CONFIRMED
CATEGORIES:Events,Karlsruhe,karlsruhe-social.de,Veranstaltungen
END:VEVENT
END:VCALENDAR
