BEGIN:VCALENDAR
VERSION:2.0
CALSCALE:GREGORIAN
PRODID:adamgibbons/ics
METHOD:PUBLISH
X-PUBLISHED-TTL:PT1H
BEGIN:VEVENT
UID:1377@keepkarlsruheboring.org
SUMMARY:Queer Beratung – Offene Sprechstunde
DTSTAMP:20260423T085415Z
DTSTART:20260424T170000Z
DTEND:20260424T190000Z
URL:https://keepkarlsruheboring.org/event/queer-beratung-offene-sprechstund
	e-3
LOCATION:queerKAstle - Karlsruher Zentrum für queere Vielfalt - Liebigstraß
	e 10-12\, 76135 Karlsruhe
STATUS:CONFIRMED
CATEGORIES:Beratung,Queer
END:VEVENT
BEGIN:VEVENT
UID:1460@keepkarlsruheboring.org
SUMMARY:Queerer Handarbeitstreff
DTSTAMP:20260423T085415Z
DTSTART:20260509T130000Z
DTEND:20260509T160000Z
URL:https://keepkarlsruheboring.org/event/queerer-handarbeitstreff-8
LOCATION:queerKAstle - Karlsruher Zentrum für queere Vielfalt - Liebigstraß
	e 10-12\, 76135 Karlsruhe
STATUS:CONFIRMED
CATEGORIES:Handcraft,Queer,Sewing,Workshop
END:VEVENT
BEGIN:VEVENT
UID:952@keepkarlsruheboring.org
SUMMARY:Queerer Handarbeitstreff
DTSTAMP:20260423T085415Z
DTSTART:20260509T130000Z
DTEND:20260509T160000Z
URL:https://keepkarlsruheboring.org/event/queerer-handarbeitstreff-5
LOCATION:queerKAstle - Karlsruher Zentrum für queere Vielfalt - Liebigstraß
	e 10-12\, 76135 Karlsruhe
STATUS:CONFIRMED
CATEGORIES:karlsrunruhe,test
END:VEVENT
BEGIN:VEVENT
UID:962@keepkarlsruheboring.org
SUMMARY:Queeres Pubquiz mit Janboris Ann-Kathrin Rätz
DTSTAMP:20260423T085415Z
DTSTART:20260515T163000Z
DTEND:20260515T190000Z
URL:https://keepkarlsruheboring.org/event/queeres-pubquiz-mit-janboris-ann-
	kathrin-ratz-2
LOCATION:queerKAstle - Karlsruher Zentrum für queere Vielfalt - Liebigstraß
	e 10-12\, 76135 Karlsruhe
STATUS:CONFIRMED
CATEGORIES:karlsrunruhe,test
END:VEVENT
END:VCALENDAR
