BEGIN:VCALENDAR
VERSION:2.0
CALSCALE:GREGORIAN
PRODID:adamgibbons/ics
METHOD:PUBLISH
X-PUBLISHED-TTL:PT1H
BEGIN:VEVENT
UID:1536@keepkarlsruheboring.org
SUMMARY:queerKAstle - Spieleabend
DTSTAMP:20260423T131746Z
DTSTART:20260429T160000Z
DTEND:20260429T200000Z
URL:https://keepkarlsruheboring.org/event/queerkastle-spieleabend-1
LOCATION:Rollen- und Brettspielverein Thoule 1987 e.V. - Ostendstraße 1\, 7
	6131 Karlsruhe
STATUS:CONFIRMED
CATEGORIES:Events,Karlsruhe,karlsruhe-social.de,Veranstaltungen
END:VEVENT
END:VCALENDAR
