BEGIN:VCALENDAR
VERSION:2.0
CALSCALE:GREGORIAN
PRODID:adamgibbons/ics
METHOD:PUBLISH
X-PUBLISHED-TTL:PT1H
BEGIN:VEVENT
UID:1496@keepkarlsruheboring.org
SUMMARY:Selbsthilfewerkstatt - Fahrrad
DTSTAMP:20260423T113542Z
DTSTART:20260430T160000Z
DTEND:20260430T180000Z
URL:https://keepkarlsruheboring.org/event/selbsthilfewerkstatt-fahrrad-1
LOCATION:Fahrradbüro - Welfenstraße 13\, 76137 Karlsruhe
STATUS:CONFIRMED
CATEGORIES:Events,Karlsruhe,karlsruhe-social.de,Veranstaltungen
END:VEVENT
BEGIN:VEVENT
UID:1417@keepkarlsruheboring.org
SUMMARY:ADFC Fahrradstammtisch
DTSTAMP:20260423T113542Z
DTSTART:20260507T170000Z
URL:https://keepkarlsruheboring.org/event/adfc-fahrradstammtisch
LOCATION:Fahrradbüro - Welfenstraße 13\, 76137 Karlsruhe
STATUS:CONFIRMED
CATEGORIES:Events,Karlsruhe,karlsruhe-social.de,Veranstaltungen
END:VEVENT
END:VCALENDAR
