BEGIN:VCALENDAR
VERSION:2.0
CALSCALE:GREGORIAN
PRODID:adamgibbons/ics
METHOD:PUBLISH
X-PUBLISHED-TTL:PT1H
BEGIN:VEVENT
UID:1425@keepkarlsruheboring.org
SUMMARY:Stadtflohmarkt Stephansplatz
DTSTAMP:20260423T113645Z
DTSTART:20260502T060000Z
DTEND:20260502T140000Z
URL:https://keepkarlsruheboring.org/event/stadtflohmarkt-stephansplatz-1
LOCATION:Stephansplatz - Amalienstraße 33\, 76133 Karlsruhe
STATUS:CONFIRMED
CATEGORIES:Events,Karlsruhe,karlsruhe-social.de,Veranstaltungen
END:VEVENT
END:VCALENDAR
