BEGIN:VCALENDAR
VERSION:2.0
CALSCALE:GREGORIAN
PRODID:adamgibbons/ics
METHOD:PUBLISH
X-PUBLISHED-TTL:PT1H
BEGIN:VEVENT
UID:1532@keepkarlsruheboring.org
SUMMARY:Südstadtfestival: 30 Jahre Festival und 75 Jahre Stadtjugendausschu
	ss
DTSTAMP:20260423T131708Z
DTSTART:20260509T110000Z
DTEND:20260509T200000Z
URL:https://keepkarlsruheboring.org/event/sudstadtfestival-30-jahre-festiva
	l-und-75-jahre-stadtjugendausschuss
GEO:49.0027;8.40711
LOCATION:Horts Kinderinsel-Süd - 35\, Schützenstraße\, Südstadt Nördlicher 
	Teil\, Südstadt\, Karlsruhe\, Baden-Württemberg\, 76137\, Deutschland
STATUS:CONFIRMED
CATEGORIES:Concert,Dance,Festival,Kids,Südstadt
END:VEVENT
END:VCALENDAR
