BEGIN:VCALENDAR
VERSION:2.0
CALSCALE:GREGORIAN
PRODID:adamgibbons/ics
METHOD:PUBLISH
X-PUBLISHED-TTL:PT1H
BEGIN:VEVENT
UID:609@keepkarlsruheboring.org
SUMMARY:Ausstellung Anna Barham: delirious mantra
DTSTAMP:20260423T115550Z
DTSTART:20260213T100000Z
DTEND:20260614T170000Z
URL:https://keepkarlsruheboring.org/event/ausstellung-anna-barham-delirious
	-mantra
GEO:49.011;8.3999
LOCATION:Badischer Kunstverein - Waldstraße 3\, 76133 Karlsruhe
STATUS:CONFIRMED
CATEGORIES:Art
END:VEVENT
BEGIN:VEVENT
UID:1283@keepkarlsruheboring.org
SUMMARY:Himmelssturz
DTSTAMP:20260423T115550Z
DTSTART:20260312T180000Z
DTEND:20260430T215900Z
URL:https://keepkarlsruheboring.org/event/himmelssturz
GEO:49.0105;8.39692
LOCATION:Kinemathek - 6\, Kaiserpassage\, Innenstadt-West Östlicher Teil\, 
	Innenstadt-West\, Karlsruhe\, Baden-Württemberg\, 76133\, Deutschland
STATUS:CONFIRMED
CATEGORIES:Art,Video
END:VEVENT
BEGIN:VEVENT
UID:1491@keepkarlsruheboring.org
SUMMARY:Klasse Lindena & Klasse Braun: konkrete fantasia
DTSTAMP:20260423T115550Z
DTSTART:20260415T070000Z
DTEND:20260425T200000Z
URL:https://keepkarlsruheboring.org/event/klasse-lindena-and-klasse-braun-k
	onkrete-fantasia
GEO:49.013;8.38736
LOCATION:Staatliche Akademie der Bildenden Künste Karlsruhe - 67\, Reinhold
	-Frank-Straße\, Innenstadt-West Westlicher Teil\, Innenstadt-West\, Karlsr
	uhe\, Baden-Württemberg\, 76133\, Deutschland
STATUS:CONFIRMED
CATEGORIES:Art,Exhibition
END:VEVENT
BEGIN:VEVENT
UID:1488@keepkarlsruheboring.org
SUMMARY:Exhibition: step on no pets 
DTSTAMP:20260423T115550Z
DTSTART:20260417T160000Z
DTEND:20260430T215900Z
URL:https://keepkarlsruheboring.org/event/step-on-no-pets
LOCATION:HZweiZwei - (Davia Store 1.OG) Herrenstraße 22 76133 Karlsruhe
STATUS:CONFIRMED
CATEGORIES:Art,Exhibition,Kunstakademie Karlsruhe,Opening
END:VEVENT
BEGIN:VEVENT
UID:1503@keepkarlsruheboring.org
SUMMARY:GEDOK Ausstellung: Double Take / Hanna Woll und Anika Hirt
DTSTAMP:20260423T115550Z
DTSTART:20260418T150000Z
DTEND:20260517T170000Z
URL:https://keepkarlsruheboring.org/event/gedok-ausstellung-double-take-han
	na-woll-und-anika-hirt-1
GEO:49.0079;8.41049
LOCATION:GEDOK Künstlerinnenforum - Markgrafenstr. 14\, 76131 Karlsruhe
STATUS:CONFIRMED
CATEGORIES:Art,Exhibition
END:VEVENT
BEGIN:VEVENT
UID:1046@keepkarlsruheboring.org
SUMMARY:chorussing through the grass
DTSTAMP:20260423T115550Z
DTSTART:20260423T220000Z
DTEND:20260424T220000Z
URL:https://keepkarlsruheboring.org/event/chorussing-through-the-grass
GEO:49.011;8.3999
LOCATION:Badischer Kunstverein - Waldstraße 3\, 76133 Karlsruhe
STATUS:CONFIRMED
CATEGORIES:Art,Workshop
END:VEVENT
BEGIN:VEVENT
UID:1507@keepkarlsruheboring.org
SUMMARY:'quiet becoming': Eröffnung der erste Online-Ausstellung von points
	s.gallery
DTSTAMP:20260423T115550Z
DTSTART:20260423T220000Z
DTEND:20260424T215500Z
URL:https://keepkarlsruheboring.org/event/quiet-becoming-eroffnung-der-erst
	e-online-ausstellung-von-pointssgallery
LOCATION:online - https://pointss.gallery/
STATUS:CONFIRMED
CATEGORIES:Art
END:VEVENT
BEGIN:VEVENT
UID:1107@keepkarlsruheboring.org
SUMMARY:Theater: ES IST ZEIT [15 | 8€]
DTSTAMP:20260423T115550Z
DTSTART:20260424T170000Z
URL:https://keepkarlsruheboring.org/event/theater-es-ist-zeit-15-or-8euro
GEO:49.0061;8.42936
LOCATION:Werkraum Karlsruhe - 1a\, Alter Schlachthof\, Kreativpark Alter Sc
	hlachthof\, Oststadt\, Karlsruhe\, Baden-Württemberg\, 76131\, Deutschland
STATUS:CONFIRMED
CATEGORIES:Art,Theater,Ticket,WerkraumKarlsruhe
END:VEVENT
BEGIN:VEVENT
UID:1380@keepkarlsruheboring.org
SUMMARY:KOHI POETRY SLAM [8€ | Kohi Mitglieder ]
DTSTAMP:20260423T115550Z
DTSTART:20260424T180000Z
URL:https://keepkarlsruheboring.org/event/kohi-poetry-slam-8euro-or-kohi-mi
	tglieder-13
GEO:49.0017;8.40754
LOCATION:Kohi - Werderstraße 47\, 76137 Karlsruhe\, Alemanya
STATUS:CONFIRMED
CATEGORIES:Art,Poetry Slam,Ticket
END:VEVENT
BEGIN:VEVENT
UID:1108@keepkarlsruheboring.org
SUMMARY:Theater: ES IST ZEIT [15 | 8€]
DTSTAMP:20260423T115550Z
DTSTART:20260425T170000Z
URL:https://keepkarlsruheboring.org/event/theater-es-ist-zeit-15-or-8euro-1
GEO:49.0061;8.42936
LOCATION:Werkraum Karlsruhe - 1a\, Alter Schlachthof\, Kreativpark Alter Sc
	hlachthof\, Oststadt\, Karlsruhe\, Baden-Württemberg\, 76131\, Deutschland
STATUS:CONFIRMED
CATEGORIES:Art,Theater,Ticket,WerkraumKarlsruhe
END:VEVENT
BEGIN:VEVENT
UID:1494@keepkarlsruheboring.org
SUMMARY:Slow Writers Club
DTSTAMP:20260423T115550Z
DTSTART:20260426T120000Z
DTEND:20260426T133000Z
URL:https://keepkarlsruheboring.org/event/slow-writers-club
GEO:49.0084;8.41046
LOCATION:ßpace - Fritz-Erler-Straße 7\, 76133 Karlsruhe
STATUS:CONFIRMED
CATEGORIES:Art,Workshop
END:VEVENT
BEGIN:VEVENT
UID:1510@keepkarlsruheboring.org
SUMMARY:Open Arts Club
DTSTAMP:20260423T115550Z
DTSTART:20260426T120000Z
DTEND:20260426T160000Z
URL:https://keepkarlsruheboring.org/event/open-arts-club-34
GEO:49.0082;8.40959
LOCATION:COLA TAXI OKAY - 25\, Kronenstraße\, Innenstadt-Ost Südwestlicher 
	Teil\, Innenstadt-Ost\, Karlsruhe\, Baden-Württemberg\, 76133\, Deutschlan
	d
STATUS:CONFIRMED
CATEGORIES:Art,Workshop
END:VEVENT
BEGIN:VEVENT
UID:1109@keepkarlsruheboring.org
SUMMARY:Theater: ES IST ZEIT [15 | 8€]
DTSTAMP:20260423T115550Z
DTSTART:20260426T170000Z
URL:https://keepkarlsruheboring.org/event/theater-es-ist-zeit-15-or-8euro-2
GEO:49.0061;8.42936
LOCATION:Werkraum Karlsruhe - 1a\, Alter Schlachthof\, Kreativpark Alter Sc
	hlachthof\, Oststadt\, Karlsruhe\, Baden-Württemberg\, 76131\, Deutschland
STATUS:CONFIRMED
CATEGORIES:Art,Theater,Ticket,WerkraumKarlsruhe
END:VEVENT
BEGIN:VEVENT
UID:1489@keepkarlsruheboring.org
SUMMARY:Daniel Martin Feige: Kritik der AI
DTSTAMP:20260423T115550Z
DTSTART:20260428T160000Z
URL:https://keepkarlsruheboring.org/event/daniel-martin-feige-kritik-der-ai
GEO:49.013;8.38736
LOCATION:Staatliche Akademie der Bildenden Künste Karlsruhe - 67\, Reinhold
	-Frank-Straße\, Innenstadt-West Westlicher Teil\, Innenstadt-West\, Karlsr
	uhe\, Baden-Württemberg\, 76133\, Deutschland
STATUS:CONFIRMED
CATEGORIES:Art,Artificial Intelligence,Lecture,Technology
END:VEVENT
BEGIN:VEVENT
UID:1490@keepkarlsruheboring.org
SUMMARY:Dr. Zanan Akin: Was ist egalitäre Hybris?
DTSTAMP:20260423T115550Z
DTSTART:20260512T170000Z
URL:https://keepkarlsruheboring.org/event/dr-zanan-akin-was-ist-egalitare-h
	ybris
GEO:49.013;8.38736
LOCATION:Staatliche Akademie der Bildenden Künste Karlsruhe - 67\, Reinhold
	-Frank-Straße\, Innenstadt-West Westlicher Teil\, Innenstadt-West\, Karlsr
	uhe\, Baden-Württemberg\, 76133\, Deutschland
STATUS:CONFIRMED
CATEGORIES:Art,Kunstakademie Karlsruhe,Lecture,Philosophy
END:VEVENT
BEGIN:VEVENT
UID:1044@keepkarlsruheboring.org
SUMMARY:Führung durch die Ausstellung von Anna Barham: delirious mantra
DTSTAMP:20260423T115550Z
DTSTART:20260520T160000Z
DTEND:20260520T170000Z
URL:https://keepkarlsruheboring.org/event/fuhrung-durch-die-ausstellung-von
	-anna-barham-delirious-mantra-2
GEO:49.011;8.3999
LOCATION:Badischer Kunstverein - Waldstraße 3\, 76133 Karlsruhe
STATUS:CONFIRMED
CATEGORIES:Art
END:VEVENT
BEGIN:VEVENT
UID:1303@keepkarlsruheboring.org
SUMMARY:24. Gulaschprogrammiernacht
DTSTAMP:20260423T115550Z
DTSTART:20260604T140000Z
DTEND:20260607T140000Z
URL:https://keepkarlsruheboring.org/event/24-gulaschprogrammiernacht
GEO:49.0021;8.38367
LOCATION:Staatliche Hochschule für Gestaltung (HfG) Karlsruhe - 15\, Lorenz
	straße\, Beiertheimer Feld\, Südweststadt\, Karlsruhe\, Baden-Württemberg\
	, 76135\, Deutschland
STATUS:CONFIRMED
CATEGORIES:Art,Music,Registration required,Technology,Veranstaltungen,Works
	hop
END:VEVENT
BEGIN:VEVENT
UID:1045@keepkarlsruheboring.org
SUMMARY:Führung durch die Ausstellung von Anna Barham: delirious mantra
DTSTAMP:20260423T115550Z
DTSTART:20260610T160000Z
DTEND:20260610T170000Z
URL:https://keepkarlsruheboring.org/event/fuhrung-durch-die-ausstellung-von
	-anna-barham-delirious-mantra-3
GEO:49.011;8.3999
LOCATION:Badischer Kunstverein - Waldstraße 3\, 76133 Karlsruhe
STATUS:CONFIRMED
CATEGORIES:Art
END:VEVENT
BEGIN:VEVENT
UID:1504@keepkarlsruheboring.org
SUMMARY:Open Solitude [Open Doors at Akademie Schloss Solitude\, Stuttgart]
DTSTAMP:20260423T115550Z
DTSTART:20260627T120000Z
DTEND:20260627T200000Z
URL:https://keepkarlsruheboring.org/event/open-solitude-open-doors-at-akade
	mie-schloss-solitude-stuttgart-1
GEO:48.7871;9.0834
LOCATION:Akademie Schloss Solitude [Stuttgart] - 3\, Solitude\, Solitude\, 
	Stuttgart\, Baden-Württemberg\, 70197\, Deutschland
STATUS:CONFIRMED
CATEGORIES:Art,Open Doors,Stuttgart
END:VEVENT
BEGIN:VEVENT
UID:610@keepkarlsruheboring.org
SUMMARY:Ausstellungseröffnung CC Hennix: One Dark\, Two Darks
DTSTAMP:20260423T115550Z
DTSTART:20260709T170000Z
DTEND:20260709T200000Z
URL:https://keepkarlsruheboring.org/event/ausstellungseroffnung-cc-hennix-o
	ne-dark-two-darks
GEO:49.011;8.3999
LOCATION:Badischer Kunstverein - Waldstraße 3\, 76133 Karlsruhe
STATUS:CONFIRMED
CATEGORIES:Art,Opening
END:VEVENT
BEGIN:VEVENT
UID:611@keepkarlsruheboring.org
SUMMARY:Ausstellung CC Hennix: One Dark\, Two Darks
DTSTAMP:20260423T115550Z
DTSTART:20260710T090000Z
DTEND:20261115T180000Z
URL:https://keepkarlsruheboring.org/event/ausstellung-cc-hennix-one-dark-tw
	o-darks
GEO:49.011;8.3999
LOCATION:Badischer Kunstverein - Waldstraße 3\, 76133 Karlsruhe
STATUS:CONFIRMED
CATEGORIES:Art
END:VEVENT
END:VCALENDAR
