BEGIN:VCALENDAR
VERSION:2.0
CALSCALE:GREGORIAN
PRODID:adamgibbons/ics
METHOD:PUBLISH
X-PUBLISHED-TTL:PT1H
BEGIN:VEVENT
UID:1513@keepkarlsruheboring.org
SUMMARY:Offenes Plenum des Café Noir
DTSTAMP:20260423T113952Z
DTSTART:20260601T170000Z
DTEND:20260601T183000Z
URL:https://keepkarlsruheboring.org/event/offenes-plenum-des-cafe-noir-6
GEO:48.989;8.37185
LOCATION:Café Noir - 5\, Schauenburgstraße\, Bulach\, Beiertheim-Bulach\, K
	arlsruhe\, Baden-Württemberg\, 76135\, Deutschland
STATUS:CONFIRMED
CATEGORIES:CafeNoir,Plenun
END:VEVENT
END:VCALENDAR
