BEGIN:VCALENDAR
VERSION:2.0
CALSCALE:GREGORIAN
PRODID:adamgibbons/ics
METHOD:PUBLISH
X-PUBLISHED-TTL:PT1H
BEGIN:VEVENT
UID:1534@keepkarlsruheboring.org
SUMMARY:Palantir als Baustein der autoritären Wende
DTSTAMP:20260423T101832Z
DTSTART:20260430T160000Z
DTEND:20260430T190000Z
URL:https://keepkarlsruheboring.org/event/palantir-als-baustein-der-autorit
	aren-wende
GEO:49.0093;8.40887
LOCATION:Triangel - Kaiserstraße 93\, 76133 Karlsruhe
STATUS:CONFIRMED
CATEGORIES:Anti-authoritarianism,Digital,Discussion,Politics,Technology,Vor
	trag
END:VEVENT
BEGIN:VEVENT
UID:1346@keepkarlsruheboring.org
SUMMARY:Film: Flow
DTSTAMP:20260423T101832Z
DTSTART:20260520T180000Z
URL:https://keepkarlsruheboring.org/event/film-flow
GEO:49.0021;8.38367
LOCATION:Blauer Salon - 15\, Lorenzstraße\, Beiertheimer Feld\, Südweststad
	t\, Karlsruhe\, Baden-Württemberg\, 76135\, Deutschland
STATUS:CONFIRMED
CATEGORIES:Atelier Digitale Souveränität,Digital,Film,Technology
END:VEVENT
END:VCALENDAR
