BEGIN:VCALENDAR
VERSION:2.0
CALSCALE:GREGORIAN
PRODID:adamgibbons/ics
METHOD:PUBLISH
X-PUBLISHED-TTL:PT1H
BEGIN:VEVENT
UID:1539@keepkarlsruheboring.org
SUMMARY:Flintaboxen [Flinta only]
DTSTAMP:20260423T085532Z
DTSTART:20260429T163000Z
DTEND:20260429T184500Z
URL:https://keepkarlsruheboring.org/event/flintaboxen-flinta-only-9
GEO:48.989;8.37185
LOCATION:P8 - Schauenburgstraße 5\, 76135 Karlsruhe
STATUS:CONFIRMED
CATEGORIES:Boxen,FLINTA,Safe Space,Sport
END:VEVENT
END:VCALENDAR
