BEGIN:VCALENDAR
VERSION:2.0
CALSCALE:GREGORIAN
PRODID:adamgibbons/ics
METHOD:PUBLISH
X-PUBLISHED-TTL:PT1H
BEGIN:VEVENT
UID:1244@keepkarlsruheboring.org
SUMMARY:Hofflohmarkt Bulach
DTSTAMP:20260423T114736Z
DTSTART:20260426T110000Z
DTEND:20260426T150000Z
URL:https://keepkarlsruheboring.org/event/hofflohmarkt-bulach
LOCATION:Bulach - Bulach
STATUS:CONFIRMED
CATEGORIES:Events,Flohmarkt,Karlsruhe,karlsruhe-social.de,Veranstaltungen
END:VEVENT
BEGIN:VEVENT
UID:1246@keepkarlsruheboring.org
SUMMARY:Oststadt Hinterhofflohmarkt
DTSTAMP:20260423T114736Z
DTSTART:20260509T080000Z
DTEND:20260509T150000Z
URL:https://keepkarlsruheboring.org/event/oststadt-hinterhofflohmarkt
LOCATION:Oststadt - Oststadt
STATUS:CONFIRMED
CATEGORIES:Events,Flohmarkt,Karlsruhe,karlsruhe-social.de,Veranstaltungen
END:VEVENT
BEGIN:VEVENT
UID:1236@keepkarlsruheboring.org
SUMMARY:Flohmarkt Hochschule Karlsruhe
DTSTAMP:20260423T114736Z
DTSTART:20260523T060000Z
DTEND:20260523T140000Z
URL:https://keepkarlsruheboring.org/event/flohmarkt-hochschule-karlsruhe
LOCATION:Waldparkplatz - Willy-Andreas-Allee\, 76131 Karlsruhe
STATUS:CONFIRMED
CATEGORIES:Events,Flohmarkt,Karlsruhe,karlsruhe-social.de,Veranstaltungen
END:VEVENT
BEGIN:VEVENT
UID:1240@keepkarlsruheboring.org
SUMMARY:Großflohmarkt Messplatz
DTSTAMP:20260423T114736Z
DTSTART:20260620T060000Z
DTEND:20260620T130000Z
URL:https://keepkarlsruheboring.org/event/grossflohmarkt-messplatz-1
LOCATION:Messplatz - Durlacher Allee 66\, 76137 Karlsruhe
STATUS:CONFIRMED
CATEGORIES:Events,Flohmarkt,Karlsruhe,karlsruhe-social.de,Veranstaltungen
END:VEVENT
BEGIN:VEVENT
UID:1230@keepkarlsruheboring.org
SUMMARY:Hofflohmarkt Südstadt im alten und im neuen Teil
DTSTAMP:20260423T114736Z
DTSTART:20260628T080000Z
DTEND:20260628T150000Z
URL:https://keepkarlsruheboring.org/event/hofflohmarkt-sudstadt-im-alten-un
	d-im-neuen-teil
GEO:49.0008;8.41083
LOCATION:Südstadt - Südstadt
STATUS:CONFIRMED
CATEGORIES:Flohmarkt,Südstadt
END:VEVENT
BEGIN:VEVENT
UID:1247@keepkarlsruheboring.org
SUMMARY:Südstadt Hinterhofflohmarkt
DTSTAMP:20260423T114736Z
DTSTART:20260628T080000Z
DTEND:20260628T150000Z
URL:https://keepkarlsruheboring.org/event/sudstadt-hinterhofflohmarkt
GEO:49.0008;8.41083
LOCATION:Südstadt - Südstadt
STATUS:CONFIRMED
CATEGORIES:Events,Flohmarkt,Karlsruhe,karlsruhe-social.de,Veranstaltungen
END:VEVENT
BEGIN:VEVENT
UID:1237@keepkarlsruheboring.org
SUMMARY:Flohmarkt Hochschule Karlsruhe
DTSTAMP:20260423T114736Z
DTSTART:20260711T060000Z
DTEND:20260711T140000Z
URL:https://keepkarlsruheboring.org/event/flohmarkt-hochschule-karlsruhe-1
LOCATION:Waldparkplatz - Willy-Andreas-Allee\, 76131 Karlsruhe
STATUS:CONFIRMED
CATEGORIES:Events,Flohmarkt,Karlsruhe,karlsruhe-social.de,Veranstaltungen
END:VEVENT
BEGIN:VEVENT
UID:1241@keepkarlsruheboring.org
SUMMARY:Großflohmarkt Messplatz
DTSTAMP:20260423T114736Z
DTSTART:20260718T060000Z
DTEND:20260718T130000Z
URL:https://keepkarlsruheboring.org/event/grossflohmarkt-messplatz-2
LOCATION:Messplatz - Durlacher Allee 66\, 76137 Karlsruhe
STATUS:CONFIRMED
CATEGORIES:Events,Flohmarkt,Karlsruhe,karlsruhe-social.de,Veranstaltungen
END:VEVENT
BEGIN:VEVENT
UID:1242@keepkarlsruheboring.org
SUMMARY:Großflohmarkt Messplatz
DTSTAMP:20260423T114736Z
DTSTART:20260912T060000Z
DTEND:20260912T130000Z
URL:https://keepkarlsruheboring.org/event/grossflohmarkt-messplatz-3
LOCATION:Messplatz - Durlacher Allee 66\, 76137 Karlsruhe
STATUS:CONFIRMED
CATEGORIES:Events,Flohmarkt,Karlsruhe,karlsruhe-social.de,Veranstaltungen
END:VEVENT
BEGIN:VEVENT
UID:1245@keepkarlsruheboring.org
SUMMARY:Hofflohmarkt Bulach
DTSTAMP:20260423T114736Z
DTSTART:20260927T110000Z
DTEND:20260927T150000Z
URL:https://keepkarlsruheboring.org/event/hofflohmarkt-bulach-1
LOCATION:Bulach - Bulach
STATUS:CONFIRMED
CATEGORIES:Events,Flohmarkt,Karlsruhe,karlsruhe-social.de,Veranstaltungen
END:VEVENT
BEGIN:VEVENT
UID:1238@keepkarlsruheboring.org
SUMMARY:Flohmarkt Hochschule Karlsruhe
DTSTAMP:20260423T114736Z
DTSTART:20261010T060000Z
DTEND:20261010T140000Z
URL:https://keepkarlsruheboring.org/event/flohmarkt-hochschule-karlsruhe-2
LOCATION:Waldparkplatz - Willy-Andreas-Allee\, 76131 Karlsruhe
STATUS:CONFIRMED
CATEGORIES:Events,Flohmarkt,Karlsruhe,karlsruhe-social.de,Veranstaltungen
END:VEVENT
BEGIN:VEVENT
UID:1248@keepkarlsruheboring.org
SUMMARY:Kronentrödel
DTSTAMP:20260423T114736Z
DTSTART:20261011T090000Z
DTEND:20261011T150000Z
URL:https://keepkarlsruheboring.org/event/kronentrodel
LOCATION:Kronenplatz Karlsruhe - Kaiserstraße Karlsruhe
STATUS:CONFIRMED
CATEGORIES:Events,Flohmarkt,Karlsruhe,karlsruhe-social.de,Veranstaltungen
END:VEVENT
END:VCALENDAR
