BEGIN:VCALENDAR
VERSION:2.0
CALSCALE:GREGORIAN
PRODID:adamgibbons/ics
METHOD:PUBLISH
X-PUBLISHED-TTL:PT1H
BEGIN:VEVENT
UID:1392@keepkarlsruheboring.org
SUMMARY:KaLUG (Karlsruhe Linux User Group)
DTSTAMP:20260423T101835Z
DTSTART:20260427T170000Z
DTEND:20260427T210000Z
URL:https://keepkarlsruheboring.org/event/kalug-karlsruhe-linux-user-group-
	4
LOCATION:Kneipe Schwarzer Kater - Kreuzstraße 10\, 76133 Karlsruhe
STATUS:CONFIRMED
CATEGORIES:Linux,Technology
END:VEVENT
END:VCALENDAR
