BEGIN:VCALENDAR
VERSION:2.0
CALSCALE:GREGORIAN
PRODID:adamgibbons/ics
METHOD:PUBLISH
X-PUBLISHED-TTL:PT1H
BEGIN:VEVENT
UID:1497@keepkarlsruheboring.org
SUMMARY:Go out thursday
DTSTAMP:20260423T115324Z
DTSTART:20260423T160000Z
DTEND:20260423T215500Z
URL:https://keepkarlsruheboring.org/event/go-out-thursday
GEO:49.0102;8.42084
LOCATION:phono - Karl-Wilhelm Str 10 karlsruhe
STATUS:CONFIRMED
CATEGORIES:Electronicmusic,Party
END:VEVENT
BEGIN:VEVENT
UID:1386@keepkarlsruheboring.org
SUMMARY:Leerstand ist Stillstand!
DTSTAMP:20260423T115324Z
DTSTART:20260501T130000Z
DTEND:20260503T190000Z
URL:https://keepkarlsruheboring.org/event/leerstand-ist-stillstand
GEO:49.0092;8.37683
LOCATION:Nebenschauplatz - 41\, Goethestraße\, Weststadt Südlicher Teil\, W
	eststadt\, Karlsruhe\, Baden-Württemberg\, 76135\, Deutschland
STATUS:CONFIRMED
CATEGORIES:Concert,Cumbia,Party,Reaggae
END:VEVENT
BEGIN:VEVENT
UID:1422@keepkarlsruheboring.org
SUMMARY:Café Commune - Coffee. Cake. Communism
DTSTAMP:20260423T115324Z
DTSTART:20260501T170000Z
URL:https://keepkarlsruheboring.org/event/cafe-commune-coffee-cake-communis
	m-13
GEO:49.0066;8.40738
LOCATION:Rote Stern - 23\, Steinstraße\, Innenstadt-Ost Südwestlicher Teil\
	, Innenstadt-Ost\, Karlsruhe\, Baden-Württemberg\, 76133\, Deutschland
STATUS:CONFIRMED
CATEGORIES:Interventionist Left Karlsruhe,Karaoke,Party,Politics
END:VEVENT
END:VCALENDAR
