BEGIN:VCALENDAR
VERSION:2.0
CALSCALE:GREGORIAN
PRODID:adamgibbons/ics
METHOD:PUBLISH
X-PUBLISHED-TTL:PT1H
BEGIN:VEVENT
UID:1387@keepkarlsruheboring.org
SUMMARY:Ausgeschlachtet
DTSTAMP:20260423T132242Z
DTSTART:20260510T090000Z
DTEND:20260510T160000Z
URL:https://keepkarlsruheboring.org/event/ausgeschlachtet
GEO:49.0058;8.42966
LOCATION:Alter Schlachthof - Oststadt\, Karlsruhe\, Baden-Württemberg\, 761
	31\, Deutschland
STATUS:CONFIRMED
CATEGORIES:Festival,Open Doors,Schlachthof
END:VEVENT
END:VCALENDAR
