BEGIN:VCALENDAR
VERSION:2.0
CALSCALE:GREGORIAN
PRODID:adamgibbons/ics
METHOD:PUBLISH
X-PUBLISHED-TTL:PT1H
BEGIN:VEVENT
UID:1356@keepkarlsruheboring.org
SUMMARY:Kazkon
DTSTAMP:20260423T113558Z
DTSTART:20260919T120000Z
DTEND:20260919T170000Z
URL:https://keepkarlsruheboring.org/event/kazkon-1
GEO:49.0086;8.40919
LOCATION:Kronenplatz - Innenstadt-Ost\, Karlsruhe\, Baden-Württemberg\, 761
	33\, Deutschland
STATUS:CONFIRMED
CATEGORIES:Comic,Cosplay,Kids,Literatur,Manga,Science-Fiction
END:VEVENT
END:VCALENDAR
