BEGIN:VCALENDAR
VERSION:2.0
CALSCALE:GREGORIAN
PRODID:adamgibbons/ics
METHOD:PUBLISH
X-PUBLISHED-TTL:PT1H
BEGIN:VEVENT
UID:709@keepkarlsruheboring.org
SUMMARY:Lesung - Peter Wohlleben: "Bakterien - die heimlichen Helden"
DTSTAMP:20260423T120416Z
DTSTART:20260522T180000Z
URL:https://keepkarlsruheboring.org/event/lesung-peter-wohlleben-bakterien-
	die-heimlichen-helden
GEO:49.0044;8.43171
LOCATION:Tollhaus - 35\, Alter Schlachthof\, Oststadt Südlicher Teil\, Osts
	tadt\, Karlsruhe\, Baden-Württemberg\, 76131\, Deutschland
STATUS:CONFIRMED
CATEGORIES:Lesung,Tollhaus
END:VEVENT
END:VCALENDAR
