BEGIN:VCALENDAR
VERSION:2.0
CALSCALE:GREGORIAN
PRODID:adamgibbons/ics
METHOD:PUBLISH
X-PUBLISHED-TTL:PT1H
BEGIN:VEVENT
UID:996@keepkarlsruheboring.org
SUMMARY:Floorwork Intensive: 10-Wochen-Kurs ab 23. April
DTSTAMP:20260423T115258Z
DTSTART:20260423T171500Z
DTEND:20260423T181500Z
URL:https://keepkarlsruheboring.org/event/floorwork-intensive-10-wochen-kur
	s-ab-23-april-1
GEO:49.0094;8.39322
LOCATION:Tanzando - Douglasstr. 24/26\, 76133 Karlsruhe
STATUS:CONFIRMED
CATEGORIES:Contemporarydance,Dance,Floorwork,Kurs,Kursblock,Modern,Registra
	tion required,TanzenInKarlsruhe,Training
END:VEVENT
BEGIN:VEVENT
UID:1528@keepkarlsruheboring.org
SUMMARY:Modern/Contemporary für Mittelstufe & Fortgeschrittene ab 14. April
DTSTAMP:20260423T115258Z
DTSTART:20260428T180000Z
DTEND:20260428T193000Z
URL:https://keepkarlsruheboring.org/event/moderncontemporary-fur-mittelstuf
	e-and-fortgeschrittene-ab-14-april-2
GEO:48.9951;8.34452
LOCATION:Tanzloft - 159\, Durmersheimer Straße\, Alte Heidenstückersiedlung
	\, Grünwinkel\, Karlsruhe\, Baden-Württemberg\, 76189\, Deutschland
STATUS:CONFIRMED
CATEGORIES:Contemporarydance,Dance,Erwachsene,Kurs,Modern,Registration requ
	ired,TanzenInKarlsruhe,Training
END:VEVENT
BEGIN:VEVENT
UID:1538@keepkarlsruheboring.org
SUMMARY:Jazz Erwachsene: Frühlingskurs für Mittelstufe ab 25. März
DTSTAMP:20260423T115258Z
DTSTART:20260429T163000Z
DTEND:20260429T173000Z
URL:https://keepkarlsruheboring.org/event/jazz-erwachsene-fruhlingskurs-fur
	-mittelstufe-ab-25-marz-6
GEO:49.0094;8.39322
LOCATION:Tanzando - Douglasstr. 24/26\, 76133 Karlsruhe
STATUS:CONFIRMED
CATEGORIES:Contemporarydance,Dance,Jazzdance,Kurs,Kursblock,TanzenInKarlsru
	he,Training
END:VEVENT
BEGIN:VEVENT
UID:1511@keepkarlsruheboring.org
SUMMARY:Modern Basic 9-Wochen-Kurs für Einsteiger & Anfänger ab 12. März
DTSTAMP:20260423T115258Z
DTSTART:20260430T150000Z
DTEND:20260430T160000Z
URL:https://keepkarlsruheboring.org/event/modern-basic-9-wochen-kurs-fur-ei
	nsteiger-and-anfanger-ab-12-marz-8
GEO:49.0094;8.39322
LOCATION:Tanzando - Douglasstr. 24/26\, 76133 Karlsruhe
STATUS:CONFIRMED
CATEGORIES:Contemporarydance,Dance,Kursblock,Modern,ModernDance,Registratio
	n required,TanzenInKarlsruhe,Training
END:VEVENT
END:VCALENDAR
